BEGIN:VCALENDAR
VERSION:2.0
PRODID:-//Tropical North Queensland Drought Resilience Adoption and Innovation Hub - ECPv6.15.16//NONSGML v1.0//EN
CALSCALE:GREGORIAN
METHOD:PUBLISH
X-ORIGINAL-URL:https://www.tnqdroughthub.com.au
X-WR-CALDESC:Events for Tropical North Queensland Drought Resilience Adoption and Innovation Hub
REFRESH-INTERVAL;VALUE=DURATION:PT1H
X-Robots-Tag:noindex
X-PUBLISHED-TTL:PT1H
BEGIN:VTIMEZONE
TZID:Australia/Brisbane
BEGIN:STANDARD
TZOFFSETFROM:+1000
TZOFFSETTO:+1000
TZNAME:AEST
DTSTART:20230101T000000
END:STANDARD
END:VTIMEZONE
BEGIN:VEVENT
DTSTART;TZID=Australia/Brisbane:20241003T100000
DTEND;TZID=Australia/Brisbane:20241004T153000
DTSTAMP:20260422T201707
CREATED:20241001T051155Z
LAST-MODIFIED:20241001T051811Z
UID:10894-1727949600-1728055800@www.tnqdroughthub.com.au
SUMMARY:Embracing Agriculture Digital Innovation Workshops: Mareeba
DESCRIPTION:Unlock the potential of digital and precision technologies in agriculture by attending our workshop\, conveniently located near you. \n\n\n\n\nEnhance your knowledge and skills and increase your understanding of the benefits of these technologies. \nWorkshop highlights\n\nExpert guidance: Led by Sonya Comiskey\, a renowned leader in agricultural innovation.\nConvenient locations: Choose a venue that suits you best.\nShorter days: Designed with shorter sessions to accommodate your work commitments.\nAdditional guided access to our results from the AgValuate Tool\, a farm specific\, innovation readiness assessment tool that will help you to understand how technology can impact your farm.\n\nThe two-day workshop will cover the following topics \n\nTechnology today\nUsing data in agriculture\nTechnology tomorrow\n\nThe workshops will include \n\nCurrent digital opportunities and farm management technology\nCyber-security and how to identify common cyber-threats using interactive videos and case studies\nDifferent types of connectivity\, including their advantages and disadvantages\nInternet of Things (IoT) systems and devices\, including sensors and their functions\nThe use of drones\, their capabilities\, benefits and limitations on farms\, plus relevant legislative requirements\nGlobal positioning technology including GNSS\, GPS\, and GIS\nMethods of precision farming and control using satellite navigation and other technologies\nHow to manage data effectively and securely\nAutomation and technologies used to improve supply chain processes\nTechnologies and innovations that are transforming the agricultural industry.\n\nSpecifically\, it will include how to access support\, additional courses and training\, and examines some case studies relevant to the region. \n\n\n\n\n\n\n\n\nWorkshop dates and locations\nMareeba\nDate: 3rd -4th October 2024\nTime: 10.00am – 3.30pm\nLocation:  Mareeba Leagues Club\nAddress: Doyle Street\, Mareeba\, Queensland\, 4880 \nEmerald\nDate: 22nd -23rd October 2024\nTime: 10.00am – 3.30pm\nLocation:  Emerald\, Queensland\nAddress: To be advised \nLongreach\nDate: 29th -30th October 2024\nTime: 10.00am – 3.30pm\nLocation:  Longreach Station\nAddress: 10311 Landsborough Highway\, Longreach\, Queensland\, 4730 \nCaboolture\nDate: 6th -7th November 2024\nTime: 10.00am – 3.30pm\nLocation:  TAFE Queensland Caboolture Campus\nAddress: Tallon Street\, Caboolture\, Queensland\, 4510 \nKalbar\nDate: 12th -13th November 2024\nTime: 10.00am – 3.30pm\nLocation:  The Bowl Boonah\nAddress: 42 Coronation Drive\, Boonah\, Queensland\, 4310 \nToowoomba\nDate: 14th –15th  November 2024\nTime: 10.00am – 3.30pm\nLocation:  Agtech and Logistics Hub\nAddress: 275 McDougall Street\, Toowoomba\, Queensland\, 4350 \nBowen\nDate: 26th -27th November 2024\nTime: 10.00am – 3.30pm\nLocation: TAFE Queensland Bowen Campus\nAddress: 98-158 Queens Road\, Bowen\, Queensland\, 4805 \nFull details are available on the registration form. \n Contact \nFor any enquiries\, contact the Project Team at TQCommercial@tafeqld.edu.au. \n\n\n\n\n 
URL:https://www.tnqdroughthub.com.au/event/embracing-agriculture-digital-innovation-workshops/
LOCATION:Mareeba\, Mareeba
END:VEVENT
BEGIN:VEVENT
DTSTART;TZID=Australia/Brisbane:20241009T083000
DTEND;TZID=Australia/Brisbane:20241010T163000
DTSTAMP:20260422T201707
CREATED:20240628T020449Z
LAST-MODIFIED:20240628T020457Z
UID:9760-1728462600-1728577800@www.tnqdroughthub.com.au
SUMMARY:Changemaker Workshop - Longreach
DESCRIPTION:Become a changemaker: \n\nAssess your region’s readiness for change.\nExplore how change happens and how to overcome resistance.\nLearn what it takes to be a positive change agent\, have the drive to build new things\, how to manage setbacks and work creatively and purposefully with others.\n\nStart community conversations: \n\nUnderstand the local ecosystem; undertake purposeful and inclusive engagement; create robust and authentic conversations.\nLearn how to have those conversations\, suspend judgement and assumptions\, and build trust and transparency for connection and diverse relationships.\n\nCare for your community: \n\nUnpack what forms and shapes a community.\nLearn how a community can be more inclusive.\nConsidering the impacts of drought\, trauma and other events\, get tools to better support others and balance giving and taking within a community.\n\nShape your community’s future: \n\nExplore ideas to shape the future you would like to see for your community.\nUnderstand the importance of language and the power of storytelling in motivating and mobilising others.\nLearn what makes a good story and how to connect with the hearts and minds of others.\n\nThis is a face-to-face session\, for two full days. Catering and participant resources provided. Before you register\, we ask that you make sure you can commit to attending\, as we have extensive waitlists for most workshops. If you do register and can’t attend\, wherever possible\, please contact us two weeks before the workshop date so we can reallocate your spot to another person from your community. Our ability to fully serve your region relies on this effective communication. \nIf you are registering for multiple participants\, please include individual email addresses against each registration which we need for surveys. \nThis workshop is free thanks to the Australian Government’s Future Drought Fund. It is delivered by the Australian Rural Leadership Foundation and part of the Helping Regional Communities Prepare for Drought Initiative. For more information visit rural-leaders.org.au. \nRegistrations close 7 days ahead of workshop. \nFor any technical assistance please contact Gemma Rostron at gemmar@rural-leaders.org.au or 0421 031 418.
URL:https://www.tnqdroughthub.com.au/event/9760/
LOCATION:Longreach\, Longreach\, QLD\, 4730\, Australia
END:VEVENT
BEGIN:VEVENT
DTSTART;TZID=Australia/Brisbane:20241011T083000
DTEND;TZID=Australia/Brisbane:20241011T130000
DTSTAMP:20260422T201707
CREATED:20241001T020927Z
LAST-MODIFIED:20241001T020927Z
UID:10867-1728635400-1728651600@www.tnqdroughthub.com.au
SUMMARY:Plant or Soil Health... What Comes First\, The Chicken or the Egg?
DESCRIPTION:Hosted at the beautiful Skybury coffee and papaya farm\, join us for a hands-on morning of demonstrations\, speakers and activities that will get us to ‘Dig in and unearth the potential of your soil’ and discuss sustainable farming practices. \nOn the day we will hear from a variety of experts and get out in the field!\nWhat you can expect: \n\nSoil health equipment demonstration – Dhiraj Gajera (TNQ Drought Hub)\n‘Humisoil’ piles demonstration – Jess Uhlig (Green Food Australia)\nLemon Myrtle case study of organic and sustainable farming practices – Brad Moulton (Australian Native Products)\nSupporting landholders through practical projects – Tahna Jackson (NT Farmers)\nPrepare for tomorrow: Assess\, plan\, and grow your business – Lara Wilde (Growcom’s Farm Business Resilience Program; Agrifood Catalyst)\nWhat comes first chicken or egg? Plant health versus soil health – Simon Jackson (Stockade Farms)\nStockade farm walk and prototype spreader ‘Humisoil’ Demonstration\nGreenpro 6-in-1 Seeder demonstration – Gulf Savannah NRM\n\n  \nImportant\n\nPlease wear sunscreen\, covered-in shoes and bring a hat. Water will be provided.\n\nThe Farm Business Resilience Program is jointly funded through the Australian Government’s Future Drought Fund and the Queensland Government’s Drought and Climate Adaptation Program. 
URL:https://www.tnqdroughthub.com.au/event/plant-or-soil-health-what-comes-first-the-chicken-or-the-egg/
LOCATION:Mareeba\, Mareeba
END:VEVENT
BEGIN:VEVENT
DTSTART;TZID=Australia/Brisbane:20241017T083000
DTEND;TZID=Australia/Brisbane:20241018T163000
DTSTAMP:20260422T201707
CREATED:20240628T020100Z
LAST-MODIFIED:20240628T020100Z
UID:9753-1729153800-1729269000@www.tnqdroughthub.com.au
SUMMARY:Changemaker Workshop - Emerald
DESCRIPTION:Become a changemaker: \n\nAssess your region’s readiness for change.\nExplore how change happens and how to overcome resistance.\nLearn what it takes to be a positive change agent\, have the drive to build new things\, how to manage setbacks and work creatively and purposefully with others.\n\nStart community conversations: \n\nUnderstand the local ecosystem; undertake purposeful and inclusive engagement; create robust and authentic conversations.\nLearn how to have those conversations\, suspend judgement and assumptions\, and build trust and transparency for connection and diverse relationships.\n\nCare for your community: \n\nUnpack what forms and shapes a community.\nLearn how a community can be more inclusive.\nConsidering the impacts of drought\, trauma and other events\, get tools to better support others and balance giving and taking within a community.\n\nShape your community’s future: \n\nExplore ideas to shape the future you would like to see for your community.\nUnderstand the importance of language and the power of storytelling in motivating and mobilising others.\nLearn what makes a good story and how to connect with the hearts and minds of others.\n\nThis is a face-to-face session\, for two full days. Catering and participant resources provided. Before you register\, we ask that you make sure you can commit to attending\, as we have extensive waitlists for most workshops. If you do register and can’t attend\, wherever possible\, please contact us two weeks before the workshop date so we can reallocate your spot to another person from your community. Our ability to fully serve your region relies on this effective communication. \nIf you are registering for multiple participants\, please include individual email addresses against each registration which we need for surveys. \nThis workshop is free thanks to the Australian Government’s Future Drought Fund. It is delivered by the Australian Rural Leadership Foundation and part of the Helping Regional Communities Prepare for Drought Initiative. For more information visit rural-leaders.org.au. \nRegistrations close 7 days ahead of workshop. \nFor any technical assistance please contact Gemma Rostron at gemmar@rural-leaders.org.au or 0421 031 418.
URL:https://www.tnqdroughthub.com.au/event/changemaker-workshop-emerald/
LOCATION:Emerald\, Emerald\, Queensland\, 4720\, Australia
END:VEVENT
BEGIN:VEVENT
DTSTART;TZID=Australia/Brisbane:20241018T080000
DTEND;TZID=Australia/Brisbane:20241018T170000
DTSTAMP:20260422T201707
CREATED:20241001T050548Z
LAST-MODIFIED:20241001T050548Z
UID:10892-1729238400-1729270800@www.tnqdroughthub.com.au
SUMMARY:Bus Tour to Bonnie Doone\, Monto CQ
DESCRIPTION:
URL:https://www.tnqdroughthub.com.au/event/bus-tour-to-bonnie-doone-monto-cq/
LOCATION:Queensland
END:VEVENT
BEGIN:VEVENT
DTSTART;TZID=Australia/Brisbane:20241022T090000
DTEND;TZID=Australia/Brisbane:20241022T163000
DTSTAMP:20260422T201707
CREATED:20240814T010726Z
LAST-MODIFIED:20240814T221440Z
UID:10514-1729587600-1729614600@www.tnqdroughthub.com.au
SUMMARY:Property Management: Understanding Financial Systems\, Cloncurry
DESCRIPTION:DO YOU KNOW HOW TO MAKE SUCCESSFUL FINANCIAL MANAGEMENT DECISIONS IN YOUR GRAZING BUSINESS? \nThis FREE comprehensive workshop is designed for both seasoned graziers and newcomers to the industry who want to optimize the financial systems in your grazing business. \nWhen: 22 October\, 9:00am – 4:30pm \nWhere: Cloncurry Community Precinct\, 37 Scarr Street Cloncurry \nLEARN ABOUT \n\nThe difference between management and compliance accounts\nWhat makes a beef business ‘sustainable’\nWhat drives profit in a northern beef business performance\nUnderstanding regional industry performance\nWhat separates the ‘average’ and top 25% producers\nThe importance of herd records and what the information can tell you about herd and overall business performance\n\nThe workshop will be facilitated by Simone Parker\, Senior Agribusiness Consultant from Bush AgriBusiness who specialises in developing and implementing strategy and business improvement. \nRSVP: Clarissa Felderhof by 17 October 2024\nM: 0475 675 876\nE: clarissa.felderhof@southerngulf.com.au \nLIMITED PLACES SO DON’T HESITATE IN BOOKING \nThis workshop is delivered by Bush AgriBusiness and supported by the TNQ Drought Hub and Southern Gulf NRM. \n \n 
URL:https://www.tnqdroughthub.com.au/event/property-management-cloncurry/
LOCATION:Cloncurry\, Cloncurry\, Queensland\, 4824\, Australia
ORGANIZER;CN="TNQ Drought Hub":MAILTO:rachel.hay@jcu.edu.au
END:VEVENT
BEGIN:VEVENT
DTSTART;TZID=Australia/Brisbane:20241022T100000
DTEND;TZID=Australia/Brisbane:20241023T153000
DTSTAMP:20260422T201707
CREATED:20241001T051905Z
LAST-MODIFIED:20241001T051905Z
UID:10900-1729591200-1729697400@www.tnqdroughthub.com.au
SUMMARY:Embracing Agriculture Digital Innovation Workshops: Emerald
DESCRIPTION:Unlock the potential of digital and precision technologies in agriculture by attending our workshop\, conveniently located near you. \n\n\n\n\nEnhance your knowledge and skills and increase your understanding of the benefits of these technologies. \nWorkshop highlights\n\nExpert guidance: Led by Sonya Comiskey\, a renowned leader in agricultural innovation.\nConvenient locations: Choose a venue that suits you best.\nShorter days: Designed with shorter sessions to accommodate your work commitments.\nAdditional guided access to our results from the AgValuate Tool\, a farm specific\, innovation readiness assessment tool that will help you to understand how technology can impact your farm.\n\nThe two-day workshop will cover the following topics \n\nTechnology today\nUsing data in agriculture\nTechnology tomorrow\n\nThe workshops will include \n\nCurrent digital opportunities and farm management technology\nCyber-security and how to identify common cyber-threats using interactive videos and case studies\nDifferent types of connectivity\, including their advantages and disadvantages\nInternet of Things (IoT) systems and devices\, including sensors and their functions\nThe use of drones\, their capabilities\, benefits and limitations on farms\, plus relevant legislative requirements\nGlobal positioning technology including GNSS\, GPS\, and GIS\nMethods of precision farming and control using satellite navigation and other technologies\nHow to manage data effectively and securely\nAutomation and technologies used to improve supply chain processes\nTechnologies and innovations that are transforming the agricultural industry.\n\nSpecifically\, it will include how to access support\, additional courses and training\, and examines some case studies relevant to the region. \n\n\n\n\n\n\n\n\nWorkshop dates and locations\nMareeba\nDate: 3rd -4th October 2024\nTime: 10.00am – 3.30pm\nLocation:  Mareeba Leagues Club\nAddress: Doyle Street\, Mareeba\, Queensland\, 4880 \nEmerald\nDate: 22nd -23rd October 2024\nTime: 10.00am – 3.30pm\nLocation:  Emerald\, Queensland\nAddress: To be advised \nLongreach\nDate: 29th -30th October 2024\nTime: 10.00am – 3.30pm\nLocation:  Longreach Station\nAddress: 10311 Landsborough Highway\, Longreach\, Queensland\, 4730 \nCaboolture\nDate: 6th -7th November 2024\nTime: 10.00am – 3.30pm\nLocation:  TAFE Queensland Caboolture Campus\nAddress: Tallon Street\, Caboolture\, Queensland\, 4510 \nKalbar\nDate: 12th -13th November 2024\nTime: 10.00am – 3.30pm\nLocation:  The Bowl Boonah\nAddress: 42 Coronation Drive\, Boonah\, Queensland\, 4310 \nToowoomba\nDate: 14th –15th  November 2024\nTime: 10.00am – 3.30pm\nLocation:  Agtech and Logistics Hub\nAddress: 275 McDougall Street\, Toowoomba\, Queensland\, 4350 \nBowen\nDate: 26th -27th November 2024\nTime: 10.00am – 3.30pm\nLocation: TAFE Queensland Bowen Campus\nAddress: 98-158 Queens Road\, Bowen\, Queensland\, 4805 \nFull details are available on the registration form. \n Contact \nFor any enquiries\, contact the Project Team at TQCommercial@tafeqld.edu.au. \n\n\n\n\n 
URL:https://www.tnqdroughthub.com.au/event/embracing-agriculture-digital-innovation-workshops-emerald/
LOCATION:Emerald\, Emerald\, Queensland\, 4720\, Australia
END:VEVENT
BEGIN:VEVENT
DTSTART;TZID=Australia/Brisbane:20241024T090000
DTEND;TZID=Australia/Brisbane:20241024T160000
DTSTAMP:20260422T201707
CREATED:20241001T045847Z
LAST-MODIFIED:20241001T045847Z
UID:10889-1729760400-1729785600@www.tnqdroughthub.com.au
SUMMARY:Spyglass Research Facility Field Day
DESCRIPTION:Join QDAF for an open day at SPYGLASS to hear updates on current research projects.\nVirtually Fence Free Project \nThis new 4 year experiment is investigating if virtual fencing technology\n– can enable the productive use of previously ungrazed pastures\n– allow rest on preferred pastures and areas\n– maximise pasture production and drought resilience. \nProject Partners: NQ Dry Tropics & QDAF \nGully Remediation Project \nExplore a variety of gully remediation treatments\, from large to small trials on challenging Upper Burdekin soils. With the earthworks now complete\, this is your chance to see different approaches in action and learn how they may improve soil health and erosion control. \nProject Partners: QDAF & DESI \nQld Pasture Resilience Project\, Legume Demonstration Site \nThe 80ha site was planted in 2021 with separate paddocks of Leucaena\, Desmanthus\, Stylo and Grass\, and has been grazed for two years. Come and see which pastures are performing the best and what is providing the highest cattle weight gains. \nProject Partners: MLA & QDAF \nThis event is jointly funded by the Australian Government through the Future Drought Fund and MLA Donor Company\, NQ Dry Tropics\, Meat and Livestock Australia and the\nQueensland Government’\, including through the Reef Water Quality Program. \nAddress: Continong Outstation\, 15km up the New Moon Road via Hervey Range Road \nNumbers are limited: register now to get your place \nRegistration essential by Monday\, 21 October 2024 \nMorning tea and Lunch provided \nPhone: DAF on 07 4787 5313\, Email: yvonne.stanley@daf.qld.gov.au
URL:https://www.tnqdroughthub.com.au/event/spyglass-research-facility-field-day/
LOCATION:Spyglass Beef Research Station\, 46035 Gregory Development Road\, Queensland\, 4820\, Australia
ORGANIZER;CN="Queensland Department of Agriculture & Fisheries":MAILTO:info@daf.qld.gov.au
END:VEVENT
BEGIN:VEVENT
DTSTART;TZID=Australia/Brisbane:20241029T083000
DTEND;TZID=Australia/Brisbane:20241030T153000
DTSTAMP:20260422T201707
CREATED:20241001T021258Z
LAST-MODIFIED:20241001T021258Z
UID:10870-1730190600-1730302200@www.tnqdroughthub.com.au
SUMMARY:Soil Erosion Control Workshops
DESCRIPTION:Learn how to protect your soil with guest presenter Darryl Hill \nKey learnings will include: \n• How to identify soil types\, limitations and risks to soil integrity \n• How to avoid and mitigate erosion on fence lines and access tracks \n• How to limit soil and silt loss during extreme weather events \n• How to treat flood-related washouts and erosion to restore agricultural productivity \n• How to manage and recover flood damaged grazing land \n  \nWHERE & WHEN: \nMorella Station\, Burke 29 October\, 8.30am – 3.30pm \nVilladale Station\, Richmond31 October\, 8.30am – 3.30pm \nMorning tea and lunch provided. \nGuest speaker Darryl Hill is highly regarded around Australia for his practical approach and expertise using graders and other machinery to achieve soil conservation outcomes. With over 40years study and on-ground experience\, Darryl’s teachings are aimed at achieving safe\, effective and low-maintenance construction. \nRSVP REQUIRED BY 14 October: Clarissa Felderhof\, Sustainable Agriculture Facilitator\, Phone: 0475 675 876 Email: clarissa.felderhof@southerngulf.com.au
URL:https://www.tnqdroughthub.com.au/event/soil-erosion-control-workshops/
LOCATION:Queensland
ORGANIZER;CN="Southern Gulf NRM":MAILTO:admin@southerngulf.com.au
END:VEVENT
BEGIN:VEVENT
DTSTART;TZID=Australia/Brisbane:20241029T100000
DTEND;TZID=Australia/Brisbane:20241030T153000
DTSTAMP:20260422T201707
CREATED:20241001T052052Z
LAST-MODIFIED:20241001T052052Z
UID:10902-1730196000-1730302200@www.tnqdroughthub.com.au
SUMMARY:Embracing Agriculture Digital Innovation Workshops: Longreach
DESCRIPTION:Unlock the potential of digital and precision technologies in agriculture by attending our workshop\, conveniently located near you. \n\n\n\n\nEnhance your knowledge and skills and increase your understanding of the benefits of these technologies. \nWorkshop highlights\n\nExpert guidance: Led by Sonya Comiskey\, a renowned leader in agricultural innovation.\nConvenient locations: Choose a venue that suits you best.\nShorter days: Designed with shorter sessions to accommodate your work commitments.\nAdditional guided access to our results from the AgValuate Tool\, a farm specific\, innovation readiness assessment tool that will help you to understand how technology can impact your farm.\n\nThe two-day workshop will cover the following topics \n\nTechnology today\nUsing data in agriculture\nTechnology tomorrow\n\nThe workshops will include \n\nCurrent digital opportunities and farm management technology\nCyber-security and how to identify common cyber-threats using interactive videos and case studies\nDifferent types of connectivity\, including their advantages and disadvantages\nInternet of Things (IoT) systems and devices\, including sensors and their functions\nThe use of drones\, their capabilities\, benefits and limitations on farms\, plus relevant legislative requirements\nGlobal positioning technology including GNSS\, GPS\, and GIS\nMethods of precision farming and control using satellite navigation and other technologies\nHow to manage data effectively and securely\nAutomation and technologies used to improve supply chain processes\nTechnologies and innovations that are transforming the agricultural industry.\n\nSpecifically\, it will include how to access support\, additional courses and training\, and examines some case studies relevant to the region. \n\n\n\n\n\n\n\n\nWorkshop dates and locations\nMareeba\nDate: 3rd -4th October 2024\nTime: 10.00am – 3.30pm\nLocation:  Mareeba Leagues Club\nAddress: Doyle Street\, Mareeba\, Queensland\, 4880 \nEmerald\nDate: 22nd -23rd October 2024\nTime: 10.00am – 3.30pm\nLocation:  Emerald\, Queensland\nAddress: To be advised \nLongreach\nDate: 29th -30th October 2024\nTime: 10.00am – 3.30pm\nLocation:  Longreach Station\nAddress: 10311 Landsborough Highway\, Longreach\, Queensland\, 4730 \nCaboolture\nDate: 6th -7th November 2024\nTime: 10.00am – 3.30pm\nLocation:  TAFE Queensland Caboolture Campus\nAddress: Tallon Street\, Caboolture\, Queensland\, 4510 \nKalbar\nDate: 12th -13th November 2024\nTime: 10.00am – 3.30pm\nLocation:  The Bowl Boonah\nAddress: 42 Coronation Drive\, Boonah\, Queensland\, 4310 \nToowoomba\nDate: 14th –15th  November 2024\nTime: 10.00am – 3.30pm\nLocation:  Agtech and Logistics Hub\nAddress: 275 McDougall Street\, Toowoomba\, Queensland\, 4350 \nBowen\nDate: 26th -27th November 2024\nTime: 10.00am – 3.30pm\nLocation: TAFE Queensland Bowen Campus\nAddress: 98-158 Queens Road\, Bowen\, Queensland\, 4805 \nFull details are available on the registration form. \n Contact \nFor any enquiries\, contact the Project Team at TQCommercial@tafeqld.edu.au. \n\n\n\n\n 
URL:https://www.tnqdroughthub.com.au/event/embracing-agriculture-digital-innovation-workshops-longreach/
LOCATION:Longreach\, Longreach\, QLD\, 4730\, Australia
END:VEVENT
BEGIN:VEVENT
DTSTART;TZID=Australia/Brisbane:20241030T083000
DTEND;TZID=Australia/Brisbane:20241031T163000
DTSTAMP:20260422T201707
CREATED:20241001T043829Z
LAST-MODIFIED:20241001T044011Z
UID:10882-1730277000-1730392200@www.tnqdroughthub.com.au
SUMMARY:Changemaker Workshop - Hope Vale
DESCRIPTION:Become a changemaker: \n\nAssess your region’s readiness for change.\nExplore how change happens and how to overcome resistance.\nLearn what it takes to be a positive change agent\, have the drive to build new things\, how to manage setbacks and work creatively and purposefully with others.\n\nStart community conversations: \n\nUnderstand the local ecosystem; undertake purposeful and inclusive engagement; create robust and authentic conversations.\nLearn how to have those conversations\, suspend judgement and assumptions\, and build trust and transparency for connection and diverse relationships.\n\nCare for your community: \n\nUnpack what forms and shapes a community.\nLearn how a community can be more inclusive.\nConsidering the impacts of drought\, trauma and other events\, get tools to better support others and balance giving and taking within a community.\n\nShape your community’s future: \n\nExplore ideas to shape the future you would like to see for your community.\nUnderstand the importance of language and the power of storytelling in motivating and mobilising others.\nLearn what makes a good story and how to connect with the hearts and minds of others.\n\nThis is a face-to-face session\, for two full days. Catering and participant resources provided. Before you register\, we ask that you make sure you can commit to attending\, as we have extensive waitlists for most workshops. If you do register and can’t attend\, wherever possible\, please contact us two weeks before the workshop date so we can reallocate your spot to another person from your community. Our ability to fully serve your region relies on this effective communication. \nIf you are registering for multiple participants\, please include individual email addresses against each registration which we need for surveys. \nThis workshop is free thanks to the Australian Government’s Future Drought Fund. It is delivered by the Australian Rural Leadership Foundation and part of the Helping Regional Communities Prepare for Drought Initiative. For more information visit rural-leaders.org.au. \nRegistrations close 7 days ahead of workshop. \nFor any technical assistance please contact Gemma Rostron at gemmar@rural-leaders.org.au or 0421 031 418.
URL:https://www.tnqdroughthub.com.au/event/changemaker-workshop-hope-vale/
LOCATION:Hope Vale\, Hope Vale\, Queensland\, 4895
END:VEVENT
BEGIN:VEVENT
DTSTART;VALUE=DATE:20241031
DTEND;VALUE=DATE:20241102
DTSTAMP:20260422T201707
CREATED:20241031T024348Z
LAST-MODIFIED:20241031T024348Z
UID:11129-1730332800-1730505599@www.tnqdroughthub.com.au
SUMMARY:GrownInNQ Innovation Expo 2024
DESCRIPTION:Welcome to the GrownIn NQ 2024 Agriculture Innovation Summit\, a premier event celebrating the cutting-edge advancements shaping the future of agriculture. \nBowen Gumlu Growers Association in partnership with the Department of Agriculture\, Fisheries and Forestry are proud to host this event in Bowen\, the Whitsundays region\, renowned not only for its stunning natural beauty but also for its thriving agricultural landscape. \nBowen Gumlu Growers Association (BGGA) is a regional industry body that represents the interests of our members\, horticultural growers\, producers and associated agribusinesses in North Queensland. BGGA’s key activities include member services\, advocacy\, workforce and industry development and the delivery of projects focused on improving on-farm practices\, commercial outcomes for farming businesses and the prosperity of our community. \nAcross this two day event\, producers and agribusiness are invited to attend North Queensland’s largest innovation showcase\, including an industry breakfast\, ag tech farm tour and innovation expo including demonstrations and informative presentations from industry experts from across Australia\, all aimed at helping growers integrate new technologies and systems to boost efficiency\, sustainability and profitability. \nYou will have the opportunity to explore the latest innovations in agribusiness from precision farming to smart irrigation systems. \nGrown In NQ 2024 is supported by funding from the Australian Government Department of Agriculture\, Fisheries and Forestry as part of its Support Regional Trade Events Program.
URL:https://www.tnqdroughthub.com.au/event/growninnq-innovation-expo-2024/
LOCATION:Bowen\, Bowen\, Queensland\, 4805\, Australia
END:VEVENT
END:VCALENDAR