BEGIN:VCALENDAR
VERSION:2.0
PRODID:-//Tropical North Queensland Drought Resilience Adoption and Innovation Hub - ECPv6.15.16//NONSGML v1.0//EN
CALSCALE:GREGORIAN
METHOD:PUBLISH
X-WR-CALNAME:Tropical North Queensland Drought Resilience Adoption and Innovation Hub
X-ORIGINAL-URL:https://www.tnqdroughthub.com.au
X-WR-CALDESC:Events for Tropical North Queensland Drought Resilience Adoption and Innovation Hub
REFRESH-INTERVAL;VALUE=DURATION:PT1H
X-Robots-Tag:noindex
X-PUBLISHED-TTL:PT1H
BEGIN:VTIMEZONE
TZID:Australia/Brisbane
BEGIN:STANDARD
TZOFFSETFROM:+1000
TZOFFSETTO:+1000
TZNAME:AEST
DTSTART:20230101T000000
END:STANDARD
END:VTIMEZONE
BEGIN:VEVENT
DTSTART;VALUE=DATE:20240805
DTEND;VALUE=DATE:20240812
DTSTAMP:20260420T182922
CREATED:20240628T033533Z
LAST-MODIFIED:20240628T033533Z
UID:9765-1722816000-1723420799@www.tnqdroughthub.com.au
SUMMARY:2024 LANDCARE WEEK
DESCRIPTION:2024 LANDCARE WEEK:\n\n\n\n\nMonday 5 – Sunday 11 August\, 2024\nLandcare is for Everyone (L.I.F.E)\n\n\n\n\nLandcare Week is an annual celebration of landcare held during the first week of August to acknowledge the Australians who are actively restoring\, enhancing and protecting the natural environment in their community. \nLandcare volunteers and groups work all year to care for the environment in their community\, and Landcare Week is an opportunity for groups to promote their projects and thank their volunteers. \nLandcare Week is an opportunity to create awareness of landcare to inspire people to get involved and volunteer\, or for community organisations to offer financial or in-kind support to their local group. \nDon’t have the word ’landcare’ in your group name? No problem! Landcare is for Everyone. You could be a Coastcare\, bushcare\, dunecare\, rivercare\, ‘Friends of’ or Junior Landcare group. \nAny community-led group working on environmental projects are part of landcare and can get involved in Landcare Week 2024 to promote their great work. \nWith more than 6\,000 groups and over 140\,000+ volunteers\, landcare encompasses not only landcare and other community groups\, also farmers\, landholders\, Traditional Owners and First Nations organisations\, landcare facilitators and coordinators\, youth groups\, researchers\, academics\, and government agencies. \nThis Landcare Week\, we’re showcasing how ‘Landcare is for Everyone’ and celebrating the achievements of all\, from farmers planting wildlife corridors on their properties\, students learning about biodiversity and where their food comes from\, to community groups creating native seedbanks to businesses encouraging their staff to volunteer with landcare groups. \nThere are opportunities for everyone to take action with landcare. Landcare brings everyone together to actively be involved in sustainable land management and conservation activities. \nIf you are a group\, it’s easy to get involved in Landcare Week 2024! Here are 5 tips: \n\nDownload the branded resources to promote Landcare Week 2024 on your website\, newsletters social media channels. Simply click HERE\nAdapt the communications kit with your key messages. We have created content that you can use before and during Landcare Week. Simply click HERE\nComing soon are free resources to promote your group to engage local media.\nPromote your events all year round on one of Australia’s largest event calendars. Register your event on the National Landcare Events Calendar via the Landcarer platform! Simply click HERE. You can learn how to add your events to the platform HERE.\nShare your group’s activity on your social media and tag us #landcareweek2024 #landcare #landcareaustralia\n\nIf you are new to landcare\, here are 5 tips on how you can get involved: \n\nRegister your group on the National Landcare Directory. Simply click HERE\nStart your own group\, register on the National Landcare Directory and access some tips on how to get started HERE\nVolunteer and find a group near you on the National Landcare Directory HERE\nIt’s easy to get involved in landcare at home or work! Simply click HERE\nLearn what Landcarers do with our list of landcare activities\, click HERE\n\nShare your landcare story with us!  \nPromote your landcare story with a national audience using Landcare Australia’s extensive communications channels. We reach over 85\,000 people via social media\, over 50\,000 people via our publications and we have more than 1 million visitors to our websites every year. \nWe are always searching for great stories to inspire people to get involved in landcare\, and to promote case studies with project ideas that can be adopted by others across the country. Do you have a story to share\, or before/after photos? Talk to us via email HERE. \nStay tuned to our social media pages as we share incredible landcare stories from around Australia that showcases all the amazing work that the volunteers are doing. \nYou can also post your stories in the comments on our social pages and share the Landcare Week posts to your own pages or promote your own stories on your social pages. \nDon’t forget to use the hashtags #landcareisforeveryone #LIFE #landcare #landcareweek2024 #LandcareAustralia and tag @landcareaustralia so we can engage with your post. \n  \nThis campaign and the resources have been created by Landcare Australia for the use of landcare and other environmental community groups that include but not limited to Bushcare\, Coastcare\, ‘Friends of’\, Dunecare\, Rivercare\, Scouts and Girl Guide groups. If you are a group working on environmental issues in your community\, we invite you to use the Landcare Week resources to promote your activities. \n© Copyright Landcare Australia 2024. The Landcare is for Everyone (L.I.F.E) is trademarked by Landcare Australia.
URL:https://www.tnqdroughthub.com.au/event/2024-landcare-week/
LOCATION:Queensland
END:VEVENT
BEGIN:VEVENT
DTSTART;TZID=Australia/Brisbane:20240806T083000
DTEND;TZID=Australia/Brisbane:20240807T163000
DTSTAMP:20260420T182922
CREATED:20240628T020545Z
LAST-MODIFIED:20240628T020545Z
UID:9763-1722933000-1723048200@www.tnqdroughthub.com.au
SUMMARY:Changemaker Workshop - Tambo
DESCRIPTION:Become a changemaker: \n\nAssess your region’s readiness for change.\nExplore how change happens and how to overcome resistance.\nLearn what it takes to be a positive change agent\, have the drive to build new things\, how to manage setbacks and work creatively and purposefully with others.\n\nStart community conversations: \n\nUnderstand the local ecosystem; undertake purposeful and inclusive engagement; create robust and authentic conversations.\nLearn how to have those conversations\, suspend judgement and assumptions\, and build trust and transparency for connection and diverse relationships.\n\nCare for your community: \n\nUnpack what forms and shapes a community.\nLearn how a community can be more inclusive.\nConsidering the impacts of drought\, trauma and other events\, get tools to better support others and balance giving and taking within a community.\n\nShape your community’s future: \n\nExplore ideas to shape the future you would like to see for your community.\nUnderstand the importance of language and the power of storytelling in motivating and mobilising others.\nLearn what makes a good story and how to connect with the hearts and minds of others.\n\nThis is a face-to-face session\, for two full days. Catering and participant resources provided. Before you register\, we ask that you make sure you can commit to attending\, as we have extensive waitlists for most workshops. If you do register and can’t attend\, wherever possible\, please contact us two weeks before the workshop date so we can reallocate your spot to another person from your community. Our ability to fully serve your region relies on this effective communication. \nIf you are registering for multiple participants\, please include individual email addresses against each registration which we need for surveys. \nThis workshop is free thanks to the Australian Government’s Future Drought Fund. It is delivered by the Australian Rural Leadership Foundation and part of the Helping Regional Communities Prepare for Drought Initiative. For more information visit rural-leaders.org.au. \nRegistrations close 7 days ahead of workshop. \nFor any technical assistance please contact Gemma Rostron at gemmar@rural-leaders.org.au or 0421 031 418.
URL:https://www.tnqdroughthub.com.au/event/changemaker-workshop-tambo/
LOCATION:Tambo Shire Hall\, 14 Arthur Street\, Tambo\, Queensland\, 4478\, Australia
END:VEVENT
BEGIN:VEVENT
DTSTART;VALUE=DATE:20240807
DTEND;VALUE=DATE:20240810
DTSTAMP:20260420T182922
CREATED:20240627T042100Z
LAST-MODIFIED:20240627T042100Z
UID:9725-1722988800-1723247999@www.tnqdroughthub.com.au
SUMMARY:LambEx24
DESCRIPTION:LambEx is the pinnacle in Australian sheep\, lamb & wool. A biennial event which attracts over 1200+ attendees from Australia and across the globe. The last time the event was held was 2018 and expectations are for the biggest and best LambEx yet. \nLambEx is a proud showcase of the sheep industry and provides the rare opportunity to draw together sheep producers and representatives from the entire sheep\, lamb & wool production supply chain in this epic three-day event.
URL:https://www.tnqdroughthub.com.au/event/lambex24/
LOCATION:Adelaide Convention Centre\, North Terrace\, Adelaide\, South Australia\, 5000\, Australia
END:VEVENT
BEGIN:VEVENT
DTSTART;VALUE=DATE:20240826
DTEND;VALUE=DATE:20240829
DTSTAMP:20260420T182922
CREATED:20240125T055223Z
LAST-MODIFIED:20240125T055223Z
UID:8028-1724630400-1724889599@www.tnqdroughthub.com.au
SUMMARY:Developing Northern Australia 2024 Conference
DESCRIPTION:As Northern Australians\, we live in one of the world’s most dynamic regions. Preserving our way of life and making things even better means re-investing in ourselves and attracting both quality investment partners and passionate people from the south and across the globe. The current refresh of the Northern Australian Whitepaper gives us all a chance to bolster the entire investment pipeline\, from local health capacity building right through to securing the closure and delivery of quality investments that move us forward. We’ll need to build resilience in the face of geostrategic change\, climate risk and keep building positive models of northern reconciliation.
URL:https://www.tnqdroughthub.com.au/event/developing-northern-australia-2024-conference/
LOCATION:Karratha\, Karratha\, Western Australia\, 6714\, Australia
END:VEVENT
BEGIN:VEVENT
DTSTART;TZID=Australia/Brisbane:20240828T080000
DTEND;TZID=Australia/Brisbane:20240828T160000
DTSTAMP:20260420T182922
CREATED:20240527T233312Z
LAST-MODIFIED:20240527T233312Z
UID:9368-1724832000-1724860800@www.tnqdroughthub.com.au
SUMMARY:Paddock to Reef Regional Integrated Science Forum
DESCRIPTION:Welcome to the Paddock to Reef Regional Integrated Science Forum! Join us at Magpies Sporting Club Mackay for an informative event where experts will discuss regional science projects related to our environment. This in-person forum will bring together presenters from Government agencies\, Natural Resource Management organisations\, industry groups and scientists. Don’t miss this opportunity to network\, learn\, and contribute to the future of our region’s ecosystem. \nThis event is hosted by Reef Catchments as part of the Paddock to Reef Integrated Monitoring\, Modelling and Reporting program\, jointly funded by the Australian and Queensland governments. \nLunch and refreshments provided. Please complete the meal requirements section while registering. \nSee you there! \nNote: \nPhotographs and/or video will be taken at this event. By attending this event you grant the event organisers full rights to use the images resulting from the photography/video filming\, and any reproductions or adaptations of the images for fundraising\, publicity or other purposes to help achieve the organiser’s aims. This might include (but is not limited to)\, the right to use them in their printed and online publicity\, social media\, press releases and funding applications.
URL:https://www.tnqdroughthub.com.au/event/paddock-to-reef-regional-integrated-science-forum/
LOCATION:Mackay\, Mackay\, Queensland\, 4740\, Australia
END:VEVENT
END:VCALENDAR