BEGIN:VCALENDAR
VERSION:2.0
PRODID:-//Tropical North Queensland Drought Resilience Adoption and Innovation Hub - ECPv6.15.16//NONSGML v1.0//EN
CALSCALE:GREGORIAN
METHOD:PUBLISH
X-WR-CALNAME:Tropical North Queensland Drought Resilience Adoption and Innovation Hub
X-ORIGINAL-URL:https://www.tnqdroughthub.com.au
X-WR-CALDESC:Events for Tropical North Queensland Drought Resilience Adoption and Innovation Hub
REFRESH-INTERVAL;VALUE=DURATION:PT1H
X-Robots-Tag:noindex
X-PUBLISHED-TTL:PT1H
BEGIN:VTIMEZONE
TZID:Australia/Brisbane
BEGIN:STANDARD
TZOFFSETFROM:+1000
TZOFFSETTO:+1000
TZNAME:AEST
DTSTART:20230101T000000
END:STANDARD
END:VTIMEZONE
BEGIN:VEVENT
DTSTART;TZID=Australia/Brisbane:20240406T090000
DTEND;TZID=Australia/Brisbane:20240406T153000
DTSTAMP:20260415T102301
CREATED:20240301T034819Z
LAST-MODIFIED:20240301T035032Z
UID:8333-1712394000-1712417400@www.tnqdroughthub.com.au
SUMMARY:Farmers Day ALTON DOWNS ( Rockhamption Region )
DESCRIPTION:A day for Farmers LET US HELP YOU navigate your obligations \nGreat day for horse owners too… \nVenue Alton Downs\nStarts Sat Apr 6 2024\, 09:00am AEST\nEnds Sat Apr 6 2024\, 03:30pm AEST
URL:https://www.tnqdroughthub.com.au/event/8333/
LOCATION:Rockhampton\, Rockhampton\, Queensland\, 4700
END:VEVENT
BEGIN:VEVENT
DTSTART;VALUE=DATE:20240408
DTEND;VALUE=DATE:20240615
DTSTAMP:20260415T102301
CREATED:20231215T034440Z
LAST-MODIFIED:20240130T225920Z
UID:7887-1712534400-1718409599@www.tnqdroughthub.com.au
SUMMARY:Governance Essentials
DESCRIPTION:Thriving community organisations rely on good governance and effective leaders. \nJoin the TNQ Drought Hub and Get on Board Australia for a comprehensive and interactive online Governance Essentials course that takes you through the principles of governance\, duties and responsibilities\, ethical decision-making and how to be a confident leader. \nDate: Monday 8 April – Friday 14 June \nDuration: 6 sessions (8 April\, 19 April\, 3 May\, 17 May\, 31 May and 14 June) including introduction and graduation \nTime: 12:15pm – 1:00pm (AEST) \nWhere: Online (blended self-paced learning with short recap sessions) \nCost: $150 (valued at $250\, subsidised by the TNQ Drought Hub) \nEnrol if you want to: \n\nGrow your capacity as a leader\nTake on a committee role on your community\nUnderstand board frameworks\, role requirements and risk management\nGain valuable insights into best practices from a governance professional\n\nThe course will run in four modules over eight weeks\, each with a fortnightly online lunch and learn session. The online sessions will support participants working through the self-paced course and provide the opportunity to engage with other students. \nFor each module\, you will be encouraged to share reflections and go through a knowledge check on what you have learnt. Participants will also have lifetime access to the course resources so they can refer to the content to aid them in current or future committee roles. \n2023 participants said the course was “really useful\, especially to do with conflicts of interests and how to manage that in small communities”\, “great to consolidate what you need to know being on a management committee or board” and “the small cost in time and money was well worth the content\, and newfound confidence”. \nHaving skilled and capable people in committee roles in your community helps enhance all community members and builds resilient towns and regions. \nAbout the presenter: \nLisa Cook is the Founder and Managing Director of Get on Board Australia\, supporting aspiring\, new and existing board members\, and boards to thrive. She has nearly 15 years of experience serving on boards from a range of organisations in the private\, public\, and not-for-profit sectors in Adelaide\, Sydney\, and across Australia. Lisa has a Master of Business Law from the University of Adelaide\, a degree in business management and marketing from Charles Sturt University\, and has completed the Foundations of Directorship program through AICD. \nIf you have any questions\, please contact TNQ Drought Hub Program Lead\, Dr Jane Oorschot jane.oorschot1@jcu.edu.au or 0481 158 989. \nThis project is supported by the Australian Government’s Future Drought Fund.
URL:https://www.tnqdroughthub.com.au/event/governance-essentials/
LOCATION:Online
ORGANIZER;CN="TNQ Drought Hub":MAILTO:rachel.hay@jcu.edu.au
END:VEVENT
BEGIN:VEVENT
DTSTART;VALUE=DATE:20240415
DTEND;VALUE=DATE:20240420
DTSTAMP:20260415T102301
CREATED:20231003T073315Z
LAST-MODIFIED:20231003T073315Z
UID:7035-1713139200-1713571199@www.tnqdroughthub.com.au
SUMMARY:Australian Society of Sugar Cane Technologists (ASSCT) Conference
DESCRIPTION:The 2024 conference holds special significance as it revolves around the theme of “Profitability\, Sustainability\, and Adaptability” This theme aptly reflects the ever-changing landscape of our industry and the crucial role that adaptability plays in navigating the challenges and opportunities that lie ahead.
URL:https://www.tnqdroughthub.com.au/event/australian-society-of-sugar-cane-technologists-assct-conference/
LOCATION:Townsville\, Townsville\, Queensland\, 4810\, Australia
END:VEVENT
BEGIN:VEVENT
DTSTART;VALUE=DATE:20240417
DTEND;VALUE=DATE:20240420
DTSTAMP:20260415T102301
CREATED:20240301T012925Z
LAST-MODIFIED:20240301T012925Z
UID:8324-1713312000-1713571199@www.tnqdroughthub.com.au
SUMMARY:FutureAg Expo 2024 Powered by Agritechnica
DESCRIPTION:FutureAg Expo 2024 Powered by Agritechnica will be an exciting exhibition\, sales and networking opportunity for: suppliers of agricultural and agro-industrial products\, services and technology serving the markets of Australia\, New Zealand and Asia Pacific. Manufacturers\, producers\, importers and distributors of products and services related to agricultural\, aquacultural\, horticultural\, livestock processes. \nWHEN \nThe show will be held across three days annually commencing Wednesday\, 17 April – Friday\, 19 April 2024. Open to the industry 8.30am to 4.30pm (Wednesday and Thursday) and 8.30am to 4.00pm (Friday). \nWHERE \nThis inaugural event will be at Melbourne Showgrounds\, Ascot Vale\, Victoria\, Australia – the largest participation rate in events in Victoria\, the largest exporting state of agricultural products in Australia.
URL:https://www.tnqdroughthub.com.au/event/futureag-expo-2024-powered-by-agritechnica/
LOCATION:Melbourne\, Melbourne\, Victoria\, Australia
END:VEVENT
BEGIN:VEVENT
DTSTART;TZID=Australia/Brisbane:20240427T080000
DTEND;TZID=Australia/Brisbane:20240427T153000
DTSTAMP:20260415T102301
CREATED:20240301T034935Z
LAST-MODIFIED:20240301T034935Z
UID:8335-1714204800-1714231800@www.tnqdroughthub.com.au
SUMMARY:Walkerston Farmers Day (Mackay Region)
DESCRIPTION:A day to network and listen to the groups that can help you manage your land. \nReef catchment\, vegetation management\, biosecurity\, farm planning\, small ruminant management\, soil health and so much more. \nMorning tea and lunch provided. \nIndustry displays.
URL:https://www.tnqdroughthub.com.au/event/walkerston-farmers-day-mackay-region/
LOCATION:Mackay\, Mackay\, Queensland\, 4740\, Australia
END:VEVENT
BEGIN:VEVENT
DTSTART;TZID=Australia/Brisbane:20240429T083000
DTEND;TZID=Australia/Brisbane:20240430T163000
DTSTAMP:20260415T102301
CREATED:20240123T001753Z
LAST-MODIFIED:20240123T001753Z
UID:7996-1714379400-1714494600@www.tnqdroughthub.com.au
SUMMARY:Changemaker Workshop - Mareeba (Region 11 Hinterland to Gulf QLD)
DESCRIPTION:Become a changemaker: \n\nAssess your region’s readiness for change.\nExplore how change happens and how to overcome resistance.\nLearn what it takes to be a positive change agent\, have the drive to build new things\, how to manage setbacks and work creatively and purposefully with others.\n\nStart community conversations: \n\nUnderstand the ecosystem purposeful\, inclusive engagement and robust and authentic conversations create.\nLearn how to have those conversations\, suspend judgement and assumptions\, and build trust and transparency for connection and diverse relationships.\n\nCare for your community: \n\nUnpack what forms and shapes a community.\nLearn how a community can be more inclusive.\nConsidering the impacts of drought\, trauma and other events\, get tools to better support others and balance giving and taking within a community.\n\nShape your community’s future: \n\nExplore ideas to shape the future you would like to see for your community.\nUnderstand the importance of language and the power of storytelling in motivating and mobilising others.\nLearn what makes a good story and how to connect with the hearts and minds of others.\n\nThis workshop is free thanks to the Australian Government’s Future Drought Fund. It is delivered by the Australian Rural Leadership Foundation and part of the Helping Regional Communities Prepare for Drought Initiative. For more information visit rural-leaders.org.au. \nPlease note: This is a face-to-face session. All catering and stationery provided. \nRegistrations close 7 days ahead of workshop. \nFor any technical assistance please contact Gemma Rostron at gemmar@rural-leaders.org.au or 0421 031 418.
URL:https://www.tnqdroughthub.com.au/event/changemaker-workshop-mareeba-region-11-hinterland-to-gulf-qld/
LOCATION:Jackaroo Motel\, 340 Byrnes Street\, Mareeba\, QLD\, 2024\, Australia
END:VEVENT
END:VCALENDAR