BEGIN:VCALENDAR
VERSION:2.0
PRODID:-//Tropical North Queensland Drought Resilience Adoption and Innovation Hub - ECPv6.15.20//NONSGML v1.0//EN
CALSCALE:GREGORIAN
METHOD:PUBLISH
X-WR-CALNAME:Tropical North Queensland Drought Resilience Adoption and Innovation Hub
X-ORIGINAL-URL:https://www.tnqdroughthub.com.au
X-WR-CALDESC:Events for Tropical North Queensland Drought Resilience Adoption and Innovation Hub
REFRESH-INTERVAL;VALUE=DURATION:PT1H
X-Robots-Tag:noindex
X-PUBLISHED-TTL:PT1H
BEGIN:VTIMEZONE
TZID:Australia/Brisbane
BEGIN:STANDARD
TZOFFSETFROM:+1000
TZOFFSETTO:+1000
TZNAME:AEST
DTSTART:20220101T000000
END:STANDARD
END:VTIMEZONE
BEGIN:VEVENT
DTSTART;VALUE=DATE:20230501
DTEND;VALUE=DATE:20230503
DTSTAMP:20260423T183355
CREATED:20220816T015034Z
LAST-MODIFIED:20220816T015034Z
UID:3088-1682899200-1683071999@www.tnqdroughthub.com.au
SUMMARY:PIEFA Conference 2023
DESCRIPTION:Inspiring the Australian community with the latest in food and fibre education. The PIEFA Conference is designed for educators and industry leaders from Australia and overseas. \nThe Primary Industries Education Foundation Australia (PIEFA) is a tripartite\, not-for-profit company limited by guarantee\, formed through the collaboration of the Australian Government\, primary industries organisations and the education sector.
URL:https://www.tnqdroughthub.com.au/event/piefa-conference-2023/
LOCATION:Hotel Realm\, 18 National Circuit\, Canberra\, ACT\, 2600\, Australia
END:VEVENT
BEGIN:VEVENT
DTSTART;VALUE=DATE:20230501
DTEND;VALUE=DATE:20230503
DTSTAMP:20260423T183355
CREATED:20221028T004735Z
LAST-MODIFIED:20240710T234510Z
UID:3690-1682899200-1683071999@www.tnqdroughthub.com.au
SUMMARY:Growing the NextGen of Food and Fibre Education - PIEFA CONFERENCE 2023
DESCRIPTION:Held at Realm Hotel\, Canberra on May 1 and 2\, 2023\, PIEFA Conference will bring together leaders from industry\, government and education to present and workshop with our community on: Growing the NextGen of Food and Fibre Education.  \nIt’s a 2-day conference that will include keynote presentations\, interactive workshops\, lightning presentations\, panel and Q&A sessions. \nEducators will discover practical tips and information to confidently implement food and fibre content in their classroom.\nIndustry representatives will be inspired by connecting with leaders in the agricultural education sector.\nGovernment representatives will experience\, first-hand\, the value of food and fibre education.  \nDiscover. Innovate. Connect. \n​\nDelegate registration is OPEN NOW\, with a discounted early bird rate of $550 (including GST). Accommodation and social events can be booked at the time of conference registration through the same online portal.  \n 
URL:https://www.tnqdroughthub.com.au/event/growing-the-nextgen-of-food-and-fibre-education-piefa-conference-2023/
LOCATION:Canberra\, Canberra\, ACT\, 2601
END:VEVENT
BEGIN:VEVENT
DTSTART;TZID=Australia/Brisbane:20230509T093000
DTEND;TZID=Australia/Brisbane:20230509T160000
DTSTAMP:20260423T183355
CREATED:20230308T030016Z
LAST-MODIFIED:20240710T234859Z
UID:5281-1683624600-1683648000@www.tnqdroughthub.com.au
SUMMARY:Pastures Field Day – Mount Garnet
DESCRIPTION:PASTURES FIELD DAY – GOSHEN STATION\, MOUNT GARNETT NTH QLD\nHear first-hand experiences of the producers\, researchers and extension staff who trial\, establish and manage improved pastured in NQ. \nTue.\, 9 May 2023\, 9:30 am – 4:00 pm AEST \nFree for Members or $30 for Non-members.
URL:https://www.tnqdroughthub.com.au/event/pastures-field-day-mount-garnet/
LOCATION:kirrama\, Kirrama\, Queensland\, 4872\, Australia
ORGANIZER;CN="Meat and Livestock Australia":MAILTO:info@mla.com.au
END:VEVENT
BEGIN:VEVENT
DTSTART;VALUE=DATE:20230511
DTEND;VALUE=DATE:20230514
DTSTAMP:20260423T183355
CREATED:20230411T051614Z
LAST-MODIFIED:20230411T051614Z
UID:5447-1683763200-1684022399@www.tnqdroughthub.com.au
SUMMARY:Primex 2023
DESCRIPTION:Enjoy local produce alongside chefs\, growers and food lovers at this iconic Northern Rivers field day event\, showcasing the latest in agriculture\, machinery and primary industries.\n\n\nWhat’s on at Primex 2023 \n• Extensive Australian Beef Showcase (including Battle of the Breeds Championship)\n• Nourish Food Fest – Live entertainment\, cooking & where farmers and foodies meet\n• Health & Wellbeing Hub\n• Business\, Innovation & AgriTech Hub – see the latest in agri-tech solutions\n• Education & Careers Hub\n• Forestry & Timber Industry Collective\n• Diverse livestock displays\, auction and demonstrations\n• Caravan\, 4WD\, Outdoor Leisure and Lifestyle Showcase\n• Farmyard Animals\n• NextGen schools and farming programs and presentations\n• National industry presentations\, guest speakers and networking events. \nVisit the Norco Primex 2023 website for the full program www.primex.net.au
URL:https://www.tnqdroughthub.com.au/event/primex-2023/
LOCATION:Richmond Valley Events Centre\, Cassino Dr\, Casino\, New South Wales\, 2470\, Australia
END:VEVENT
BEGIN:VEVENT
DTSTART;TZID=Australia/Brisbane:20230511T180000
DTEND;TZID=Australia/Brisbane:20230511T200000
DTSTAMP:20260423T183355
CREATED:20221222T032500Z
LAST-MODIFIED:20240709T055916Z
UID:4246-1683828000-1683835200@www.tnqdroughthub.com.au
SUMMARY:Introduction to Queensland Globe
DESCRIPTION:This session will provide a broad overview of the features\, functions and capabilities of the Queensland Globe application. Join us to learn how about: \n\nSearching for\, adding/displaying\, querying\, and extracting Queensland Government location-based information/spatial data/layers\nAccessing and displaying past imagery\nCreating and exporting custom-built maps\nOverview of other ‘Globe’ applications and government spatial data portals\n\nA light supper will be provided. For more information\, contact Vickie: 0439 443 906 or vickie.mylrea@gulfsavannahnrm.org \nThis project received grant funding from the Australian Government.
URL:https://www.tnqdroughthub.com.au/event/introduction-to-queensland-globe-may/
LOCATION:Dimbulah\, Dimbulah\, QLD\, 4872\, Australia
END:VEVENT
BEGIN:VEVENT
DTSTART;VALUE=DATE:20230517
DTEND;VALUE=DATE:20230520
DTSTAMP:20260423T183355
CREATED:20221123T053247Z
LAST-MODIFIED:20221123T053247Z
UID:3957-1684281600-1684540799@www.tnqdroughthub.com.au
SUMMARY:Australian Banana Industry Congress
DESCRIPTION:Held every two years\, Congress is a unique chance for all those involved in producing the nation’s most-loved fruit to network\, share ideas and be brought up-to-date with latest cutting edge technology\, innovation and essential research and developments affecting industry. \nThe 15th Congress is returning to the Cairns Convention Centre and the Pullman Cairns Reef Casino hotel\, which will be transformed into ‘Banana Central’ over the two-and-a-half days of the event. \nDon’t miss out on celebrating with us in Tropical FNQ in 2023!
URL:https://www.tnqdroughthub.com.au/event/australian-banana-industry-congress/
LOCATION:Cairns Convention Centre\, Sheridan St & Wharf St\, Cairns\, Queensland\, 4870\, Australia
END:VEVENT
BEGIN:VEVENT
DTSTART;TZID=Australia/Brisbane:20230518T093000
DTEND;TZID=Australia/Brisbane:20230518T143000
DTSTAMP:20260423T183355
CREATED:20230411T060206Z
LAST-MODIFIED:20230411T060206Z
UID:5476-1684402200-1684420200@www.tnqdroughthub.com.au
SUMMARY:Reducing Nitrogen Fertiliser with Non-Legume Nitrogen Fixation
DESCRIPTION:Learn about science-backed methods of maintaining crop yield while reducing nitrogen fertiliser at this free workshop in Mareeba \nDo you want to reduce fertiliser application and increase your profit margin? \nJoin Gulf Savannah NRM for a free workshop on non-legume nitrogen fixation in sugarcane and other crops. In this workshop\, you’ll hear the results of many years of experiments in sugarcane where crop yields were maintained while nitrogen fertiliser application was reduced to below 30kg N/ha per year. \nThis session will be especially relevant for cane farmers on the Tablelands and elsewhere\, as well as other growers who want to gain insight into alternate methods of reducing nitrogen fertiliser application. \nAll registered participants will receive a free farm map of their property when they arrive. As part of the workshop\, you will be assisted to design a trial area for your property to test the methods discussed at the event. The savings that can be gained through reducing fertiliser costs are considerable\, and the workshop will include an exercise to estimate the savings your farm could make. \nMorning tea and lunch will be provided. \nFor more information\, call Bob Stewart on 0418 733 147 or email bob.stewart@gulfsavannahnrm.org. \nThis project is supported by Gulf Savannah NRM\, through funding from the Australian Government’s National Landcare Program.
URL:https://www.tnqdroughthub.com.au/event/reducing-nitrogen-fertiliser-with-non-legume-nitrogen-fixation/
LOCATION:TBC
END:VEVENT
BEGIN:VEVENT
DTSTART;VALUE=DATE:20230522
DTEND;VALUE=DATE:20230526
DTSTAMP:20260423T183355
CREATED:20221123T053655Z
LAST-MODIFIED:20221123T053655Z
UID:3959-1684713600-1685059199@www.tnqdroughthub.com.au
SUMMARY:Northern Australia Food Futures Conference 2023
DESCRIPTION:The Northern Australia Food Futures Conference is Australia’s leading conference on agricultural development in the North. \nThe conference is integral in driving expansion in the north and places northern agriculture on the national agenda. Investors\, politicians\, industry and community stakeholders from around Australia and the world attend the Conference to explore agricultural opportunities in the north. \nThe three-day conference held in Darwin\, Northern Territory will feature: \n\nOver 50 speakers from industry\, research\, government and private sector\, including successful farmers from WA\, NT and Qld as speakers\nWorkshops\, keynote and plenary sessions\nAg Tech Forum\nExhibition and displays\nIncredible social program showcasing the very best of Darwin and surrounds\n\nThe biennial NT Farmers Association Food Futures Conference is now in its 5th year and receives strong support from the governments of the Northern Territory\, Western Australia and Queensland\, the National Farmers Federation\, Hort Innovation\, Cotton Australia and the private sector.
URL:https://www.tnqdroughthub.com.au/event/northern-australia-food-futures-conference-2023-2/
LOCATION:Darwin\, Darwin\, Northern Territory\, 0800\, Australia
END:VEVENT
BEGIN:VEVENT
DTSTART;VALUE=DATE:20230524
DTEND;VALUE=DATE:20230527
DTSTAMP:20260423T183355
CREATED:20220526T041013Z
LAST-MODIFIED:20220526T041013Z
UID:2576-1684886400-1685145599@www.tnqdroughthub.com.au
SUMMARY:Rotary FNQ Field Days
DESCRIPTION:Held over three days\, the field days is the largest field days in Northern Australia – it’s ‘a meeting place for rural business’. With a major focus on Ag Innovations\, Farm Safety and Rural Mental Wellness the field days have expanded into relevant topics for our rural industries.
URL:https://www.tnqdroughthub.com.au/event/rotary-fnq-field-days/
LOCATION:Mareeba\, Mareeba
END:VEVENT
BEGIN:VEVENT
DTSTART;VALUE=DATE:20230524
DTEND;VALUE=DATE:20230527
DTSTAMP:20260423T183355
CREATED:20220721T223833Z
LAST-MODIFIED:20220721T223833Z
UID:2892-1684886400-1685145599@www.tnqdroughthub.com.au
SUMMARY:International Business\, Environment & Climate Conference (IBECC)
DESCRIPTION:Sustainability is fast becoming one of the most important issues facing investors and businesses today\, and assessing the risks and opportunities of a changing climate is now an imperative. \nJoin us in Cairns\, Queensland\, Australia for the inaugural International Business\, Environment & Climate Conference (IBECC) from 24 – 26 May 2023 at the Cairns Convention Centre. Attending IBECC\, you will learn from global leaders and presenters as they provide an in-depth analysis into the future of ESG reporting\, aligning business outcomes with net-zero commitments\, how to drive sustainable business growth\, and more! \nIn addition to a compelling line-up of presenters\, this unique three-day conference will provide an opportunity to experience first hand the impacts Climate Change is having on the World Heritage Listed Great Barrier Reef and what innovative restoration projects are in place to protect and manage coral reefs. \nCairns is the only place in the world where two natural UNESCO World Heritage-listed sites sit side by side: the Daintree Rainforest and Great Barrier Reef. This spectacular region boasts the largest number of eco-certified operators in Australia and is the perfect host destination for IBECC. \nThe conference will be held both in-person and in virtual format\, so it will remain accessible to those who are unable to attend in person.
URL:https://www.tnqdroughthub.com.au/event/international-business-environment-climate-conference-ibecc/
LOCATION:Cairns Convention Centre\, Sheridan St & Wharf St\, Cairns\, Queensland\, 4870\, Australia
END:VEVENT
BEGIN:VEVENT
DTSTART;VALUE=DATE:20230524
DTEND;VALUE=DATE:20230527
DTSTAMP:20260423T183355
CREATED:20221123T053847Z
LAST-MODIFIED:20221123T053847Z
UID:3961-1684886400-1685145599@www.tnqdroughthub.com.au
SUMMARY:Rotary FNQ Field Days 2023
DESCRIPTION:Held over three days – 24th\, 25th & 26th May 2023. The multi award-winning field days is the largest field days in Northern Australia – and it’s all for charity! \nOpening Times: \nWednesday & Thursday – 9.00am to 6.00pm \nFriday – 9.00am – 4.00pm \n  \nThe Rotary FNQ Field Days are a project of the Rotary Clubs of Atherton and Mareeba. \nAll monies raised are donated to charities and community organisations. \nThe Rotary FNQ Field Days has grown exponentially since its conception in the mid 1980’s. Run by the combined Atherton and Mareeba Rotary Clubs\, the community event continues to raise record amounts each time the event is run.  On average 8\,000 people came through our gates each day. \nHeld over three days on a biennial basis\, the award-winning field days is the largest community event on the Tablelands.
URL:https://www.tnqdroughthub.com.au/event/rotary-fnq-field-days-2023/
LOCATION:Mareeba\, Mareeba
END:VEVENT
BEGIN:VEVENT
DTSTART;TZID=Australia/Brisbane:20230531T100000
DTEND;TZID=Australia/Brisbane:20230531T150000
DTSTAMP:20260423T183355
CREATED:20230530T011744Z
LAST-MODIFIED:20230530T011744Z
UID:5927-1685527200-1685545200@www.tnqdroughthub.com.au
SUMMARY:Mareeba Wetlands Fire Field Day
DESCRIPTION:Mareeba Wetlands Fire Field Day\nGet hands-on with practical fire management strategies with Leasie Felderholf and Mick Blackman. \nJoin us in Biboohra for a practical field day with Leasie Felderholf and Mick Blackman to learn about: \n\nFuel loads\nManaging the tree/grass balance\nPromoting perennial grasses over annual grasses\nFire characteristics of different plant species\nFuel load and curing\nReading the landscape such as previous charring\, char heights\, and various vegetation indicators\nFire breaks and erosion control\nFire for weed control\nFire behaviour in general (e.g. related to wind\, slope\, fuel load\, fuel structure\, ignition point etc)\n\nThis event is free\, catering will be supplied. For more details\, contact Vickie: 0439 443 906 or vickie.mylrea@gulfsavannahnrm.org \nThis project received grant funding from the Australian Government.
URL:https://www.tnqdroughthub.com.au/event/mareeba-wetlands-fire-field-day/
LOCATION:Pickford Road Pickford Road Biboohra\, QLD 4880
END:VEVENT
END:VCALENDAR