BEGIN:VCALENDAR
VERSION:2.0
PRODID:-//Tropical North Queensland Drought Resilience Adoption and Innovation Hub - ECPv6.15.16//NONSGML v1.0//EN
CALSCALE:GREGORIAN
METHOD:PUBLISH
X-WR-CALNAME:Tropical North Queensland Drought Resilience Adoption and Innovation Hub
X-ORIGINAL-URL:https://www.tnqdroughthub.com.au
X-WR-CALDESC:Events for Tropical North Queensland Drought Resilience Adoption and Innovation Hub
REFRESH-INTERVAL;VALUE=DURATION:PT1H
X-Robots-Tag:noindex
X-PUBLISHED-TTL:PT1H
BEGIN:VTIMEZONE
TZID:Australia/Brisbane
BEGIN:STANDARD
TZOFFSETFROM:+1000
TZOFFSETTO:+1000
TZNAME:AEST
DTSTART:20230101T000000
END:STANDARD
END:VTIMEZONE
BEGIN:VEVENT
DTSTART;TZID=Australia/Brisbane:20241205T163000
DTEND;TZID=Australia/Brisbane:20241205T180000
DTSTAMP:20260423T003914
CREATED:20241127T013040Z
LAST-MODIFIED:20241127T013040Z
UID:11342-1733416200-1733421600@www.tnqdroughthub.com.au
SUMMARY:World Soil Day - measure\, monitor and manage
DESCRIPTION:Join soils expert Dhiraj Gajera for World Soils Day \nLearn about \n\nSoil degradation\nImpact of climate variability on soil\nHow to measure healthy soil\nSoil biodiversity\nEssential minerals for plant growth\nMicrobes\, bacteria\, earthworms\, protozoans\, fungi\nPlus more!\n\nWhen: 4:30pm\, 5 December \nWhere: Mann Farming\, 331 Spanos Rd\, Silkwood 4856 \nRSVP: Dhiraj Gajera\, 0424 018 003
URL:https://www.tnqdroughthub.com.au/event/world-soil-day-measure-monitor-and-manage/
LOCATION:Silkwood\, Silkwood\, Queensland\, 4856\, Australia
ORGANIZER;CN="TNQ Drought Hub":MAILTO:rachel.hay@jcu.edu.au
END:VEVENT
END:VCALENDAR