BEGIN:VCALENDAR
VERSION:2.0
PRODID:-//Tropical North Queensland Drought Resilience Adoption and Innovation Hub - ECPv6.15.16//NONSGML v1.0//EN
CALSCALE:GREGORIAN
METHOD:PUBLISH
X-WR-CALNAME:Tropical North Queensland Drought Resilience Adoption and Innovation Hub
X-ORIGINAL-URL:https://www.tnqdroughthub.com.au
X-WR-CALDESC:Events for Tropical North Queensland Drought Resilience Adoption and Innovation Hub
REFRESH-INTERVAL;VALUE=DURATION:PT1H
X-Robots-Tag:noindex
X-PUBLISHED-TTL:PT1H
BEGIN:VTIMEZONE
TZID:Australia/Brisbane
BEGIN:STANDARD
TZOFFSETFROM:+1000
TZOFFSETTO:+1000
TZNAME:AEST
DTSTART:20230101T000000
END:STANDARD
END:VTIMEZONE
BEGIN:VEVENT
DTSTART;TZID=Australia/Brisbane:20241120T100000
DTEND;TZID=Australia/Brisbane:20241121T110000
DTSTAMP:20260422T232337
CREATED:20241031T024055Z
LAST-MODIFIED:20241031T024055Z
UID:11125-1732096800-1732186800@www.tnqdroughthub.com.au
SUMMARY:AGTECH24
DESCRIPTION:AGTECH24 will focus on early stage and commercial applications of agtech aiming to improve effectiveness\, efficiency\, profitability and user confidence in technology. \nIn addition to high-quality speakers and content\, participants can view and test technology and machinery in the field on day 2\, visit relevant and engaging trade displays and pose questions and challenges to interactive expert panels.
URL:https://www.tnqdroughthub.com.au/event/agtech24/
LOCATION:Emerald\, Emerald\, Queensland\, 4720\, Australia
END:VEVENT
END:VCALENDAR