BEGIN:VCALENDAR
VERSION:2.0
PRODID:-//Tropical North Queensland Drought Resilience Adoption and Innovation Hub - ECPv6.15.16//NONSGML v1.0//EN
CALSCALE:GREGORIAN
METHOD:PUBLISH
X-WR-CALNAME:Tropical North Queensland Drought Resilience Adoption and Innovation Hub
X-ORIGINAL-URL:https://www.tnqdroughthub.com.au
X-WR-CALDESC:Events for Tropical North Queensland Drought Resilience Adoption and Innovation Hub
REFRESH-INTERVAL;VALUE=DURATION:PT1H
X-Robots-Tag:noindex
X-PUBLISHED-TTL:PT1H
BEGIN:VTIMEZONE
TZID:Australia/Brisbane
BEGIN:STANDARD
TZOFFSETFROM:+1000
TZOFFSETTO:+1000
TZNAME:AEST
DTSTART:20230101T000000
END:STANDARD
END:VTIMEZONE
BEGIN:VEVENT
DTSTART;TZID=Australia/Brisbane:20241118T083000
DTEND;TZID=Australia/Brisbane:20241119T170000
DTSTAMP:20260422T231552
CREATED:20240123T001507Z
LAST-MODIFIED:20240123T001507Z
UID:7992-1731918600-1732035600@www.tnqdroughthub.com.au
SUMMARY:Business EDGE Young Guns | Mackay
DESCRIPTION:Location: Mackay\, QLD \nCost: $1\,750 + GST or $1\,500 early bird + GST/ 1st person from one business or $1\,500 + GST or $1\,250 early bird + GST / 2+ people from the same business. Early bird applies if registered and paid 4 weeks prior to course start date (21 October 2023). Cost includes comprehensive set of Workshop Notes\, Workbook\, decision support spreadsheet tools and all catering. \n\n\nBusiness EDGE Young Guns workshops are for up and coming livestock producers who are ready to build their skills and confidence to manage a modern gricultural business. \nPresenters: Simone Parker and Sally Finch\, Bush AgriBusiness
URL:https://www.tnqdroughthub.com.au/event/business-edge-young-guns-mackay/
LOCATION:Mackay\, Mackay\, Queensland\, 4740\, Australia
ORGANIZER;CN="Meat and Livestock Australia":MAILTO:info@mla.com.au
END:VEVENT
END:VCALENDAR