BEGIN:VCALENDAR
VERSION:2.0
PRODID:-//Tropical North Queensland Drought Resilience Adoption and Innovation Hub - ECPv6.15.16//NONSGML v1.0//EN
CALSCALE:GREGORIAN
METHOD:PUBLISH
X-ORIGINAL-URL:https://www.tnqdroughthub.com.au
X-WR-CALDESC:Events for Tropical North Queensland Drought Resilience Adoption and Innovation Hub
REFRESH-INTERVAL;VALUE=DURATION:PT1H
X-Robots-Tag:noindex
X-PUBLISHED-TTL:PT1H
BEGIN:VTIMEZONE
TZID:Australia/Brisbane
BEGIN:STANDARD
TZOFFSETFROM:+1000
TZOFFSETTO:+1000
TZNAME:AEST
DTSTART:20230101T000000
END:STANDARD
END:VTIMEZONE
BEGIN:VEVENT
DTSTART;TZID=Australia/Brisbane:20240730T083000
DTEND;TZID=Australia/Brisbane:20240731T163000
DTSTAMP:20260420T181703
CREATED:20240628T015050Z
LAST-MODIFIED:20240628T015050Z
UID:9749-1722328200-1722443400@www.tnqdroughthub.com.au
SUMMARY:Changemaker Workshop 10.1 - Mount Isa
DESCRIPTION:Become a changemaker: \n\nAssess your region’s readiness for change.\nExplore how change happens and how to overcome resistance.\nLearn what it takes to be a positive change agent\, have the drive to build new things\, how to manage setbacks and work creatively and purposefully with others.\n\nStart community conversations: \n\nUnderstand the local ecosystem; undertake purposeful and inclusive engagement; create robust and authentic conversations.\nLearn how to have those conversations\, suspend judgement and assumptions\, and build trust and transparency for connection and diverse relationships.\n\nCare for your community: \n\nUnpack what forms and shapes a community.\nLearn how a community can be more inclusive.\nConsidering the impacts of drought\, trauma and other events\, get tools to better support others and balance giving and taking within a community.\n\nShape your community’s future: \n\nExplore ideas to shape the future you would like to see for your community.\nUnderstand the importance of language and the power of storytelling in motivating and mobilising others.\nLearn what makes a good story and how to connect with the hearts and minds of others.\n\nThis is a face-to-face session\, for two full days. Catering and participant resources provided. Before you register\, we ask that you make sure you can commit to attending\, as we have extensive waitlists for most workshops. If you do register and can’t attend\, wherever possible\, please contact us two weeks before the workshop date so we can reallocate your spot to another person from your community. Our ability to fully serve your region relies on this effective communication. \nIf you are registering for multiple participants\, please include individual email addresses against each registration which we need for surveys. \nThis workshop is free thanks to the Australian Government’s Future Drought Fund. It is delivered by the Australian Rural Leadership Foundation and part of the Helping Regional Communities Prepare for Drought Initiative. For more information visit rural-leaders.org.au. \nRegistrations close 7 days ahead of workshop. \nFor any technical assistance please contact Gemma Rostron at gemmar@rural-leaders.org.au or 0421 031 418.
URL:https://www.tnqdroughthub.com.au/event/changemaker-workshop-10-1-mount-isa/
LOCATION:Mount Isa\, Mount Isa\, QLD\, Australia
END:VEVENT
END:VCALENDAR