BEGIN:VCALENDAR
VERSION:2.0
PRODID:-//Tropical North Queensland Drought Resilience Adoption and Innovation Hub - ECPv6.15.16//NONSGML v1.0//EN
CALSCALE:GREGORIAN
METHOD:PUBLISH
X-WR-CALNAME:Tropical North Queensland Drought Resilience Adoption and Innovation Hub
X-ORIGINAL-URL:https://www.tnqdroughthub.com.au
X-WR-CALDESC:Events for Tropical North Queensland Drought Resilience Adoption and Innovation Hub
REFRESH-INTERVAL;VALUE=DURATION:PT1H
X-Robots-Tag:noindex
X-PUBLISHED-TTL:PT1H
BEGIN:VTIMEZONE
TZID:Australia/Brisbane
BEGIN:STANDARD
TZOFFSETFROM:+1000
TZOFFSETTO:+1000
TZNAME:AEST
DTSTART:20230101T000000
END:STANDARD
END:VTIMEZONE
BEGIN:VEVENT
DTSTART;VALUE=DATE:20240617
DTEND;VALUE=DATE:20240622
DTSTAMP:20260422T162057
CREATED:20230607T232816Z
LAST-MODIFIED:20230607T232816Z
UID:6000-1718582400-1719014399@www.tnqdroughthub.com.au
SUMMARY:Tropical Innovation Festival 2024
DESCRIPTION:Launch Y(E)P presents | The 2024 Tropical Innovation Festival \nThe Tropical Innovation Festival is designed as an unapologetically informal event that focusses on outcomes our delegates want\, and allowing you to ‘choose your own adventure’. \nLike a good festival\, we provide you with the headliners and opportunities to connect and then you can access attend what you want. We know that there are lots of reasons that people attend the Tropical Innovation Festival and that people attending have different goals and methods to reach these goals.
URL:https://www.tnqdroughthub.com.au/event/tropical-innovation-festival-2024/
LOCATION:Cairns\, Cairns\, Queensland\, 4870\, Australia
END:VEVENT
BEGIN:VEVENT
DTSTART;VALUE=DATE:20240621
DTEND;VALUE=DATE:20240624
DTSTAMP:20260422T162057
CREATED:20240527T233200Z
LAST-MODIFIED:20240527T233200Z
UID:9365-1718928000-1719187199@www.tnqdroughthub.com.au
SUMMARY:St Lawrence Wetlands Weekend
DESCRIPTION:The award-winning and family-friendly St Lawrence Wetlands Weekend is set in the breathtaking beauty of the Croydon Range and the serene wetlands. \nThe landscape is a canvas of vibrant colours\, where lush greenery meets shimmering waters. \nIt’s a place where time slows down in wide-open spaces. People from all walks of life can connect with nature\, awaken the imagination\, enjoy feel-good foods and celebrate one of the world’s oldest living cultures. \nSt Lawrence is not just a destination to the Isaac region\, it is an invitation to rediscover yourself. There are plenty of camping\, glamping\, RV\, and caravanning options for your laid-back and relaxing weekend away. \nLet curiosity guide you and embrace the spirit of adventure in one of Australia’s best wetlands\, home to 92 bird species. What are you waiting for? Book your tickets and get ready to raise your glass to the magic of St Lawrence Wetlands Weekend.
URL:https://www.tnqdroughthub.com.au/event/st-lawrence-wetlands-weekend/
LOCATION:St Lawrence\, St Lawrence\, QLD\, 4707\, Austria
END:VEVENT
END:VCALENDAR