BEGIN:VCALENDAR
VERSION:2.0
PRODID:-//Tropical North Queensland Drought Resilience Adoption and Innovation Hub - ECPv6.15.16//NONSGML v1.0//EN
CALSCALE:GREGORIAN
METHOD:PUBLISH
X-ORIGINAL-URL:https://www.tnqdroughthub.com.au
X-WR-CALDESC:Events for Tropical North Queensland Drought Resilience Adoption and Innovation Hub
REFRESH-INTERVAL;VALUE=DURATION:PT1H
X-Robots-Tag:noindex
X-PUBLISHED-TTL:PT1H
BEGIN:VTIMEZONE
TZID:Australia/Brisbane
BEGIN:STANDARD
TZOFFSETFROM:+1000
TZOFFSETTO:+1000
TZNAME:AEST
DTSTART:20230101T000000
END:STANDARD
END:VTIMEZONE
BEGIN:VEVENT
DTSTART;VALUE=DATE:20240408
DTEND;VALUE=DATE:20240615
DTSTAMP:20260421T155758
CREATED:20231215T034440Z
LAST-MODIFIED:20240130T225920Z
UID:7887-1712534400-1718409599@www.tnqdroughthub.com.au
SUMMARY:Governance Essentials
DESCRIPTION:Thriving community organisations rely on good governance and effective leaders. \nJoin the TNQ Drought Hub and Get on Board Australia for a comprehensive and interactive online Governance Essentials course that takes you through the principles of governance\, duties and responsibilities\, ethical decision-making and how to be a confident leader. \nDate: Monday 8 April – Friday 14 June \nDuration: 6 sessions (8 April\, 19 April\, 3 May\, 17 May\, 31 May and 14 June) including introduction and graduation \nTime: 12:15pm – 1:00pm (AEST) \nWhere: Online (blended self-paced learning with short recap sessions) \nCost: $150 (valued at $250\, subsidised by the TNQ Drought Hub) \nEnrol if you want to: \n\nGrow your capacity as a leader\nTake on a committee role on your community\nUnderstand board frameworks\, role requirements and risk management\nGain valuable insights into best practices from a governance professional\n\nThe course will run in four modules over eight weeks\, each with a fortnightly online lunch and learn session. The online sessions will support participants working through the self-paced course and provide the opportunity to engage with other students. \nFor each module\, you will be encouraged to share reflections and go through a knowledge check on what you have learnt. Participants will also have lifetime access to the course resources so they can refer to the content to aid them in current or future committee roles. \n2023 participants said the course was “really useful\, especially to do with conflicts of interests and how to manage that in small communities”\, “great to consolidate what you need to know being on a management committee or board” and “the small cost in time and money was well worth the content\, and newfound confidence”. \nHaving skilled and capable people in committee roles in your community helps enhance all community members and builds resilient towns and regions. \nAbout the presenter: \nLisa Cook is the Founder and Managing Director of Get on Board Australia\, supporting aspiring\, new and existing board members\, and boards to thrive. She has nearly 15 years of experience serving on boards from a range of organisations in the private\, public\, and not-for-profit sectors in Adelaide\, Sydney\, and across Australia. Lisa has a Master of Business Law from the University of Adelaide\, a degree in business management and marketing from Charles Sturt University\, and has completed the Foundations of Directorship program through AICD. \nIf you have any questions\, please contact TNQ Drought Hub Program Lead\, Dr Jane Oorschot jane.oorschot1@jcu.edu.au or 0481 158 989. \nThis project is supported by the Australian Government’s Future Drought Fund.
URL:https://www.tnqdroughthub.com.au/event/governance-essentials/
LOCATION:Online
ORGANIZER;CN="TNQ Drought Hub":MAILTO:rachel.hay@jcu.edu.au
END:VEVENT
BEGIN:VEVENT
DTSTART;TZID=Australia/Brisbane:20240606T090000
DTEND;TZID=Australia/Brisbane:20240608T170000
DTSTAMP:20260421T155758
CREATED:20240123T001147Z
LAST-MODIFIED:20240123T001147Z
UID:7990-1717664400-1717866000@www.tnqdroughthub.com.au
SUMMARY:Business EDGE | Cunnamulla
DESCRIPTION:Location: Cunnamulla\, QLD \n\n\nBusiness EDGE is a two-day workshop designed to enhance producer knowledge and skills in basic financial and business management to improve business efficiency and profitability. \nWhat you’ll learn: \n\nWhat’s driving profit in your business – and what’s not\nHow to set up your financial system to provide you with the information to help manage your business.\nHow to demystify your financial statements\nNew infrastructure or equipment: which one will deliver the biggest bang for your buck?\nFunding for education\, succession and retirement: how much is needed and what can your business fund?\n\nPresenter: Simone Parker and Sally Finch\, Bush AgriBusiness
URL:https://www.tnqdroughthub.com.au/event/business-edge-cunnamulla/
LOCATION:Cunnamulla\, Cunnamulla\, Queensland\, 4490\, Australia
ORGANIZER;CN="Meat and Livestock Australia":MAILTO:info@mla.com.au
END:VEVENT
BEGIN:VEVENT
DTSTART;TZID=Australia/Brisbane:20240608T100000
DTEND;TZID=Australia/Brisbane:20240608T130000
DTSTAMP:20260421T155758
CREATED:20240527T232833Z
LAST-MODIFIED:20240527T232833Z
UID:9360-1717840800-1717851600@www.tnqdroughthub.com.au
SUMMARY:Fencing with Macka - Mareeba
DESCRIPTION:Fencing with Macka – Mareeba\n\n\nFencing can have many benefits for horticultural operations: \n\nExcluding animals from orchard areas\nProtection of riparian vegetation\, bank stability and other sensitive areas\nManagement zone and property boundary delineation\nProtection from impending biosecurity issues such as weeds and feral animals.\n\nJoin ‘Macka’ and Growcom on Saturday 8 June to learn more about: \n\nSelecting the right fence materials for the site and the application.\nFloodway and exclusion fencing\, and planning for water access and water quality issues.\nMaterials – make the first expense the last.\nNew technologies and other considerations.\n\nAttendees will have the opportunity to book a free consultation with Macka to discuss fencing solutions. These consultations will take place at individual properties. \nA second ‘Fencing With Macka’ event will be held on Saturday\, 7 September @ Jonsson Farming\, 475 Tumoulin Road\, Evelyn Central. Register here: www.growcom.com.au/events#!event/2024/9/7/fencing-with-macka \nFor more information\, please contact Growcom’s Paula Ibell on 0498 119 633 or email pibell@qfvg.com.au \n  \nMEET YOUR PRESENTER\, MACKA \nMacka has been fencing for the past 40 years throughout the channel country and the Mareeba District. He brings a range of experiences in farming from cattle\, sheep\, cropping land\, yard building and orchard management as has\, ‘kilometres of experience’ in all types of fencing. For the past 16 years\, Macka and his wife Irene have operated a lime farm on the Barron Catchment. \n  \nThe Peer-to-Peer program is delivered by Growcom’s Hort360 Great Barrier Reef project and is jointly supported by the Integrated Engagement and Capacity Building project through the Queensland Government’s Queensland Reef Water Quality Program.
URL:https://www.tnqdroughthub.com.au/event/fencing-with-macka-mareeba/
LOCATION:Mareeba\, Mareeba
ORGANIZER;CN="Growcom":MAILTO:growcom@growcom.com.au
END:VEVENT
END:VCALENDAR