BEGIN:VCALENDAR
VERSION:2.0
PRODID:-//Tropical North Queensland Drought Resilience Adoption and Innovation Hub - ECPv6.15.16//NONSGML v1.0//EN
CALSCALE:GREGORIAN
METHOD:PUBLISH
X-ORIGINAL-URL:https://www.tnqdroughthub.com.au
X-WR-CALDESC:Events for Tropical North Queensland Drought Resilience Adoption and Innovation Hub
REFRESH-INTERVAL;VALUE=DURATION:PT1H
X-Robots-Tag:noindex
X-PUBLISHED-TTL:PT1H
BEGIN:VTIMEZONE
TZID:Australia/Brisbane
BEGIN:STANDARD
TZOFFSETFROM:+1000
TZOFFSETTO:+1000
TZNAME:AEST
DTSTART:20230101T000000
END:STANDARD
END:VTIMEZONE
BEGIN:VEVENT
DTSTART;VALUE=DATE:20240408
DTEND;VALUE=DATE:20240615
DTSTAMP:20260421T032016
CREATED:20231215T034440Z
LAST-MODIFIED:20240130T225920Z
UID:7887-1712534400-1718409599@www.tnqdroughthub.com.au
SUMMARY:Governance Essentials
DESCRIPTION:Thriving community organisations rely on good governance and effective leaders. \nJoin the TNQ Drought Hub and Get on Board Australia for a comprehensive and interactive online Governance Essentials course that takes you through the principles of governance\, duties and responsibilities\, ethical decision-making and how to be a confident leader. \nDate: Monday 8 April – Friday 14 June \nDuration: 6 sessions (8 April\, 19 April\, 3 May\, 17 May\, 31 May and 14 June) including introduction and graduation \nTime: 12:15pm – 1:00pm (AEST) \nWhere: Online (blended self-paced learning with short recap sessions) \nCost: $150 (valued at $250\, subsidised by the TNQ Drought Hub) \nEnrol if you want to: \n\nGrow your capacity as a leader\nTake on a committee role on your community\nUnderstand board frameworks\, role requirements and risk management\nGain valuable insights into best practices from a governance professional\n\nThe course will run in four modules over eight weeks\, each with a fortnightly online lunch and learn session. The online sessions will support participants working through the self-paced course and provide the opportunity to engage with other students. \nFor each module\, you will be encouraged to share reflections and go through a knowledge check on what you have learnt. Participants will also have lifetime access to the course resources so they can refer to the content to aid them in current or future committee roles. \n2023 participants said the course was “really useful\, especially to do with conflicts of interests and how to manage that in small communities”\, “great to consolidate what you need to know being on a management committee or board” and “the small cost in time and money was well worth the content\, and newfound confidence”. \nHaving skilled and capable people in committee roles in your community helps enhance all community members and builds resilient towns and regions. \nAbout the presenter: \nLisa Cook is the Founder and Managing Director of Get on Board Australia\, supporting aspiring\, new and existing board members\, and boards to thrive. She has nearly 15 years of experience serving on boards from a range of organisations in the private\, public\, and not-for-profit sectors in Adelaide\, Sydney\, and across Australia. Lisa has a Master of Business Law from the University of Adelaide\, a degree in business management and marketing from Charles Sturt University\, and has completed the Foundations of Directorship program through AICD. \nIf you have any questions\, please contact TNQ Drought Hub Program Lead\, Dr Jane Oorschot jane.oorschot1@jcu.edu.au or 0481 158 989. \nThis project is supported by the Australian Government’s Future Drought Fund.
URL:https://www.tnqdroughthub.com.au/event/governance-essentials/
LOCATION:Online
ORGANIZER;CN="TNQ Drought Hub":MAILTO:rachel.hay@jcu.edu.au
END:VEVENT
END:VCALENDAR