BEGIN:VCALENDAR
VERSION:2.0
PRODID:-//Tropical North Queensland Drought Resilience Adoption and Innovation Hub - ECPv6.15.16//NONSGML v1.0//EN
CALSCALE:GREGORIAN
METHOD:PUBLISH
X-WR-CALNAME:Tropical North Queensland Drought Resilience Adoption and Innovation Hub
X-ORIGINAL-URL:https://www.tnqdroughthub.com.au
X-WR-CALDESC:Events for Tropical North Queensland Drought Resilience Adoption and Innovation Hub
REFRESH-INTERVAL;VALUE=DURATION:PT1H
X-Robots-Tag:noindex
X-PUBLISHED-TTL:PT1H
BEGIN:VTIMEZONE
TZID:Australia/Brisbane
BEGIN:STANDARD
TZOFFSETFROM:+1000
TZOFFSETTO:+1000
TZNAME:AEST
DTSTART:20230101T000000
END:STANDARD
END:VTIMEZONE
BEGIN:VEVENT
DTSTART;TZID=Australia/Brisbane:20240325T080000
DTEND;TZID=Australia/Brisbane:20240327T170000
DTSTAMP:20260417T061201
CREATED:20240123T000951Z
LAST-MODIFIED:20240123T000951Z
UID:7985-1711353600-1711558800@www.tnqdroughthub.com.au
SUMMARY:Breeding EDGE workshop | Springsure
DESCRIPTION:Location: Springsure\, QLD \nCost:\n$1\,950 + GST / 1st person from one business\n$1\,650 + GST / 2nd and 3rd person from same business (producers only) \nCorporate rate + GST/ 5 or more participants from the one business. \nCost includes comprehensive set of Workshop Notes\, Workbook\, electronic files\, other materials and catering. \n\n\nBreeding EDGE is a three-day workshop designed to assist producers improve and refine their breeder herd management and genetic improvement plans using genetic and reproductive knowledge and technologies\, to achieve desired production targets.
URL:https://www.tnqdroughthub.com.au/event/breeding-edge-workshop-springsure/
LOCATION:Springsure\, Springsure\, QLD\, 4722\, Australia
ORGANIZER;CN="Meat and Livestock Australia":MAILTO:info@mla.com.au
END:VEVENT
BEGIN:VEVENT
DTSTART;TZID=Australia/Brisbane:20240326T090000
DTEND;TZID=Australia/Brisbane:20240326T170000
DTSTAMP:20260417T061201
CREATED:20240130T054601Z
LAST-MODIFIED:20240130T054601Z
UID:8081-1711443600-1711472400@www.tnqdroughthub.com.au
SUMMARY:Microsoft Word Workshop - Georgetown
DESCRIPTION:This workshop will take you through the basics of using Microsoft Word including: \n\nText format\nTables\nPictures and graphics\nCreate flyers\, brochures and newsletters\nCreate business letters\nPrinting\nShortcuts\, tips and tricks\n\nMorning tea and lunch will be provided. \nPlease direct any enquiries to Deborah.Schedue@gulfsavannahnrm.org. \nThis project is supported by Gulf Savannah NRM\, through funding from the Australian Government’s Future Drought Fund
URL:https://www.tnqdroughthub.com.au/event/microsoft-word-workshop-georgetown/
LOCATION:Georgetown\, Georgetown\, Queensland\, 4871
END:VEVENT
BEGIN:VEVENT
DTSTART;TZID=Australia/Brisbane:20240326T103000
DTEND;TZID=Australia/Brisbane:20240326T120000
DTSTAMP:20260417T061201
CREATED:20240123T013244Z
LAST-MODIFIED:20240123T013244Z
UID:8014-1711449000-1711454400@www.tnqdroughthub.com.au
SUMMARY:GRDC Grains Research Update\, online – Looking beyond forecast uncertainty and seasonal outlook 2024
DESCRIPTION:GRDC Grains Research Updates\, online bring you the latest grains research straight to your screen. \nLog in for the latest farm-ready research and regionally relevant topics. \nTheme: Looking beyond forecast uncertainty and seasonal outlook 2024 \nTopics: \n\nLooking beyond forecast uncertainty – what drives the forecast and how can you better understand the level of uncertainty behind the forecast? (Jonathon How\, BoM)\nBOM seasonal outlook (Claire Yeo\, BoM)
URL:https://www.tnqdroughthub.com.au/event/grdc-grains-research-update-online-looking-beyond-forecast-uncertainty-and-seasonal-outlook-2024/
LOCATION:Online
END:VEVENT
END:VCALENDAR