BEGIN:VCALENDAR
VERSION:2.0
PRODID:-//Tropical North Queensland Drought Resilience Adoption and Innovation Hub - ECPv6.15.16//NONSGML v1.0//EN
CALSCALE:GREGORIAN
METHOD:PUBLISH
X-WR-CALNAME:Tropical North Queensland Drought Resilience Adoption and Innovation Hub
X-ORIGINAL-URL:https://www.tnqdroughthub.com.au
X-WR-CALDESC:Events for Tropical North Queensland Drought Resilience Adoption and Innovation Hub
REFRESH-INTERVAL;VALUE=DURATION:PT1H
X-Robots-Tag:noindex
X-PUBLISHED-TTL:PT1H
BEGIN:VTIMEZONE
TZID:Australia/Brisbane
BEGIN:STANDARD
TZOFFSETFROM:+1000
TZOFFSETTO:+1000
TZNAME:AEST
DTSTART:20230101T000000
END:STANDARD
END:VTIMEZONE
BEGIN:VEVENT
DTSTART;TZID=Australia/Brisbane:20240321T083000
DTEND;TZID=Australia/Brisbane:20240322T170000
DTSTAMP:20260417T084259
CREATED:20240123T000808Z
LAST-MODIFIED:20240123T000808Z
UID:7983-1711009800-1711126800@www.tnqdroughthub.com.au
SUMMARY:Business EDGE Young Guns | Dalby
DESCRIPTION:Location: Dalby\, QLD \nCost: $1\,750 + GST or $1\,500 early bird + GST/ 1st person from one business or $1\,500 + GST or $1\,250 early bird + GST / 2+ people from the same business. \nCost includes comprehensive set of Workshop Notes\, Workbook\, decision support spreadsheet tools and all catering. \n\n\nBusiness EDGE Young Guns workshops are for up and coming livestock producers who are ready to build their skills and confidence to manage a modern agricultural business. \nWhy Attend? \n\nGain the skills and confidence to carry on the family business\, start your own or step up in your role\nLearn from presenters who understand grazing businesses\nMeet other producers who are facing similar challenges as you\nReceive a full set of course notes and a suite of decision support tools to use at home\nMoney back guarantee if you’re not 100% satisfied the workshop has improved your business skills\n\nPresenter: Simone Parker and Sally Finch\, Bush AgriBusiness
URL:https://www.tnqdroughthub.com.au/event/business-edge-young-guns-dalby/
LOCATION:Dalby\, Dalby\, Queensland
ORGANIZER;CN="Meat and Livestock Australia":MAILTO:info@mla.com.au
END:VEVENT
END:VCALENDAR