BEGIN:VCALENDAR
VERSION:2.0
PRODID:-//Tropical North Queensland Drought Resilience Adoption and Innovation Hub - ECPv6.15.16//NONSGML v1.0//EN
CALSCALE:GREGORIAN
METHOD:PUBLISH
X-ORIGINAL-URL:https://www.tnqdroughthub.com.au
X-WR-CALDESC:Events for Tropical North Queensland Drought Resilience Adoption and Innovation Hub
REFRESH-INTERVAL;VALUE=DURATION:PT1H
X-Robots-Tag:noindex
X-PUBLISHED-TTL:PT1H
BEGIN:VTIMEZONE
TZID:Australia/Brisbane
BEGIN:STANDARD
TZOFFSETFROM:+1000
TZOFFSETTO:+1000
TZNAME:AEST
DTSTART:20230101T000000
END:STANDARD
END:VTIMEZONE
BEGIN:VEVENT
DTSTART;TZID=Australia/Brisbane:20240314T120000
DTEND;TZID=Australia/Brisbane:20240314T150000
DTSTAMP:20260415T171409
CREATED:20240301T013201Z
LAST-MODIFIED:20240710T234725Z
UID:8326-1710417600-1710428400@www.tnqdroughthub.com.au
SUMMARY:Field Event: Sustainable Soil Management
DESCRIPTION:Join our field event where you will gain insights on how to maximise crop returns through improved soil health and input use efficiency.\nTopics include:\n\n\nRotations – breaking the cropping cycle with cover crops\, how to choose the right species\, considerations for timing of planting\, termination and termination methods.\nManaging the cost of inputs – with a focus on nitrogen\, nitrogen budgeting\, the use of legumes to supply nitrogen.\nSoil biology – its functions in the soil\, practices that build it and degrade it\, tools for measuring it\, understanding it (including its challenges).\nImproving soil health – reduced tillage\, building soil organic matter\, structure\, infiltration\, soil biology.\n\nMeet the presenter:\nDr Kelvin Montagu\, Soil Wealth Integrated Crop Protection (SWICP) \nIf you’ve got a question about cover crops or tillage\, look no further than Kelvin. Kelvin works closely with growers to trial cover crops and biofumigants and examine their impacts on soil health; he also has extensive knowledge of soil biology and how growers can improve their irrigation and water management. \n\nGet in touch:\nFor more information\, contact: \n\nNaomi Diplock\, PotatoLink on 0403 740 123 or naomi.diplock@ahr.com.au \nJessy Logan\, VegNET on 0407 366 797 or vegnet@bfvg.com.au\n\nThe event will also include a light lunch. Registrations are essential. Address will be emailed closer to the event date.\n \nThis event is hosted by Soil Wealth ICP\, VegNET Wide Bay Burnett\, PotatoLink and funded by Horticulture Innovation Australia Limited (Hort Innovation) using potato industry levies and the vegetable industry levy. 
URL:https://www.tnqdroughthub.com.au/event/field-event-sustainable-soil-management/
LOCATION:South Kolan\, South Kolan\, QLD\, 4670\, Australia
END:VEVENT
END:VCALENDAR