BEGIN:VCALENDAR
VERSION:2.0
PRODID:-//Tropical North Queensland Drought Resilience Adoption and Innovation Hub - ECPv6.15.16//NONSGML v1.0//EN
CALSCALE:GREGORIAN
METHOD:PUBLISH
X-WR-CALNAME:Tropical North Queensland Drought Resilience Adoption and Innovation Hub
X-ORIGINAL-URL:https://www.tnqdroughthub.com.au
X-WR-CALDESC:Events for Tropical North Queensland Drought Resilience Adoption and Innovation Hub
REFRESH-INTERVAL;VALUE=DURATION:PT1H
X-Robots-Tag:noindex
X-PUBLISHED-TTL:PT1H
BEGIN:VTIMEZONE
TZID:Australia/Brisbane
BEGIN:STANDARD
TZOFFSETFROM:+1000
TZOFFSETTO:+1000
TZNAME:AEST
DTSTART:20230101T000000
END:STANDARD
END:VTIMEZONE
BEGIN:VEVENT
DTSTART;TZID=Australia/Brisbane:20240313T080000
DTEND;TZID=Australia/Brisbane:20240313T160000
DTSTAMP:20260417T062915
CREATED:20240301T034603Z
LAST-MODIFIED:20240301T034603Z
UID:8331-1710316800-1710345600@www.tnqdroughthub.com.au
SUMMARY:Western Qld Grazing: Studies & Solutions for the Future
DESCRIPTION:  \n\nABOUT\nWestern Queensland Grazing: Studies & Solutions for the future.\nDiscover current projects being undertaken and also learn from producers putting them into action.\nWe will be covering 6 different projects\, all applicable to Western Queensland.\nAt the conclusion of the day\, we will be having networking drinks. \n\nDATE\nWednesday 13 March 2024 8:00 AM – 4:00 PM (UTC+10)\n\nLOCATION\n\n\nR M Williams Cottage – Australian Stockman’s Hall of Fame\nLongreach Qld 4730 \n\n 
URL:https://www.tnqdroughthub.com.au/event/western-qld-grazing-studies-solutions-for-the-future/
LOCATION:DPI Building Longreach\, 10357 Landsborough Highway\, Longreach\, Queensland\, 4730\, Australia
END:VEVENT
END:VCALENDAR