BEGIN:VCALENDAR
VERSION:2.0
PRODID:-//Tropical North Queensland Drought Resilience Adoption and Innovation Hub - ECPv6.15.16//NONSGML v1.0//EN
CALSCALE:GREGORIAN
METHOD:PUBLISH
X-WR-CALNAME:Tropical North Queensland Drought Resilience Adoption and Innovation Hub
X-ORIGINAL-URL:https://www.tnqdroughthub.com.au
X-WR-CALDESC:Events for Tropical North Queensland Drought Resilience Adoption and Innovation Hub
REFRESH-INTERVAL;VALUE=DURATION:PT1H
X-Robots-Tag:noindex
X-PUBLISHED-TTL:PT1H
BEGIN:VTIMEZONE
TZID:Australia/Brisbane
BEGIN:STANDARD
TZOFFSETFROM:+1000
TZOFFSETTO:+1000
TZNAME:AEST
DTSTART:20230101T000000
END:STANDARD
END:VTIMEZONE
BEGIN:VEVENT
DTSTART;TZID=Australia/Brisbane:20240228T080000
DTEND;TZID=Australia/Brisbane:20240301T170000
DTSTAMP:20260418T155804
CREATED:20240122T234645Z
LAST-MODIFIED:20240122T234645Z
UID:7966-1709107200-1709312400@www.tnqdroughthub.com.au
SUMMARY:Breeding EDGE | Hughenden
DESCRIPTION:Location: Hughenden\, QLD \nCost:\n$1\,950 + GST / 1st person from one business.\n$1\,650 + GST / 2nd and 3rd person from same business (producers only). \nCost includes comprehensive set of workshop notes\, workbook\, electronic files\, other materials and catering. \n\n\nBreeding EDGE is a three-day workshop designed to assist producers in improving and refining their breeder herd management and genetic improvement plans using genetic and reproductive knowledge and technologies\, to achieve desired production targets. \nPresenters: \n\nFelicity Hamlyn-Hill – Beef Enterprise Advisory Services Pty Ltd\nTim Emery – Department of Agriculture & Fisheries QLD\nDr Libby Harriman – ACV & BULLCHECK accredited vet (Great Artesian Veterinary Surgery).\n\nWhat you will learn: \n\ncurrent herd performance – what measures matter most\nreproduction and reproduction loss\nmanaging the breeders – systems\nbull fertility and management\nidentifying “not so obvious” bull faults that impact reproduction\nreproductive diseases and diseases impacting reproduction\nbreeder herd management plans\ngenetic improvement of your herd (including breeding objectives)\ngenetic principles and selection tools\nselection and selection criteria for traits important to you\nbreeds and breeding systems.
URL:https://www.tnqdroughthub.com.au/event/breeding-edge-hughenden/
LOCATION:Hughenden\, Hughenden\, QLD\, Australia
ORGANIZER;CN="Meat and Livestock Australia":MAILTO:info@mla.com.au
END:VEVENT
END:VCALENDAR