BEGIN:VCALENDAR
VERSION:2.0
PRODID:-//Tropical North Queensland Drought Resilience Adoption and Innovation Hub - ECPv6.15.16//NONSGML v1.0//EN
CALSCALE:GREGORIAN
METHOD:PUBLISH
X-WR-CALNAME:Tropical North Queensland Drought Resilience Adoption and Innovation Hub
X-ORIGINAL-URL:https://www.tnqdroughthub.com.au
X-WR-CALDESC:Events for Tropical North Queensland Drought Resilience Adoption and Innovation Hub
REFRESH-INTERVAL;VALUE=DURATION:PT1H
X-Robots-Tag:noindex
X-PUBLISHED-TTL:PT1H
BEGIN:VTIMEZONE
TZID:Australia/Brisbane
BEGIN:STANDARD
TZOFFSETFROM:+1000
TZOFFSETTO:+1000
TZNAME:AEST
DTSTART:20230101T000000
END:STANDARD
END:VTIMEZONE
BEGIN:VEVENT
DTSTART;TZID=Australia/Brisbane:20240223T080000
DTEND;TZID=Australia/Brisbane:20240223T170000
DTSTAMP:20260421T061859
CREATED:20240122T234349Z
LAST-MODIFIED:20240122T234349Z
UID:7961-1708675200-1708707600@www.tnqdroughthub.com.au
SUMMARY:Business EDGE | Mt Isa\, QLD
DESCRIPTION:Location: Mt Isa\, QLD \nCost: 1 person: $1750\n2+ from business: $1500 each \n*register and pay for the workshop four weeks prior to the start date to receive the early bird discount. \n\n\nBusiness EDGE is a two-day workshop designed to enhance producer knowledge and skills in basic financial and business management to improve business efficiency and profitability. \nWhat you’ll learn: \n\nWhat’s driving profit in your business – and what’s not\nHow to set up your financial system to provide you with the information to help manage your business\nHow to demystify your financial statements\nNew infrastructure or equipment: which one will deliver the biggest bang for your buck?\nFunding for education\, succession and retirement: how much is needed and what can your business fund?
URL:https://www.tnqdroughthub.com.au/event/business-edge-mt-isa-qld-2/
LOCATION:Mount Isa\, Mount Isa\, QLD\, Australia
ORGANIZER;CN="Meat and Livestock Australia":MAILTO:info@mla.com.au
END:VEVENT
END:VCALENDAR