BEGIN:VCALENDAR
VERSION:2.0
PRODID:-//Tropical North Queensland Drought Resilience Adoption and Innovation Hub - ECPv6.15.16//NONSGML v1.0//EN
CALSCALE:GREGORIAN
METHOD:PUBLISH
X-WR-CALNAME:Tropical North Queensland Drought Resilience Adoption and Innovation Hub
X-ORIGINAL-URL:https://www.tnqdroughthub.com.au
X-WR-CALDESC:Events for Tropical North Queensland Drought Resilience Adoption and Innovation Hub
REFRESH-INTERVAL;VALUE=DURATION:PT1H
X-Robots-Tag:noindex
X-PUBLISHED-TTL:PT1H
BEGIN:VTIMEZONE
TZID:Australia/Brisbane
BEGIN:STANDARD
TZOFFSETFROM:+1000
TZOFFSETTO:+1000
TZNAME:AEST
DTSTART:20230101T000000
END:STANDARD
END:VTIMEZONE
BEGIN:VEVENT
DTSTART;TZID=Australia/Brisbane:20240219T083000
DTEND;TZID=Australia/Brisbane:20240221T170000
DTSTAMP:20260421T061910
CREATED:20240123T000241Z
LAST-MODIFIED:20240709T054756Z
UID:7977-1708331400-1708534800@www.tnqdroughthub.com.au
SUMMARY:Nutrition EDGE workshop | Longreach
DESCRIPTION:Location: Longreach\, QLD \nCost: $1\,950* + GST / 1st person from one business; $1\,650* + GST / 2nd and 3rd person from same business (primary producers only. \nCost includes comprehensive set of workshop notes\, workbook and lunch\, morning and afternoon tea each day. \n\n\nPresenter: Désirée Jackson\, Désirée Jackson Livestock Management \nNutrition EDGE is a three-day workshop and practical session covering all aspects of animal nutrition. Participants will be able to make better decisions to achieve their herd performance targets through improved breeder fertility\, weight gains\, reduced mortality\, optimal use of supplements and overall management.
URL:https://www.tnqdroughthub.com.au/event/nutrition-edge-workshop-longreach/
LOCATION:Longreach\, Longreach\, QLD\, 4730\, Australia
ORGANIZER;CN="Meat and Livestock Australia":MAILTO:info@mla.com.au
END:VEVENT
BEGIN:VEVENT
DTSTART;TZID=Australia/Brisbane:20240220T090000
DTEND;TZID=Australia/Brisbane:20240220T160000
DTSTAMP:20260421T061910
CREATED:20231215T035205Z
LAST-MODIFIED:20240709T055632Z
UID:7889-1708419600-1708444800@www.tnqdroughthub.com.au
SUMMARY:Ag Succession and Future Proofing Forum
DESCRIPTION:Join the TNQ Drought Hub and Fitzroy Basin Association for an Ag Succession and Future Proofing Forum where you will hear about: \n\nPractical solutions and strategic advice on how to manage your own unique succession journey with succession expert Scott Patterson\, Alternate Business Strategies\nMental health and drought support available for producers with Sam Van Damme\, Royal Flying Doctors Service\nAccessing QRIDA grants and loans and support available with Bradley Whittington\, QRIDA\nWhole of business sustainability with Hannah Mrowka\, Rural Financial Counselling Service\nPlus updates from Fitzroy Basin Association and TNQ Drought Hub\n\nTUESDAY 20 FEBRUARY 9:00am – 4:00pm\n9:00 – 9:15: Introduction\n9:15 – 10:30: Ag Succession\n10:30 – 11:00: Morning Tea\n11:00 – 1:00: Ag Succession\n1:00 – 2:00: Lunch\n2:00 – 2:30: RFDS Well-being\, Mental Health and Support\n2:30 – 2:45: Fitzroy Basin Association update\n2:45 – 3:15: How to access QRIDA grants and loans and the support available\n3:15 – 3.30: Rural Financial Counselling Service update\n3.30 – 4.00: Review and conclusion \nWEDNESDAY 21 FEBRUARY 9:00am – 2:00pm\nOne-on-one succession appointments with Scott Patterson Scott is available for one-on-one succession appointments to help producers go through the considerations\, complexities and\navailable assistance around succession planning. \nWhere: Emerald Town Hall\, 33 Egerton Street\, Emerald  \nCatering: Supplied – please advise of any dietary requirements when RSVPing \nRSVP/Book Your Appointment by Wednesday 14 February – Vicki Horstman\, Drought Resilience Coordinator\, Fitzroy Basin Association\, 0419 160 537 Vicki.Horstman@fba.org.au
URL:https://www.tnqdroughthub.com.au/event/ag-succession-and-future-proofing-forum-emerald/
LOCATION:Emerald\, Emerald\, Queensland\, 4720\, Australia
ORGANIZER;CN="TNQ Drought Hub":MAILTO:rachel.hay@jcu.edu.au
END:VEVENT
END:VCALENDAR