BEGIN:VCALENDAR
VERSION:2.0
PRODID:-//Tropical North Queensland Drought Resilience Adoption and Innovation Hub - ECPv6.15.16//NONSGML v1.0//EN
CALSCALE:GREGORIAN
METHOD:PUBLISH
X-ORIGINAL-URL:https://www.tnqdroughthub.com.au
X-WR-CALDESC:Events for Tropical North Queensland Drought Resilience Adoption and Innovation Hub
REFRESH-INTERVAL;VALUE=DURATION:PT1H
X-Robots-Tag:noindex
X-PUBLISHED-TTL:PT1H
BEGIN:VTIMEZONE
TZID:Australia/Brisbane
BEGIN:STANDARD
TZOFFSETFROM:+1000
TZOFFSETTO:+1000
TZNAME:AEST
DTSTART:20230101T000000
END:STANDARD
END:VTIMEZONE
BEGIN:VEVENT
DTSTART;TZID=Australia/Brisbane:20240215T090000
DTEND;TZID=Australia/Brisbane:20240216T170000
DTSTAMP:20260421T062322
CREATED:20240122T235720Z
LAST-MODIFIED:20240122T235720Z
UID:7975-1707987600-1708102800@www.tnqdroughthub.com.au
SUMMARY:Carbon EDGE pilot | Roma
DESCRIPTION:Location: Roma\, QLD \nCost: $250 ex. GST per person – sponsored places for Carbon EDGE producer testers (register before 20 January 2024). $750pp ex GST – discounted rate for pilot workshops after 20 January 2024 and non-producers. \nCost includes comprehensive manual\, workbook/planning template\, tools and resources to take home and catering. \n\n\nCarbon EDGE pilot \nCarbon EDGE is a new training program for the red meat industry. Understand the opportunities for emissions reduction and carbon storage in your livestock grazing business. \nUse your own information to develop an action plan for your business. \nPresenters: Rhonda Toms-Morgan (ConnectAg) and John McLaughlin \nAttending this workshop will help you learn: \n\nkey terminology and concepts relating to greenhouse gases (GHG) within the red meat industry\nin-depth information on the practices to reduce and sequester GHG within a livestock grazing business\nweighing up opportunities and risks associated with generating carbon credits and how they can be used to benefit livestock businesses\nunderstanding carbon neutrality and how it aligns to your business goals\ndeveloping a carbon action plan that incorporates practical\, achievable strategies to meet your objectives.\n\nYou will learn through group-based activities and tools\, applying new information to your own context with snapshot the support of an expert deliverer. Every workshop will include case studies and examples for participants to learn from. \nWho is the Carbon EDGE program for? \nThe program is for red meat producers who are looking to build on their understanding of carbon. The program will help participants move into a planning and action phase\, identifying practices and technologies that could be incorporated into their business to benefit their bottom line and the environment. It is also suitable for advisors and other service providers looking to enhance their understanding of the current operating environment.  \nPre-workshop preparation \nThe design of the Carbon EDGE workshops recognises that everyone will be at a different starting point when it comes to carbon. However\, it is highly recommended that participants complete pre-work before attending to get the best out of the program. This includes the eLearning modules available on MLA’s Toolbox and a carbon account. Your workshop deliverer will be in touch to guide you through this process.
URL:https://www.tnqdroughthub.com.au/event/carbon-edge-pilot-roma/
LOCATION:Roma\, Roma\, Queensland\, 4455\, Australia
ORGANIZER;CN="Meat and Livestock Australia":MAILTO:info@mla.com.au
END:VEVENT
BEGIN:VEVENT
DTSTART;TZID=Australia/Brisbane:20240215T120000
DTEND;TZID=Australia/Brisbane:20240215T130000
DTSTAMP:20260421T062322
CREATED:20240123T013024Z
LAST-MODIFIED:20240123T013024Z
UID:8008-1707998400-1708002000@www.tnqdroughthub.com.au
SUMMARY:TEKLAB Grains Startup Program Info Session #2
DESCRIPTION:Are you an entrepreneur with a passion for agriculture and technology? Do you have an early stage startup or a tech concept that can address challenges in the grains sector? If so\, we have an exciting opportunity for you! \nIntroducing the TEKLAB grains program\, where you can learn from industry experts\, receive personalised business coaching\, and accelerate the development of your agtech startup. \nThere are many areas in the grains sector that could be made more efficient\, sustainable and productive. Some tech applications could include: \n\nDecision making tools which provide crop yield predictions before planting\nTechnologies which provide accurate in-field diagnostics of crop health\, performance and threats\nCrop phenology decision-support tools during the growing season\nWeed management technologies to assist growers to move to less dependency on chemicals\nTechnologies which measure and monitor in-field water use productivity for cereal/pulse crops\nTechnologies which optimise the efficiency of nitrogen use in modern farming systems\n\nThis FREE introductory workshop is an opportunity to meet us face-to-face\, learn more about the program and what it can offer you\, and includes the option for a 1:1 coaching session to explore your agtech solutions further. \nCan’t wait? Ready to get going now? \nVisit the TEKLAB Grains page and APPLY NOW\nBook in a time to chat to our Program Manager James \nView the flyer for TEKLAB Grains Startup Program \nPROUDLY SPONSORED BY GRAINS RESEARCH & DEVELOPMENT CORPORATION (GRDC)
URL:https://www.tnqdroughthub.com.au/event/teklab-grains-startup-program-info-session-2/
LOCATION:Online
END:VEVENT
END:VCALENDAR