BEGIN:VCALENDAR
VERSION:2.0
PRODID:-//Tropical North Queensland Drought Resilience Adoption and Innovation Hub - ECPv6.15.16//NONSGML v1.0//EN
CALSCALE:GREGORIAN
METHOD:PUBLISH
X-ORIGINAL-URL:https://www.tnqdroughthub.com.au
X-WR-CALDESC:Events for Tropical North Queensland Drought Resilience Adoption and Innovation Hub
REFRESH-INTERVAL;VALUE=DURATION:PT1H
X-Robots-Tag:noindex
X-PUBLISHED-TTL:PT1H
BEGIN:VTIMEZONE
TZID:Australia/Brisbane
BEGIN:STANDARD
TZOFFSETFROM:+1000
TZOFFSETTO:+1000
TZNAME:AEST
DTSTART:20230101T000000
END:STANDARD
END:VTIMEZONE
BEGIN:VEVENT
DTSTART;TZID=Australia/Brisbane:20240214T090000
DTEND;TZID=Australia/Brisbane:20240214T120000
DTSTAMP:20260418T173704
CREATED:20240125T002257Z
LAST-MODIFIED:20240125T002257Z
UID:8023-1707901200-1707912000@www.tnqdroughthub.com.au
SUMMARY:Mackay Regional Pest Management Group
DESCRIPTION:AGENDA \nAgenda suggestions please contact:\nKira Andrews\nMB: 0439 308 179\nEmail: kira.andrews@reefcatchments.com \n\n\n\n\nATTENDANCE \nPlease select if will be: \n\nattending in person\nattending virtually\n\n\n\n\n\nCATERING \nFor those who are attending in person on the day\, please indicate below if you have any dietary requirements. \n\n\n\n\nMEETING ROOM LOCATION \nWalk through the backyard of Sarina Landcare Catchment Management Association (SLCMA) office\, through the small council gate\, turn left and the meeting room is at the back of the brick building. \n\n\n\n\nPARKING \nIf dry\nTake first driveway on the right on Cemetery Road\, drive parallel to Beach Road to the SLCMA office. \nIf wet\nOption 1: Park along Sarina Beach Road between SLCMA office and Cemetery Road\nOption 2: Park in the Mackay Regional Council – Sarina Depot
URL:https://www.tnqdroughthub.com.au/event/mackay-regional-pest-management-group/
LOCATION:Mackay\, Mackay\, Queensland\, 4740\, Australia
END:VEVENT
BEGIN:VEVENT
DTSTART;TZID=Australia/Brisbane:20240214T190000
DTEND;TZID=Australia/Brisbane:20240214T200000
DTSTAMP:20260418T173704
CREATED:20240122T235623Z
LAST-MODIFIED:20240122T235623Z
UID:7973-1707937200-1707940800@www.tnqdroughthub.com.au
SUMMARY:The ‘so what’ of carbon in agriculture
DESCRIPTION:Cam Nicholson is a director of Nicon Rural Services\, a consulting business near Geelong working with the grazing and cropping industries. \nCam has worked in pasture agronomy and soils for 35 years and has been involved in many farmer programs for the GRDC\, MLA\, Landcare and the current Future Drought Fund.  He provides consultancy advice to farmers and lectures on animal and pasture systems at Marcus Oldham College. His most recent work has focussed on understanding and discussing risk in farming businesses\, carbon accounting and decision making. \nHe and his wife Fiona run a 400 ha beef and sheep farm on the Bellarine Peninsula turning off cattle for the long fed feedlot market and fine wool. \nThe webinar covers: \n\nUnderstanding carbon within agriculture and grazing businesses\nThe carbon space is rapidly evolving\, how should this be approached into the future?\nThe importance of focussing on improving emissions intensity within the short term\nWhat can be done within a farm business now to improve emissions intensity?\nThe importance of due diligence when considering carbon farming schemes\n\nDate and time: 14 February 2024\, 7.00pm AEDT
URL:https://www.tnqdroughthub.com.au/event/the-so-what-of-carbon-in-agriculture/
LOCATION:Online
ORGANIZER;CN="Meat and Livestock Australia":MAILTO:info@mla.com.au
END:VEVENT
END:VCALENDAR