BEGIN:VCALENDAR
VERSION:2.0
PRODID:-//Tropical North Queensland Drought Resilience Adoption and Innovation Hub - ECPv6.15.16//NONSGML v1.0//EN
CALSCALE:GREGORIAN
METHOD:PUBLISH
X-ORIGINAL-URL:https://www.tnqdroughthub.com.au
X-WR-CALDESC:Events for Tropical North Queensland Drought Resilience Adoption and Innovation Hub
REFRESH-INTERVAL;VALUE=DURATION:PT1H
X-Robots-Tag:noindex
X-PUBLISHED-TTL:PT1H
BEGIN:VTIMEZONE
TZID:Australia/Brisbane
BEGIN:STANDARD
TZOFFSETFROM:+1000
TZOFFSETTO:+1000
TZNAME:AEST
DTSTART:20230101T000000
END:STANDARD
END:VTIMEZONE
BEGIN:VEVENT
DTSTART;TZID=Australia/Brisbane:20240207T014500
DTEND;TZID=Australia/Brisbane:20240213T180000
DTSTAMP:20260421T062358
CREATED:20230608T061225Z
LAST-MODIFIED:20230608T061225Z
UID:6022-1707270300-1707847200@www.tnqdroughthub.com.au
SUMMARY:GrazingforProfit Yeppoon QLD
DESCRIPTION:GrazingforProfit® is Australia’s longest-running business program for the grazing industry. With over 8\,000 graduates it is also the most attended management school conducted in rural Australia. \nThe school provides a holistic insight into the many factors that affect your business including the impact of climate variability and market fluctuations and ways of taking control of your business by working in sync with your resources. \nThe program deals with each concept independently as well as integrating them to ensure the most appropriate decision-making is achieved. \nGrazingforProfit® will empower you to: \n\nDefine where your business is going\nControl and manage your business\nIdentify the ‘dead wood’ in your business\nLearn strategies to manage for and recover from drought\nReduce overheads\nImprove stock health and performance\nIncrease ground cover and water utilization\nIncrease carrying capacity\nStrengthen family communications\nUse your time more effectively\nUnderstand the economics of your business\nBuild strong business relationships\n\nFor further information about the course content\, click here \nCost \nEarly Bird: $5\,000 (available until 7 December 2023) \nStandard: $5\,500 \nFurther special rates apply to: \n\nGroup bookings (two or more people from the same business)\nHigh school and university students\nRCS 7-day school graduates\nCurrent ExecutiveLink® members\n\nContact RCS on 1800 356 004 or info@rcsaustralia.com.au to discuss which rate you are eligible for. \nTo Register \nYou can register for individuals and groups through the button on this page. This registration process allows you to either pay by credit card or request an invoice which will be emailed to the address entered in the Purchaser Contact Information section. \nMoney-back Guarantee \nWe are passionate and committed to empowering you. Attend this program in its entirety with an open mind for learning\, and we are confident you will receive the tools and knowledge to return home and improve your business and relationships. If\, for any reason\, you don’t believe the program has delivered on our promise\, we will refund the entire program fee within one month of its completion. \nFull course Terms and Conditions available here. \nGot questions? \nIf you want to know more about this program\, please contact us\, and we will be happy to help.
URL:https://www.tnqdroughthub.com.au/event/grazingforprofit-yeppoon-qld/
LOCATION:Yeppoon\, Yeppoon\, Queensland\, Australia
END:VEVENT
BEGIN:VEVENT
DTSTART;TZID=Australia/Brisbane:20240207T083000
DTEND;TZID=Australia/Brisbane:20240209T170000
DTSTAMP:20260421T062358
CREATED:20240122T235258Z
LAST-MODIFIED:20240709T054750Z
UID:7970-1707294600-1707498000@www.tnqdroughthub.com.au
SUMMARY:Nutrition EDGE workshop | Longreach
DESCRIPTION:Location: Longreach\, QLD (plus paddock exercises) \nCost: $1\,950* + GST / 1st person from one business; $1\,650* + GST / 2nd and 3rd person from same business (primary producers only. Cost includes comprehensive set of workshop notes\, workbook and lunch\, morning and afternoon tea each day. *Register & pay for the workshop by 29 December to receive the early bird discount of $250. \n\n\nPresenter: Désirée Jackson\, Désirée Jackson Livestock Management
URL:https://www.tnqdroughthub.com.au/event/nutrition-edge-workshop-longreach-february/
LOCATION:Longreach\, Longreach\, QLD\, 4730\, Australia
ORGANIZER;CN="Meat and Livestock Australia":MAILTO:info@mla.com.au
END:VEVENT
END:VCALENDAR