BEGIN:VCALENDAR
VERSION:2.0
PRODID:-//Tropical North Queensland Drought Resilience Adoption and Innovation Hub - ECPv6.15.16//NONSGML v1.0//EN
CALSCALE:GREGORIAN
METHOD:PUBLISH
X-WR-CALNAME:Tropical North Queensland Drought Resilience Adoption and Innovation Hub
X-ORIGINAL-URL:https://www.tnqdroughthub.com.au
X-WR-CALDESC:Events for Tropical North Queensland Drought Resilience Adoption and Innovation Hub
REFRESH-INTERVAL;VALUE=DURATION:PT1H
X-Robots-Tag:noindex
X-PUBLISHED-TTL:PT1H
BEGIN:VTIMEZONE
TZID:Australia/Brisbane
BEGIN:STANDARD
TZOFFSETFROM:+1000
TZOFFSETTO:+1000
TZNAME:AEST
DTSTART:20230101T000000
END:STANDARD
END:VTIMEZONE
BEGIN:VEVENT
DTSTART;TZID=Australia/Brisbane:20240123T084500
DTEND;TZID=Australia/Brisbane:20240123T103000
DTSTAMP:20260421T074755
CREATED:20240123T012826Z
LAST-MODIFIED:20240123T012826Z
UID:8003-1705999500-1706005800@www.tnqdroughthub.com.au
SUMMARY:Pigeon pea Field Walk - Kingaroy
DESCRIPTION:DAF and GRDC are investing in the evaluation of new pigeon pea experimental lines at field sites in southern and central Queensland in summer 2023-24. \nDAF is also conducting additional research on pigeon pea agronomy and control of weeds and insects in pigeon pea crops. \nOur target is to build a new pigeon pea industry in Queensland\, providing growers with a profitable new broadacre summer legume crop\, and developing new export markets to Asia\, building on the success of mungbean and chickpea. \nInterested growers and agronomists can see pigeon pea in the field and understand the opportunities and issues with growing pigeon pea.
URL:https://www.tnqdroughthub.com.au/event/pigeon-pea-field-walk-kingaroy/
LOCATION:Kingaroy\, Kingaroy\, QLD\, 4610\, Australia
END:VEVENT
END:VCALENDAR