BEGIN:VCALENDAR
VERSION:2.0
PRODID:-//Tropical North Queensland Drought Resilience Adoption and Innovation Hub - ECPv6.15.16//NONSGML v1.0//EN
CALSCALE:GREGORIAN
METHOD:PUBLISH
X-ORIGINAL-URL:https://www.tnqdroughthub.com.au
X-WR-CALDESC:Events for Tropical North Queensland Drought Resilience Adoption and Innovation Hub
REFRESH-INTERVAL;VALUE=DURATION:PT1H
X-Robots-Tag:noindex
X-PUBLISHED-TTL:PT1H
BEGIN:VTIMEZONE
TZID:Australia/Brisbane
BEGIN:STANDARD
TZOFFSETFROM:+1000
TZOFFSETTO:+1000
TZNAME:AEST
DTSTART:20220101T000000
END:STANDARD
END:VTIMEZONE
BEGIN:VEVENT
DTSTART;TZID=Australia/Brisbane:20231205T080000
DTEND;TZID=Australia/Brisbane:20231206T170000
DTSTAMP:20260421T093531
CREATED:20230106T000236Z
LAST-MODIFIED:20230106T000236Z
UID:4359-1701763200-1701882000@www.tnqdroughthub.com.au
SUMMARY:Business EDGE workshop | Biloela\, QLD
DESCRIPTION:Location: Biloela\, QLD \nCost: 1 person $1750\n2+ from business $1500 each \n*register and pay for the workshop four weeks prior\nto the start date to receive the early bird discount \n\n\nBusiness EDGE is a two-day workshop designed to enhance producer knowledge and skills in basic financial and business management to improve business efficiency and profitability. \nWhat you’ll learn: \n\nWhat’s driving profit in your business – and what’s not\nHow to set up your financial system to provide you with the information to help manage your business.\nHow to demystify your financial statements\nNew infrastructure or equipment: which one will deliver the biggest bang for your buck?\nFunding for education\, succession and retirement: how much is needed and what can your business fund?
URL:https://www.tnqdroughthub.com.au/event/business-edge-workshop-biloela-qld/
LOCATION:Biloela\, Biloela\, QLD
ORGANIZER;CN="Meat and Livestock Australia":MAILTO:info@mla.com.au
END:VEVENT
BEGIN:VEVENT
DTSTART;TZID=Australia/Brisbane:20231206T090000
DTEND;TZID=Australia/Brisbane:20231206T160000
DTSTAMP:20260421T093531
CREATED:20231026T070842Z
LAST-MODIFIED:20231026T070842Z
UID:7452-1701853200-1701878400@www.tnqdroughthub.com.au
SUMMARY:Cattle\, carbon and sustainability — Moura
DESCRIPTION:The Cattle\, Carbon and Sustainability workshops are designed to help graziers make informed decision about carbon sequestration and emissions reduction strategies. Topics include: \n\nCarbon sources and sinks\nEmission baselining – how to calculate your farm footprint\nReducing emissions on farm\nCarbon projects and their legalities\nMarket signals – is the market ready for carbon-reduced products?\n\nHear from experienced presenters and facilitators:\nJosh Peart (DAF) – Josh is a grazing scientist working with DAF’s Method to Market group and is particularly interested in sustainable grazing and land management. While working in M2M\, he has predominantly been involved in carbon accounting and assessing pathways towards carbon neutrality. \nChristophe Bur (Quentic) – Christophe is a primary producer in Queensland and also an adviser to the industry. He is passionate about helping the Queensland cattle industry\, and his areas of expertise cover sustainable farming\, carbon farming and carbon neutrality. He is a registered consultant with Climate Active\, an accredited expert with Accounting for Nature\, and a Carbon Farming Approved Adviser with QRIDA. \nKylie Hopkins (DAF) – Kylie is a Beef Extension Officer with a broad knowledge of grazing land management and pasture and forage production systems. She specialised in working with graziers to help them make informed decisions about pasture development and grazing management. \nMick Sullivan (DAF) – Mick is a Beef Extension Officer with extensive experience in beef cattle breeding and genetics\, nutrition\, grazing management and beef business analysis. He has over 30 years experience working with the grazing industry. \nCost:\nFree! However\, RSVPs are required by 30 November. We will supply smoko\, lunch and workshop materials. Click here to register.
URL:https://www.tnqdroughthub.com.au/event/cattle-carbon-and-sustainability-moura/
LOCATION:Moura\, Moura\, Queensland\, 4718\, Australia
ORGANIZER;CN="Queensland Department of Agriculture & Fisheries":MAILTO:info@daf.qld.gov.au
END:VEVENT
END:VCALENDAR