BEGIN:VCALENDAR
VERSION:2.0
PRODID:-//Tropical North Queensland Drought Resilience Adoption and Innovation Hub - ECPv6.15.16//NONSGML v1.0//EN
CALSCALE:GREGORIAN
METHOD:PUBLISH
X-WR-CALNAME:Tropical North Queensland Drought Resilience Adoption and Innovation Hub
X-ORIGINAL-URL:https://www.tnqdroughthub.com.au
X-WR-CALDESC:Events for Tropical North Queensland Drought Resilience Adoption and Innovation Hub
REFRESH-INTERVAL;VALUE=DURATION:PT1H
X-Robots-Tag:noindex
X-PUBLISHED-TTL:PT1H
BEGIN:VTIMEZONE
TZID:Australia/Brisbane
BEGIN:STANDARD
TZOFFSETFROM:+1000
TZOFFSETTO:+1000
TZNAME:AEST
DTSTART:20220101T000000
END:STANDARD
END:VTIMEZONE
BEGIN:VEVENT
DTSTART;TZID=Australia/Brisbane:20231204T130000
DTEND;TZID=Australia/Brisbane:20231204T143000
DTSTAMP:20260421T093454
CREATED:20231117T003904Z
LAST-MODIFIED:20231117T003904Z
UID:7572-1701694800-1701700200@www.tnqdroughthub.com.au
SUMMARY:Future Drought Fund Virtual Public Consultation
DESCRIPTION:The Future Drought Fund (FDF) was established to provide secure\, continuous funding for investments that support Australian farmers and regional communities to prepare for\, and become more resilient to\, the impacts of future droughts. Under the FDF\, funding and investment priorities are reviewed every 4 years. A new 4-year funding cycle will commence in 2024\, with new programs from 1 July 2024. \nIn preparation for the next 4-year funding cycle\, the Australian Government is seeking your feedback on a draft Drought Resilience Funding Plan (Funding Plan)\, and draft Future Drought Fund Investment Strategy 2024 to 2028 (Investment Strategy). These documents were informed by stakeholder feedback to date as well as the recent Productivity Commission’s Inquiry Report into the effectiveness of the FDF. \nThis meeting will be held online\, from 2pm to 3:30pm on Monday 4 December 2023 AEDT. A MS Teams link will be emailed to those who register. \nYour feedback will shape the future direction of the FDF to ensure farmers and regional communities can access the necessary information\, skills\, and networks to manage drought and climate risks. \nBefore the meeting\, we suggest you: \n• read the draft Funding Plan \n• read the consultation draft Investment Strategy \nYou may also submit your feedback via a short survey or upload a submission on the department’s website.
URL:https://www.tnqdroughthub.com.au/event/future-drought-fund-virtual-public-consultation/
LOCATION:Online
END:VEVENT
END:VCALENDAR