BEGIN:VCALENDAR
VERSION:2.0
PRODID:-//Tropical North Queensland Drought Resilience Adoption and Innovation Hub - ECPv6.15.16//NONSGML v1.0//EN
CALSCALE:GREGORIAN
METHOD:PUBLISH
X-WR-CALNAME:Tropical North Queensland Drought Resilience Adoption and Innovation Hub
X-ORIGINAL-URL:https://www.tnqdroughthub.com.au
X-WR-CALDESC:Events for Tropical North Queensland Drought Resilience Adoption and Innovation Hub
REFRESH-INTERVAL;VALUE=DURATION:PT1H
X-Robots-Tag:noindex
X-PUBLISHED-TTL:PT1H
BEGIN:VTIMEZONE
TZID:Australia/Brisbane
BEGIN:STANDARD
TZOFFSETFROM:+1000
TZOFFSETTO:+1000
TZNAME:AEST
DTSTART:20220101T000000
END:STANDARD
END:VTIMEZONE
BEGIN:VEVENT
DTSTART;TZID=Australia/Brisbane:20231129T080000
DTEND;TZID=Australia/Brisbane:20231130T170000
DTSTAMP:20260421T093453
CREATED:20231026T065814Z
LAST-MODIFIED:20231026T065814Z
UID:7445-1701244800-1701363600@www.tnqdroughthub.com.au
SUMMARY:Business EDGE – Brisbane
DESCRIPTION:** Save the date – More information to come **\nGet your head around more of the ‘business side’ of your business:\n\n\n\n\n\n\n\n\ndevelop your financial knowledge and business understanding\nunderstand where your business is performing well and where it can be improved\nbetter understand how your decisions impact the bottom line of your business\ndetermine if your business can really fund future growth\, debt reduction\, retirement and succession\nensure everyone in your business is on the same page.\n\nJoin a group of like-minded producers at a Business EDGE workshop and equip yourself to improve your business skills\n\n\n\n\n\n\n\n\n\n\n\n\n  \nDuring the two days of Business EDGE Brisbane\, you will acquire the knowledge and skills to: \n\ndetermine if all the family needs and aspirations can be funded by the business\nprepare and understand key financial information on your business\nassess and manage agricultural business risk\nunderstand and manage enterprise performance\, including understanding what the key profit drivers are\, how to influence them and what effect they have on overall business performance.\n\nAnd much more … \nComprehensive course notes are provided\, along with decision support spreadsheet tools to help you apply the material to your business. Follow up is available to all participants. \nAll prices exclude GST and are fully tax deductible. Early bird applies if registered & paid 4 weeks prior to course start date. \nAttendees of Bush AgriBusiness Business EDGE workshops who do a refresher course receive 50% discount off the applicable rate. \nFully Guaranteed\nUnless you are completely satisfied that this workshop has helped you to understand and run your business more profitably\, your course fees will be returned in full\, no questions asked. \n\nExact location to be advised
URL:https://www.tnqdroughthub.com.au/event/business-edge-brisbane/
LOCATION:Brisbane\, Brisbane\, QLD\, 4000\, Australia
END:VEVENT
END:VCALENDAR