BEGIN:VCALENDAR
VERSION:2.0
PRODID:-//Tropical North Queensland Drought Resilience Adoption and Innovation Hub - ECPv6.15.16//NONSGML v1.0//EN
CALSCALE:GREGORIAN
METHOD:PUBLISH
X-ORIGINAL-URL:https://www.tnqdroughthub.com.au
X-WR-CALDESC:Events for Tropical North Queensland Drought Resilience Adoption and Innovation Hub
REFRESH-INTERVAL;VALUE=DURATION:PT1H
X-Robots-Tag:noindex
X-PUBLISHED-TTL:PT1H
BEGIN:VTIMEZONE
TZID:Australia/Brisbane
BEGIN:STANDARD
TZOFFSETFROM:+1000
TZOFFSETTO:+1000
TZNAME:AEST
DTSTART:20220101T000000
END:STANDARD
END:VTIMEZONE
BEGIN:VEVENT
DTSTART;VALUE=DATE:20231122
DTEND;VALUE=DATE:20231129
DTSTAMP:20260420T214502
CREATED:20230116T233426Z
LAST-MODIFIED:20230116T233426Z
UID:4404-1700611200-1701215999@www.tnqdroughthub.com.au
SUMMARY:The Grazing for Profit School – Townsville QLD
DESCRIPTION:The GrazingforProfit® School is Australia’s longest-running business school for the grazing industry. With over 5\,500 graduates it is also the most attended management school conducted in rural Australia. \nThe school provides a holistic insight into the many factors that affect your business including the impact of climate variability and market fluctuations and ways of taking control of your business by working in sync with your resources. \nThe program deals with each concept independently as well as integrating them to ensure the most appropriate decision making is achieved. \nThe GrazingforProfit® School will empower you to:\n*  Define where your business is going\n*  Control and manage your business\n*  Identify the ‘dead wood’ in your business\n*  Learn strategies to manage for and recover from drought\n*  Reduce overheads\n*  Improve stock health and performance\n*  Increase ground cover and water utilization\n*  Increase carrying capacity\n*  Strengthen family communications\n*  Use your time more effectively\n*  Understand the economics of your business\n*  Build strong business relationships \nFor further information about the course content\, click here \n\nHow long is the course?\nThis is a 6½ day\, face-to-face\, intensive management school. The first day commences at 2 pm sharp and runs until around 6 pm. All other days usually commence at 8 am and conclude at approximately 6 pm. The school continues right through the weekend. \n\nHow much does it cost?\nPricing varies so please call us to discuss. Full rate is $5\,500 inc. GST\, however\, substantial savings are available for early-bird bookings (cuts off two months prior to event)\, group bookings\, students\, graduates and ExecutiveLink® members.
URL:https://www.tnqdroughthub.com.au/event/the-grazing-for-profit-school-townsville-qld-2/
LOCATION:Townsville\, Townsville\, Queensland\, 4810\, Australia
ORGANIZER;CN="Resource Consulting Services":MAILTO:info@rcsaustralia.com.au
END:VEVENT
BEGIN:VEVENT
DTSTART;VALUE=DATE:20231123
DTEND;VALUE=DATE:20231124
DTSTAMP:20260420T214502
CREATED:20231010T234911Z
LAST-MODIFIED:20231010T234911Z
UID:7060-1700697600-1700783999@www.tnqdroughthub.com.au
SUMMARY:Sustainability from paddock to plate - MLA Updates
DESCRIPTION:Sustainability from paddock to plate\n\nSolutions and technology that embrace sustainability and set you up for success\nJoin us in Bendigo\, Victoria for MLA Updates 2023.   \nThis will be a day of presentations\, displays and demonstrations bringing levy payers up to speed on MLA and ISC investments and progress against our 2025 Strategic Plan. \nWith Board Director of Woolworths (Sustainability Chair)\, Fonterra and ANZ Holly Kramer as this year’s Keynote Speaker\, you will hear her insights on ‘sustainability from paddock to plate’. \nIn a following panel session\, Lambpro General Manager Tom Bull and Western Plains Beef producer Iain Bruce will appear alongside MLA Managing Director Jason Strong for a discussion on solutions and technology that will embrace sustainability and set you up for success.
URL:https://www.tnqdroughthub.com.au/event/sustainability-from-paddock-to-plate-mla-updates/
LOCATION:Bendigo\, Bendigo\, Victoria\, Australia
ORGANIZER;CN="Meat and Livestock Australia":MAILTO:info@mla.com.au
END:VEVENT
END:VCALENDAR