BEGIN:VCALENDAR
VERSION:2.0
PRODID:-//Tropical North Queensland Drought Resilience Adoption and Innovation Hub - ECPv6.15.16//NONSGML v1.0//EN
CALSCALE:GREGORIAN
METHOD:PUBLISH
X-WR-CALNAME:Tropical North Queensland Drought Resilience Adoption and Innovation Hub
X-ORIGINAL-URL:https://www.tnqdroughthub.com.au
X-WR-CALDESC:Events for Tropical North Queensland Drought Resilience Adoption and Innovation Hub
REFRESH-INTERVAL;VALUE=DURATION:PT1H
X-Robots-Tag:noindex
X-PUBLISHED-TTL:PT1H
BEGIN:VTIMEZONE
TZID:Australia/Brisbane
BEGIN:STANDARD
TZOFFSETFROM:+1000
TZOFFSETTO:+1000
TZNAME:AEST
DTSTART:20220101T000000
END:STANDARD
END:VTIMEZONE
BEGIN:VEVENT
DTSTART;TZID=Australia/Brisbane:20231121T090000
DTEND;TZID=Australia/Brisbane:20231121T150000
DTSTAMP:20260421T110049
CREATED:20231107T041124Z
LAST-MODIFIED:20231107T041309Z
UID:7541-1700557200-1700578800@www.tnqdroughthub.com.au
SUMMARY:Soil Health - the essentials
DESCRIPTION:This practical workshop introduces the concepts of Soil Health and provides participants with the practical skills and knowledge to Rapidly Assess Soil Health (RASH). \nThe RASH approach teaches the practical skills you will acquire during this workshop such as: \n\nHow to quickly Identify soil type and soil organic matter (SOM) and Rapidly Assess Soil Health – In the field!\n\n\nIdentifying soil constraints: physical\, chemical and biological limitations e.g.\, compaction\, pH\, salinity\, dispersion and water logging.\nManage your soils to better meet your needs and improve production through: planned grazing\, planting cover crops and mixed legumes and applying lime\, gypsum composts and other and fertilizer’s.
URL:https://www.tnqdroughthub.com.au/event/soil-health-the-essentials/
LOCATION:Dimbulah\, Dimbulah\, QLD\, 4872\, Australia
END:VEVENT
END:VCALENDAR