BEGIN:VCALENDAR
VERSION:2.0
PRODID:-//Tropical North Queensland Drought Resilience Adoption and Innovation Hub - ECPv6.15.16//NONSGML v1.0//EN
CALSCALE:GREGORIAN
METHOD:PUBLISH
X-ORIGINAL-URL:https://www.tnqdroughthub.com.au
X-WR-CALDESC:Events for Tropical North Queensland Drought Resilience Adoption and Innovation Hub
REFRESH-INTERVAL;VALUE=DURATION:PT1H
X-Robots-Tag:noindex
X-PUBLISHED-TTL:PT1H
BEGIN:VTIMEZONE
TZID:Australia/Brisbane
BEGIN:STANDARD
TZOFFSETFROM:+1000
TZOFFSETTO:+1000
TZNAME:AEST
DTSTART:20220101T000000
END:STANDARD
END:VTIMEZONE
BEGIN:VEVENT
DTSTART;TZID=Australia/Brisbane:20231117T083000
DTEND;TZID=Australia/Brisbane:20231117T173000
DTSTAMP:20260421T111308
CREATED:20231026T071309Z
LAST-MODIFIED:20231026T071309Z
UID:7456-1700209800-1700242200@www.tnqdroughthub.com.au
SUMMARY:Family Business Matters with Allan Parker
DESCRIPTION:Family Business Matters is a one-day workshop aimed at providing grazing family businesses with the best resources in preparing for change. Allan Parker OAM of Peak Performance Development Pty Ltd will walk you through transition management and strategies for effective communication in the morning\, followed by the opportunity to workshop with your choice of financial or legal specialists in the afternoon\, as well as hear one family’s personal journey through succession. \nHow the day will work: \nIn the morning\, Allan Parker will blow your mind in his interactive sessions. \nAfter lunch\, you will have the option to select one of three sessions on the following topics:\n– running a family meeting with Allan Parker\n– investing for your business with Dallas Davison (Money Over 50)\n– business and legal considerations of succession with Sonia Chalk (PVW Partners) and Connie Navarro (Connie Navarro Legal) \nIn the afternoon\, we wrap up with an opportunity to ask any remaining questions as all the speakers come together for a Q&A panel. \nAt the end of the day\, we invite you to join us for a social evening to catch-up with the speakers and other attendees. Canapes will be provided and a cash bar will be available. \nRSVP \nRegistrations will close November 10. \nFor more information please contact:\nBec Clapperton – 0477 345 843 or bec.clapperton@daf.qld.gov.au\nCarleigh Drew – 0400 922 342 or carleigh.drew@nqdrytropics.com.au \n\n\nLOCATION\n\n\nMercure Townsville – Crystal Room\n166-194 Woolcock Street Service Rd\, Currajong QLD 4812
URL:https://www.tnqdroughthub.com.au/event/family-business-matters-with-allan-parker/
LOCATION:Mecure Hotel Townsville\, 166-194 Woolcock Street Service Rd\, Townsville\, Queensland\, 4810\, Australia
END:VEVENT
END:VCALENDAR