BEGIN:VCALENDAR
VERSION:2.0
PRODID:-//Tropical North Queensland Drought Resilience Adoption and Innovation Hub - ECPv6.15.16//NONSGML v1.0//EN
CALSCALE:GREGORIAN
METHOD:PUBLISH
X-ORIGINAL-URL:https://www.tnqdroughthub.com.au
X-WR-CALDESC:Events for Tropical North Queensland Drought Resilience Adoption and Innovation Hub
REFRESH-INTERVAL;VALUE=DURATION:PT1H
X-Robots-Tag:noindex
X-PUBLISHED-TTL:PT1H
BEGIN:VTIMEZONE
TZID:Australia/Brisbane
BEGIN:STANDARD
TZOFFSETFROM:+1000
TZOFFSETTO:+1000
TZNAME:AEST
DTSTART:20220101T000000
END:STANDARD
END:VTIMEZONE
BEGIN:VEVENT
DTSTART;VALUE=DATE:20231114
DTEND;VALUE=DATE:20231117
DTSTAMP:20260421T124653
CREATED:20230921T034702Z
LAST-MODIFIED:20230921T034702Z
UID:6998-1699920000-1700179199@www.tnqdroughthub.com.au
SUMMARY:Australasia-Pacific Extension Network (APEN) International Conference 2023
DESCRIPTION:The Australasia-Pacific Extension Network (APEN) is proud to announce its next international conference will be held in Launceston\, Tasmania from Tuesday 14 to Thursday 16 November 2023. \nThis is the premier international event for rural and community advisory practitioners\, researchers\, policy makers\, academics and others involved in extension and education. APEN 2023 provides you with an exceptional opportunity to hear the latest extension research and practice from across Australia\, New Zealand and beyond. \nDon’t miss this unique opportunity to share knowledge\, learn new skills and improve your extension capability. Attending will enable you to hear new approaches and techniques being used in other industries and regions\, that you can then consider applying in your context. If you work in agricultural extension\, this is a fabulous opportunity for networking and connecting with your tribe!
URL:https://www.tnqdroughthub.com.au/event/australasia-pacific-extension-network-apen-international-conference-2023/
LOCATION:Launceston\, Launceston\, TAS\, Australia
END:VEVENT
BEGIN:VEVENT
DTSTART;TZID=Australia/Brisbane:20231115T130000
DTEND;TZID=Australia/Brisbane:20231115T180000
DTSTAMP:20260421T124653
CREATED:20231024T214620Z
LAST-MODIFIED:20231024T215006Z
UID:7243-1700053200-1700071200@www.tnqdroughthub.com.au
SUMMARY:Indigenous Food and Business Expo
DESCRIPTION:TNQ Drought Hub is again proud to be a partner organisation for the Indigenous Food and Business Expo on the 15th November 1-6pm\, Pier Marketplace\, Cairns. \nThe 2023 expo provides an opportunity for Indigenous Owned Businesses to showcase their products including artists\, Native foods\, and programs and services\, to meet corporate\, government and local buyers\, to build business capabilities\, and to hear about factors impacting on the Indigenous business sector. \nThis year will also feature the hub commissioned artwork Bana Mundu (Water is a Spirit) by Bernard Lee Singleton and the Cape York AFL House Cultural Dancers. \nHub Sustainable Aboriginal and Torres Strait Islander Enterprise program lead Allan Dale says “It’s great to be a partner again\, building on last year’s successful event and it’s really important to promote Indigenous businesses\, increasing the pipeline of progress to greater self-determination and employment”. \nThe Hub aims to stand beside and behind Indigenous business and community to accelerate new business opportunities and build resilience.” \nTo register for your free ticket or if you are an Indigenous Business Owner and would like to have a free stall\, please visit Indigenous Food and Business Expo
URL:https://www.tnqdroughthub.com.au/event/7243/
LOCATION:Cairns\, Cairns\, Queensland\, 4870\, Australia
END:VEVENT
END:VCALENDAR