BEGIN:VCALENDAR
VERSION:2.0
PRODID:-//Tropical North Queensland Drought Resilience Adoption and Innovation Hub - ECPv6.15.16//NONSGML v1.0//EN
CALSCALE:GREGORIAN
METHOD:PUBLISH
X-ORIGINAL-URL:https://www.tnqdroughthub.com.au
X-WR-CALDESC:Events for Tropical North Queensland Drought Resilience Adoption and Innovation Hub
REFRESH-INTERVAL;VALUE=DURATION:PT1H
X-Robots-Tag:noindex
X-PUBLISHED-TTL:PT1H
BEGIN:VTIMEZONE
TZID:Australia/Brisbane
BEGIN:STANDARD
TZOFFSETFROM:+1000
TZOFFSETTO:+1000
TZNAME:AEST
DTSTART:20220101T000000
END:STANDARD
END:VTIMEZONE
BEGIN:VEVENT
DTSTART;TZID=Australia/Brisbane:20231107T081500
DTEND;TZID=Australia/Brisbane:20231109T123000
DTSTAMP:20260421T111309
CREATED:20230608T060918Z
LAST-MODIFIED:20230608T060918Z
UID:6020-1699344900-1699533000@www.tnqdroughthub.com.au
SUMMARY:RCS Grazing Clinic - Croydon QLD
DESCRIPTION:Develop your skills as a grass manager \nThis power-packed 2.5-day workshop gives you the confidence and practical know-how to go home and begin implementing. The RCS Grazing Clinic covers the principles and practices of grazing management\, including how to design and manage a grazing cell and how to use grazing charts as a powerful planning and decision-making tool. \nTopics: \n✔ How to assess rest period and calculate graze period \n✔ How to match stocking rate to carrying capacity \n✔ How to use grazing charts to plan and make confident decisions \n✔ The 6 principles of Regenerative Grazing Management \n✔ Property design\, water design and fence planning \nCost \nEarly Bird: $1\,350 per person (available until 6th October 2023) \nStandard: $1\,650 per person \nTo Register \nFor more information or to register\, click here.
URL:https://www.tnqdroughthub.com.au/event/rcs-grazing-clinic-croydon-qld/
LOCATION:Croydon\, Croydon\, Queensland\, 4871\, Australia
ORGANIZER;CN="Resource Consulting Services":MAILTO:info@rcsaustralia.com.au
END:VEVENT
BEGIN:VEVENT
DTSTART;TZID=Australia/Brisbane:20231108T080000
DTEND;TZID=Australia/Brisbane:20231108T150000
DTSTAMP:20260421T111309
CREATED:20231026T065305Z
LAST-MODIFIED:20240709T235725Z
UID:7439-1699430400-1699455600@www.tnqdroughthub.com.au
SUMMARY:Calf Alive Research Update – Mount Isa
DESCRIPTION:Calf Alive research update\nJoin Australian specialists and researchers as they discuss the progress of the Calf Alive project which aims to reduce calf wastage across northern Australia. \nTea & coffee\, morning tea and light lunch provided. \nContact Dr Karen Eyre for more information. Phone: 0439 079 565 or email: k.turnbull1@uq.edu.au
URL:https://www.tnqdroughthub.com.au/event/calf-alive-research-update-mount-isa/
LOCATION:Mount Isa\, Mount Isa\, QLD\, Australia
END:VEVENT
END:VCALENDAR