BEGIN:VCALENDAR
VERSION:2.0
PRODID:-//Tropical North Queensland Drought Resilience Adoption and Innovation Hub - ECPv6.15.16//NONSGML v1.0//EN
CALSCALE:GREGORIAN
METHOD:PUBLISH
X-ORIGINAL-URL:https://www.tnqdroughthub.com.au
X-WR-CALDESC:Events for Tropical North Queensland Drought Resilience Adoption and Innovation Hub
REFRESH-INTERVAL;VALUE=DURATION:PT1H
X-Robots-Tag:noindex
X-PUBLISHED-TTL:PT1H
BEGIN:VTIMEZONE
TZID:Australia/Brisbane
BEGIN:STANDARD
TZOFFSETFROM:+1000
TZOFFSETTO:+1000
TZNAME:AEST
DTSTART:20220101T000000
END:STANDARD
END:VTIMEZONE
BEGIN:VEVENT
DTSTART;TZID=Australia/Brisbane:20231101T080000
DTEND;TZID=Australia/Brisbane:20231103T170000
DTSTAMP:20260421T112052
CREATED:20230825T041931Z
LAST-MODIFIED:20230825T041931Z
UID:6865-1698825600-1699030800@www.tnqdroughthub.com.au
SUMMARY:Breeding EDGE | Cloncurry Qld
DESCRIPTION:Location: Cloncurry\, Qld \nCost:\n$1\,950 + GST / 1st person from one business\n$1\,650 + GST / 2nd and 3rd person from same business (producers only); Corporate rate + GST/ 5 or more participants from the one business. \nCost includes a comprehensive set of Workshop Notes\, a Workbook\, electronic files\, other materials\, and catering. \n\n\nBreeding EDGE is a three-day workshop designed to assist producers improve and refine their breeder herd management and genetic improvement plans using genetic and reproductive knowledge and technologies\, to achieve desired production targets. \nPresenters: \n\nFelicity Hamlyn-Hill – Beef Enterprise Advisory Services Pty Ltd\nTim Emery – Department of Agriculture & Fisheries ACV & BULLCHECK accredited vet
URL:https://www.tnqdroughthub.com.au/event/breeding-edge-cloncurry-qld/
LOCATION:Cloncurry\, Cloncurry\, Queensland\, 4824\, Australia
ORGANIZER;CN="Meat and Livestock Australia":MAILTO:info@mla.com.au
END:VEVENT
BEGIN:VEVENT
DTSTART;TZID=Australia/Brisbane:20231103T180000
DTEND;TZID=Australia/Brisbane:20231103T230000
DTSTAMP:20260421T112052
CREATED:20230706T233531Z
LAST-MODIFIED:20230706T233531Z
UID:6378-1699034400-1699052400@www.tnqdroughthub.com.au
SUMMARY:Women in Digital Awards Gala
DESCRIPTION:The Women in Digital Awards were founded in 2018 based on the idea ‘you can’t be what you can’t see.’ \nThe awards are a celebration of incredible women within the digital industries and the organisations that support them. \nWe believe that unless we have more visible role models in digital and technology we won’t change the status quo. By shining a light on industry leaders\, we shine a light on the career pathways and possibilities that digital and technology provides to women. \nWe are fierce advocates of celebrating excellence and know that these awards support self-recognition and belief. In fact\, in 2022 over 88% of nominees said that they had more career confidence after completing a Women in Digital awards nomination form.
URL:https://www.tnqdroughthub.com.au/event/women-in-digital-awards-gala/
LOCATION:Brisbane Convention and Exhibition Centre\, Glenelg Street\, South Brisbane\, Queensland\, 4101\, Australia
END:VEVENT
END:VCALENDAR