BEGIN:VCALENDAR
VERSION:2.0
PRODID:-//Tropical North Queensland Drought Resilience Adoption and Innovation Hub - ECPv6.15.16//NONSGML v1.0//EN
CALSCALE:GREGORIAN
METHOD:PUBLISH
X-ORIGINAL-URL:https://www.tnqdroughthub.com.au
X-WR-CALDESC:Events for Tropical North Queensland Drought Resilience Adoption and Innovation Hub
REFRESH-INTERVAL;VALUE=DURATION:PT1H
X-Robots-Tag:noindex
X-PUBLISHED-TTL:PT1H
BEGIN:VTIMEZONE
TZID:Australia/Brisbane
BEGIN:STANDARD
TZOFFSETFROM:+1000
TZOFFSETTO:+1000
TZNAME:AEST
DTSTART:20220101T000000
END:STANDARD
END:VTIMEZONE
BEGIN:VEVENT
DTSTART;TZID=Australia/Brisbane:20231031T083000
DTEND;TZID=Australia/Brisbane:20231031T150000
DTSTAMP:20260421T111349
CREATED:20231026T071444Z
LAST-MODIFIED:20231026T071444Z
UID:7458-1698741000-1698764400@www.tnqdroughthub.com.au
SUMMARY:Multi-topic Workshop – Building drought resilience | Clermont
DESCRIPTION:This multi-topic workshop will cover practical approaches to drought preparedness\, erosion control and soil health. Learn from industry experts how to create healthy\, profitable and productive land through sustainable land management practices. Discuss how erosion can impact your soil and learn what networks and resources are available to you. \nGuest speakers  \nDarryl Hill\nSOIL AND EROSION SPECIALIST\nDarryl is highly regarded around Australia for his practical approach in achieving soil outcomes. With over 40 years of experience\, Darryl will help you find effective solutions to improve the health of soil on your land. \nDhiraj Gajera\nTROPICAL NORTH DROUGHT HUB REGIONAL SOILS COORDINATOR\nDhiraj is an experienced Agronomist who works in the farming industry. Dhiraj will help you to build vital connections in the industry and explore funding and networking opportunities. \nLochlan Jepson\nFBA LAND MANAGEMENT OFFICER\nLochlan is well-versed in land management practices and pasture management. During this workshop\, Lochlan will discusss programs and projects available to Fitzroy land managers to help them improve their productivity\, profitability and sustainability. \nWhen – Tuesday 31 October | 8:30am – 3pm\nWhere – ‘Yankee’ Gregory Development Rd\, Clermont\nRSVP by Monday 30 October to Lochlan Jepson | 0428 0202877 | lochlan.jepson@fba.org.au \nThis program is supported by Fitzroy Basin Association through funding from the Australian Government’s Future Drought Fund.
URL:https://www.tnqdroughthub.com.au/event/multi-topic-workshop-building-drought-resilience-clermont/
LOCATION:Clermont\, Clermont\, QLD\, Australia
ORGANIZER;CN="Fitzroy Basin Association":MAILTO:admin@fba.org.au
END:VEVENT
END:VCALENDAR