BEGIN:VCALENDAR
VERSION:2.0
PRODID:-//Tropical North Queensland Drought Resilience Adoption and Innovation Hub - ECPv6.15.16//NONSGML v1.0//EN
CALSCALE:GREGORIAN
METHOD:PUBLISH
X-WR-CALNAME:Tropical North Queensland Drought Resilience Adoption and Innovation Hub
X-ORIGINAL-URL:https://www.tnqdroughthub.com.au
X-WR-CALDESC:Events for Tropical North Queensland Drought Resilience Adoption and Innovation Hub
REFRESH-INTERVAL;VALUE=DURATION:PT1H
X-Robots-Tag:noindex
X-PUBLISHED-TTL:PT1H
BEGIN:VTIMEZONE
TZID:Australia/Brisbane
BEGIN:STANDARD
TZOFFSETFROM:+1000
TZOFFSETTO:+1000
TZNAME:AEST
DTSTART:20220101T000000
END:STANDARD
END:VTIMEZONE
BEGIN:VEVENT
DTSTART;TZID=Australia/Brisbane:20231017T090000
DTEND;TZID=Australia/Brisbane:20231017T220000
DTSTAMP:20260421T125629
CREATED:20230809T030329Z
LAST-MODIFIED:20230809T030329Z
UID:6528-1697533200-1697580000@www.tnqdroughthub.com.au
SUMMARY:AFI Roundtable – Beyond $100B: Connecting Australia’s Agrifood Strategies
DESCRIPTION:What is the collective noun for a group of strategies: a confusion\, a clump? Whatever it might be\, it applies to the Australian agricultural landscape. The industry is not short of ambitious\, well-constructed\, goal setting plans and strategies. Many of these strategies have been significant influencers of investment in – and perceptions of – Australian agriculture. But do they make sense as a collective? How are they connected to each other and is the whole more than the sum of the parts?  We are not lacking ideas in Australian agricultural strategy; but we need a better system to connect these multifaceted initiatives. \nJoin us on Tues 17 October in Canberra (or online) to hear from experts and participate in roundtable workshops as we discuss the theme Beyond $100 billion: Connecting Australia’s Agrifood Strategies. \nAFI Corporate and Individual members receive considerable discounts on Roundtable registration – contact us for booking details or the for the discounted Roundtable and Membership bundle. \n* EARLY BIRD OFFER – Book now for 10% off ticket prices. \nContact Kylie Smith for more information and sponsorship opportunities. \n\nDate: Tuesday 17 October 2023\nTime: 9am–10pm (Roundtable & dinner)\nLocation: Gandel Hall\, National Gallery of Australia\, Parkes Place East\, PARKES (Canberra)
URL:https://www.tnqdroughthub.com.au/event/afi-roundtable-beyond-100b-connecting-australias-agrifood-strategies/
LOCATION:Canberra\, Canberra\, ACT\, 2601
END:VEVENT
END:VCALENDAR