BEGIN:VCALENDAR
VERSION:2.0
PRODID:-//Tropical North Queensland Drought Resilience Adoption and Innovation Hub - ECPv6.15.16//NONSGML v1.0//EN
CALSCALE:GREGORIAN
METHOD:PUBLISH
X-WR-CALNAME:Tropical North Queensland Drought Resilience Adoption and Innovation Hub
X-ORIGINAL-URL:https://www.tnqdroughthub.com.au
X-WR-CALDESC:Events for Tropical North Queensland Drought Resilience Adoption and Innovation Hub
REFRESH-INTERVAL;VALUE=DURATION:PT1H
X-Robots-Tag:noindex
X-PUBLISHED-TTL:PT1H
BEGIN:VTIMEZONE
TZID:Australia/Brisbane
BEGIN:STANDARD
TZOFFSETFROM:+1000
TZOFFSETTO:+1000
TZNAME:AEST
DTSTART:20220101T000000
END:STANDARD
END:VTIMEZONE
BEGIN:VEVENT
DTSTART;TZID=Australia/Brisbane:20231008T083000
DTEND;TZID=Australia/Brisbane:20231010T170000
DTSTAMP:20260421T123800
CREATED:20230921T040451Z
LAST-MODIFIED:20230921T040451Z
UID:7005-1696753800-1696957200@www.tnqdroughthub.com.au
SUMMARY:Nutrition EDGE workshop Charters Towers\, Qld
DESCRIPTION:Location: Charters Towers\, QLD \nCost:\n$1\,950* + GST / 1st person from one business; $1\,650* + GST / 2nd and 3rd person from same business (primary producers only. \nCost includes comprehensive set of workshop notes\, workbook and lunch\, morning and afternoon tea each day. \n\n\nNutrition EDGE is a three-day workshop and practical session covering all aspects of animal nutrition. Participants will be able to make better decisions to achieve their herd performance targets through improved breeder fertility\, weight gains\, reduced mortality\, optimal use of supplements and overall management. \nPresenter: Désirée Jackson\, Désirée Jackson Livestock Management
URL:https://www.tnqdroughthub.com.au/event/nutrition-edge-workshop-charters-towers-qld/
LOCATION:Charters Towers\, Charters Towers\, Queensland\, 4820\, Australia
ORGANIZER;CN="Meat and Livestock Australia":MAILTO:info@mla.com.au
END:VEVENT
BEGIN:VEVENT
DTSTART;VALUE=DATE:20231010
DTEND;VALUE=DATE:20231014
DTSTAMP:20260421T123800
CREATED:20230804T032616Z
LAST-MODIFIED:20230804T032616Z
UID:6506-1696896000-1697241599@www.tnqdroughthub.com.au
SUMMARY:SENSIBLE SUPPLEMENTATION
DESCRIPTION:SENSIBLE SUPPLEMENTATION\nDry season nutrition management workshop\n\nHow’s your pasture quality?\nWhat are you supplementing?\nHow much will it cost you?\n\nTues 10th October – Greenvale\nThurs 12th October – Belyando\nFriday 13th October- Alpha\n\n9 am – 1:30 pm NO COST\n\nThis workshop will help you to manage your pasture and supplement through the dry season. \nTopics covered include: \n• Practical cattle nutrition \n• Cattle nutritional requirements \n• Reading supplement labels \n• Understanding supplement ingredients \n• Cost analysis of supplements \n• Feeding management \n• Animal welfare during the dry season \n  \nHear from: \nMick Sullivan (DAF) Mick is a Beef Extension Officer with extensive experience in beef cattle breeding and genetics\, nutrition\, grazing management and beef business analysis. \nAnd other local DAF Beef Extension Officers. \n  \nWe will supply: \n– Smoko \n– Supplement assessments \n– Lick intake calculator \n– Workshop notes \n  \nPlease bring labels and information on lick products you are currently feeding: \n– Specs for protein\, energy and phosphorus \n– Cost per tonne including freight \n– Class of cattle being fed \n– How much lick cattle are eating \n  \nRSVP Thursday 5th October
URL:https://www.tnqdroughthub.com.au/event/sensible-supplementation/
LOCATION:Queensland
ORGANIZER;CN="Queensland Department of Agriculture & Fisheries":MAILTO:info@daf.qld.gov.au
END:VEVENT
END:VCALENDAR