BEGIN:VCALENDAR
VERSION:2.0
PRODID:-//Tropical North Queensland Drought Resilience Adoption and Innovation Hub - ECPv6.15.16//NONSGML v1.0//EN
CALSCALE:GREGORIAN
METHOD:PUBLISH
X-ORIGINAL-URL:https://www.tnqdroughthub.com.au
X-WR-CALDESC:Events for Tropical North Queensland Drought Resilience Adoption and Innovation Hub
REFRESH-INTERVAL;VALUE=DURATION:PT1H
X-Robots-Tag:noindex
X-PUBLISHED-TTL:PT1H
BEGIN:VTIMEZONE
TZID:Australia/Brisbane
BEGIN:STANDARD
TZOFFSETFROM:+1000
TZOFFSETTO:+1000
TZNAME:AEST
DTSTART:20220101T000000
END:STANDARD
END:VTIMEZONE
BEGIN:VEVENT
DTSTART;VALUE=DATE:20231006
DTEND;VALUE=DATE:20231009
DTSTAMP:20260421T123214
CREATED:20230725T223846Z
LAST-MODIFIED:20230803T231344Z
UID:6422-1696550400-1696809599@www.tnqdroughthub.com.au
SUMMARY:Australian Women in Agriculture - 2023 National Conference
DESCRIPTION:The AWiA conference will be held in Albury-Wodonga\, on the 6th-8th of October\, 2023.  \nThis conference will be like no other women-in-ag event with up-to-date industry knowledge sharing\, a power-packed lineup of speakers\, and promotion of women’s leadership opportunities. \nThe theme ‘Seed to Success’ is relevant in many ways for individuals\, businesses\, communities\, or industries. This theme will be explored throughout the conference to inform and inspire delegates to aim higher\, collaborate wider\, and influence stronger. The conference will also touch on well-being especially since we have experienced significant climatic events in recent times and intend to have a strong first nations delegation and speakers. \nPlease save the date to join us from the evening of Friday 6th of October to Sunday 8th of October. Ticketing\, conference details & special AWIA access to discounted accommodation rates will be available in the coming weeks.
URL:https://www.tnqdroughthub.com.au/event/australian-women-in-agriculture-2023-national-conference/
LOCATION:Albury-Wodonga\, Albury-Wodonga\, Australia
END:VEVENT
END:VCALENDAR