BEGIN:VCALENDAR
VERSION:2.0
PRODID:-//Tropical North Queensland Drought Resilience Adoption and Innovation Hub - ECPv6.15.16//NONSGML v1.0//EN
CALSCALE:GREGORIAN
METHOD:PUBLISH
X-ORIGINAL-URL:https://www.tnqdroughthub.com.au
X-WR-CALDESC:Events for Tropical North Queensland Drought Resilience Adoption and Innovation Hub
REFRESH-INTERVAL;VALUE=DURATION:PT1H
X-Robots-Tag:noindex
X-PUBLISHED-TTL:PT1H
BEGIN:VTIMEZONE
TZID:Australia/Brisbane
BEGIN:STANDARD
TZOFFSETFROM:+1000
TZOFFSETTO:+1000
TZNAME:AEST
DTSTART:20220101T000000
END:STANDARD
END:VTIMEZONE
BEGIN:VEVENT
DTSTART;VALUE=DATE:20230917
DTEND;VALUE=DATE:20230923
DTSTAMP:20260421T143447
CREATED:20230825T041225Z
LAST-MODIFIED:20230825T041225Z
UID:6857-1694908800-1695427199@www.tnqdroughthub.com.au
SUMMARY:Growers invited to express interest in study tour in WA
DESCRIPTION:
URL:https://www.tnqdroughthub.com.au/event/growers-invited-to-express-interest-in-study-tour-in-wa/
LOCATION:Queensland
END:VEVENT
BEGIN:VEVENT
DTSTART;VALUE=DATE:20230918
DTEND;VALUE=DATE:20230923
DTSTAMP:20260421T143447
CREATED:20230116T233711Z
LAST-MODIFIED:20230116T233711Z
UID:4406-1694995200-1695427199@www.tnqdroughthub.com.au
SUMMARY:The Australian Rangeland Society 22nd Biennial Conference
DESCRIPTION:18-22 September 2023  |  Broome Civic Centre\, Western Australia \nAustralia’s rangelands cover 80% of the country and in 2016 were home to 394\,000 people. More commonly known as the ‘outback’\, rangelands support about 6\,000 pastoral businesses and many of Australia’s Indigenous people. They are culturally important to all Australians and a key component of Australia’s identity. \nThe rangelands make a significant contribution to Australia’s economy*. Annual gross revenue from mining and oil and gas is $96 billion(value added)\, tourism is $2.7 billion\, and pastoralism and agriculture combined are worth $5.5 billion. There is limited national data for other products such as bush foods and rangeland timbers although the value of kangaroo production approaches $200 million.
URL:https://www.tnqdroughthub.com.au/event/the-australian-rangeland-society-22nd-biennial-conference/
LOCATION:Broome\, Broome\, Western Australia\, 6725\, Australia
END:VEVENT
END:VCALENDAR