BEGIN:VCALENDAR
VERSION:2.0
PRODID:-//Tropical North Queensland Drought Resilience Adoption and Innovation Hub - ECPv6.15.16//NONSGML v1.0//EN
CALSCALE:GREGORIAN
METHOD:PUBLISH
X-WR-CALNAME:Tropical North Queensland Drought Resilience Adoption and Innovation Hub
X-ORIGINAL-URL:https://www.tnqdroughthub.com.au
X-WR-CALDESC:Events for Tropical North Queensland Drought Resilience Adoption and Innovation Hub
REFRESH-INTERVAL;VALUE=DURATION:PT1H
X-Robots-Tag:noindex
X-PUBLISHED-TTL:PT1H
BEGIN:VTIMEZONE
TZID:Australia/Brisbane
BEGIN:STANDARD
TZOFFSETFROM:+1000
TZOFFSETTO:+1000
TZNAME:AEST
DTSTART:20220101T000000
END:STANDARD
END:VTIMEZONE
BEGIN:VEVENT
DTSTART;VALUE=DATE:20230826
DTEND;VALUE=DATE:20230902
DTSTAMP:20260421T143034
CREATED:20230706T233353Z
LAST-MODIFIED:20230706T233410Z
UID:6374-1693008000-1693612799@www.tnqdroughthub.com.au
SUMMARY:Something Fest
DESCRIPTION:Queensland’s Digital\, Innovation and Technology Festival.\n\n\n\n\n\nAugust 26 – September 1. Brisbane.\n\n\nA big picture focus on innovation in QLD\, looking at the polices which will shape us and the investment opportunities which will grow our beautiful state. \nPresented by the Office of the QLD Chief Entrepreneur. \n\n\nRun as a week long collaborative festival\, Something Fest 2023 will be made up of a series of events and activations that are designed to take attendees on a journey to all corners of our digital\, innovation and tech ecosystem.
URL:https://www.tnqdroughthub.com.au/event/something-fest/
LOCATION:Various
END:VEVENT
BEGIN:VEVENT
DTSTART;VALUE=DATE:20230828
DTEND;VALUE=DATE:20230901
DTSTAMP:20260421T143034
CREATED:20230606T041910Z
LAST-MODIFIED:20230606T041910Z
UID:5977-1693180800-1693526399@www.tnqdroughthub.com.au
SUMMARY:PESTS\, PARTNERSHIPS & PEOPLE POWER
DESCRIPTION:The Pest Animal and Weed Symposium 2023 (PAWS 2023) presented by Invasive Species Queensland and hosted by Western Downs Regional Council\, will be held on 28-31 August 2023 at the Dalby Event Centre. \nPAWS 2019 seems like a lifetime ago\, due to the pandemic induced break. It’s high time to join forces\, share our superpowers and get back in the saddle again. The ideas\, innovation and technological advancements of the past 4 years are surging\, and we can’t wait to share it all with you! \nPests\, Partnerships & People Power is the 2023 symposium theme\, with a focus on practical solutions\, ideas and innovations for pest animal and weed management. Let’s focus on the importance of partnering\, whether it be state and local government\, researchers and operations or the community and industry. We can have a greater impact on pest animals and weeds when we collaborate with People Power to ensure effective solutions are implemented. \nThe Dalby Event Centre offers ample space for outdoor or practical demonstrations\, which is a fantastic opportunity to showcase effective solutions for managing pest animals and weeds. This will be especially helpful for attendees who prefer to learn through hands-on experiences. Our aim is to utilise the resources and land space to create a symposium with a difference\, focusing on practical solutions\, on-ground applications and collaboration at all levels. \nField trips are a crowd favourite and allow attendees to see firsthand the successful management strategies and technologies in action\, that impact the environment\, economy\, community and lifestyle of the Western Downs.
URL:https://www.tnqdroughthub.com.au/event/pests-partnerships-people-power/
LOCATION:Dalby\, Dalby\, Queensland
END:VEVENT
END:VCALENDAR