BEGIN:VCALENDAR
VERSION:2.0
PRODID:-//Tropical North Queensland Drought Resilience Adoption and Innovation Hub - ECPv6.15.16//NONSGML v1.0//EN
CALSCALE:GREGORIAN
METHOD:PUBLISH
X-WR-CALNAME:Tropical North Queensland Drought Resilience Adoption and Innovation Hub
X-ORIGINAL-URL:https://www.tnqdroughthub.com.au
X-WR-CALDESC:Events for Tropical North Queensland Drought Resilience Adoption and Innovation Hub
REFRESH-INTERVAL;VALUE=DURATION:PT1H
X-Robots-Tag:noindex
X-PUBLISHED-TTL:PT1H
BEGIN:VTIMEZONE
TZID:Australia/Brisbane
BEGIN:STANDARD
TZOFFSETFROM:+1000
TZOFFSETTO:+1000
TZNAME:AEST
DTSTART:20220101T000000
END:STANDARD
END:VTIMEZONE
BEGIN:VEVENT
DTSTART;VALUE=DATE:20230822
DTEND;VALUE=DATE:20230826
DTSTAMP:20260421T151658
CREATED:20221003T232729Z
LAST-MODIFIED:20221003T232729Z
UID:3572-1692662400-1693007999@www.tnqdroughthub.com.au
SUMMARY:2023 Northern Beef Research Update Conference
DESCRIPTION:
URL:https://www.tnqdroughthub.com.au/event/2023-northern-beef-research-update-conference/
LOCATION:Darwin\, Darwin\, Northern Territory\, 0800\, Australia
END:VEVENT
BEGIN:VEVENT
DTSTART;TZID=Australia/Brisbane:20230823T110000
DTEND;TZID=Australia/Brisbane:20230823T140000
DTSTAMP:20260421T151658
CREATED:20230718T053959Z
LAST-MODIFIED:20230718T053959Z
UID:6409-1692788400-1692799200@www.tnqdroughthub.com.au
SUMMARY:AgForce Cane AGM
DESCRIPTION:Join the AgForce Cane Board for their 5th Annual AGM\, 11:00am on the 23rd August 2023. \nPlease join the Cane Board for morning tea from 10:30am. \nPCYC Burdekin\, 164 McMillan street AYR QLD 4807 \n \n 
URL:https://www.tnqdroughthub.com.au/event/agforce-cane-agm/
LOCATION:Ayr\, Ayr\, Queensland\, 4807\, Australia
ORGANIZER;CN="AgForce":MAILTO:agforce@agforceqld.org.au
END:VEVENT
BEGIN:VEVENT
DTSTART;TZID=Australia/Brisbane:20230823T110000
DTEND;TZID=Australia/Brisbane:20230823T140000
DTSTAMP:20260421T151658
CREATED:20230804T042409Z
LAST-MODIFIED:20230804T042409Z
UID:6516-1692788400-1692799200@www.tnqdroughthub.com.au
SUMMARY:AgForce Cane AGM
DESCRIPTION:Join the AgForce Cane Board for their 5th Annual AGM\, 11:00am on the 23rd August 2023. \nPlease join the Cane Board for morning tea from 10:30am. \nPCYC Burdekin\, 164 McMillan street AYR QLD 4807
URL:https://www.tnqdroughthub.com.au/event/agforce-cane-agm-2/
LOCATION:Ayr\, Ayr\, Queensland\, 4807\, Australia
ORGANIZER;CN="AgForce":MAILTO:agforce@agforceqld.org.au
END:VEVENT
BEGIN:VEVENT
DTSTART;TZID=Australia/Brisbane:20230823T120000
DTEND;TZID=Australia/Brisbane:20230823T140000
DTSTAMP:20260421T151658
CREATED:20230804T042730Z
LAST-MODIFIED:20230804T042730Z
UID:6518-1692792000-1692799200@www.tnqdroughthub.com.au
SUMMARY:AgForce Corporate Partners' Lunch
DESCRIPTION:Please join AgForce and Australian Retirement Trust (ART) for lunch and an informative discussion about the many challenges facing businesses during this period of global economic uncertainty. \nHear from ART’s Chief Economist\, Brian Parker\, who will provide an overview of how the world and Australian economies have been performing and prospects for the years ahead. In short\, Brian will set the scene for our panel discussion. \n  \nMDH Pty Ltd ’s Chief Financial Officer\, Julie McDonald and FTI Consulting’s Senior Managing Director and Head of Agribusiness Asia Pacific\, Ben Waters\, will join Brian to dive into what all this may mean for Australian industry and for economic conditions in our regions. \n  \nWell- known journalist and ex-ABC reporter\, Peter Lewis\, will be our guest MC. \n  \nWe hope you can join us. \n  \nWHEN: 12:00pm – 2:00pm\, Wednesday 23 August 2023 \nWHERE: Level 37\, ART offices\, 266 George St\, Brisbane \nDRESS CODE: Business Casual \nRSVP: Friday 19 August 2023 @Eventbrite \nEquiries: \n  \nPhillipa Houston M: 0488 002 091 or E: houstonp@agforceqld.org.au
URL:https://www.tnqdroughthub.com.au/event/agforce-corporate-partners-lunch/
LOCATION:Brisbane\, Brisbane\, QLD\, 4000\, Australia
ORGANIZER;CN="AgForce":MAILTO:agforce@agforceqld.org.au
END:VEVENT
BEGIN:VEVENT
DTSTART;TZID=Australia/Brisbane:20230823T130000
DTEND;TZID=Australia/Brisbane:20230824T150000
DTSTAMP:20260421T151658
CREATED:20230804T044110Z
LAST-MODIFIED:20230804T044110Z
UID:6524-1692795600-1692889200@www.tnqdroughthub.com.au
SUMMARY:REGENERATIVE RANCHING FOR RESILIENT LANDSCAPES
DESCRIPTION:Mexican rancher Alejandro Carrillo rehabilitated the land on his family’s ranch in the Chihuahuan Desert by adopting regenerative grazing principles. \nThis two-day workshop\, beginning with theory and overall aims includes an optional dinner (provided) at the Opal Ridge Motel at the end of Day One. \nOn Day Two\, Alejandro will lead a workshop in the field at the Mt Pleasant Leaning Hub. (Lunch and morning tea is provided). \nAcross the two days\, Alejandro will range across a number of subjects including: \n\nsoil fertility;\ngenetic selection;\nthe water cycle;\nregenerative grazing;\nrisk management;\nreturn on investment;\ninvasive pests;\nresilience; and\nprofitability.\n\n  \nContact OLIVIA PENMAN (m: 0427 924 027 e: olivia.penman@nqdrytropics.com.au) to reserve a place.
URL:https://www.tnqdroughthub.com.au/event/regenerative-ranching-for-resilient-landscapes/
LOCATION:Collinsville\, Collinsville\, QLD\, 4804\, Australia
END:VEVENT
END:VCALENDAR