BEGIN:VCALENDAR
VERSION:2.0
PRODID:-//Tropical North Queensland Drought Resilience Adoption and Innovation Hub - ECPv6.15.16//NONSGML v1.0//EN
CALSCALE:GREGORIAN
METHOD:PUBLISH
X-WR-CALNAME:Tropical North Queensland Drought Resilience Adoption and Innovation Hub
X-ORIGINAL-URL:https://www.tnqdroughthub.com.au
X-WR-CALDESC:Events for Tropical North Queensland Drought Resilience Adoption and Innovation Hub
REFRESH-INTERVAL;VALUE=DURATION:PT1H
X-Robots-Tag:noindex
X-PUBLISHED-TTL:PT1H
BEGIN:VTIMEZONE
TZID:Australia/Brisbane
BEGIN:STANDARD
TZOFFSETFROM:+1000
TZOFFSETTO:+1000
TZNAME:AEST
DTSTART:20220101T000000
END:STANDARD
END:VTIMEZONE
BEGIN:VEVENT
DTSTART;VALUE=DATE:20230822
DTEND;VALUE=DATE:20230826
DTSTAMP:20260421T151657
CREATED:20221003T232729Z
LAST-MODIFIED:20221003T232729Z
UID:3572-1692662400-1693007999@www.tnqdroughthub.com.au
SUMMARY:2023 Northern Beef Research Update Conference
DESCRIPTION:
URL:https://www.tnqdroughthub.com.au/event/2023-northern-beef-research-update-conference/
LOCATION:Darwin\, Darwin\, Northern Territory\, 0800\, Australia
END:VEVENT
END:VCALENDAR