BEGIN:VCALENDAR
VERSION:2.0
PRODID:-//Tropical North Queensland Drought Resilience Adoption and Innovation Hub - ECPv6.15.16//NONSGML v1.0//EN
CALSCALE:GREGORIAN
METHOD:PUBLISH
X-WR-CALNAME:Tropical North Queensland Drought Resilience Adoption and Innovation Hub
X-ORIGINAL-URL:https://www.tnqdroughthub.com.au
X-WR-CALDESC:Events for Tropical North Queensland Drought Resilience Adoption and Innovation Hub
REFRESH-INTERVAL;VALUE=DURATION:PT1H
X-Robots-Tag:noindex
X-PUBLISHED-TTL:PT1H
BEGIN:VTIMEZONE
TZID:Australia/Brisbane
BEGIN:STANDARD
TZOFFSETFROM:+1000
TZOFFSETTO:+1000
TZNAME:AEST
DTSTART:20220101T000000
END:STANDARD
END:VTIMEZONE
BEGIN:VEVENT
DTSTART;TZID=Australia/Brisbane:20230817T090000
DTEND;TZID=Australia/Brisbane:20230817T160000
DTSTAMP:20260421T151651
CREATED:20230804T043737Z
LAST-MODIFIED:20230804T043737Z
UID:6522-1692262800-1692288000@www.tnqdroughthub.com.au
SUMMARY:Maps & Apps Townsville
DESCRIPTION:Maps and Apps Workshop — Townsville\nGet the most out of this great planning tool\nLearn to use mapping applications Queensland Globe and Avenza\, and explore the utilities of cloud-based storage. Use in-depth education on the intricacies of Queensland Globe and MyForage to produce a detailed map of your property. \nA laptop and mobile device are essential for this workshop.
URL:https://www.tnqdroughthub.com.au/event/maps-apps-townsville/
LOCATION:Townsville\, Townsville\, Queensland\, 4810\, Australia
END:VEVENT
END:VCALENDAR