BEGIN:VCALENDAR
VERSION:2.0
PRODID:-//Tropical North Queensland Drought Resilience Adoption and Innovation Hub - ECPv6.15.16//NONSGML v1.0//EN
CALSCALE:GREGORIAN
METHOD:PUBLISH
X-ORIGINAL-URL:https://www.tnqdroughthub.com.au
X-WR-CALDESC:Events for Tropical North Queensland Drought Resilience Adoption and Innovation Hub
REFRESH-INTERVAL;VALUE=DURATION:PT1H
X-Robots-Tag:noindex
X-PUBLISHED-TTL:PT1H
BEGIN:VTIMEZONE
TZID:Australia/Brisbane
BEGIN:STANDARD
TZOFFSETFROM:+1000
TZOFFSETTO:+1000
TZNAME:AEST
DTSTART:20220101T000000
END:STANDARD
END:VTIMEZONE
BEGIN:VEVENT
DTSTART;TZID=Australia/Brisbane:20230815T140000
DTEND;TZID=Australia/Brisbane:20230815T170000
DTSTAMP:20260421T151650
CREATED:20230804T024953Z
LAST-MODIFIED:20230804T024953Z
UID:6497-1692108000-1692118800@www.tnqdroughthub.com.au
SUMMARY:Wowan & Dululu Feral Pig Workshop
DESCRIPTION:Are feral pigs impacting your business? \nThe Wowan and Dululu Landcare group have funds available to address problems affecting local land managers. \nCome along and join forces to help control local feral pigs and improve your profits. \nPLUS work with locals to explore opportunities to improve local production and the environment. The Wowan and Dululu Landcare Group is seeking new members to drive local action. They are looking for new faces and fresh ideas. \nTuesday 15 August\n2pm – 5pm\nWowan RSL Hall\n146 Don St\nWowan QLD 4702 \n  \nRSVP\nMonday 14 August\nSheree Johnston\nFBA Land Management Officer\n0448 219 982 \nSheree.johnston@fba.org.au \nNeal Johansen\nWowan & Dululu Landcare President\n0428 452 878 \nVicki Lawrence\nWowan & Dululu Landcare Secretary/Treasurer\n0473 008 538
URL:https://www.tnqdroughthub.com.au/event/wowan-dululu-feral-pig-workshop/
LOCATION:Wowan\, Wowan\, QLD\, 4702\, Australia
ORGANIZER;CN="Fitzroy Basin Association":MAILTO:admin@fba.org.au
END:VEVENT
END:VCALENDAR