BEGIN:VCALENDAR
VERSION:2.0
PRODID:-//Tropical North Queensland Drought Resilience Adoption and Innovation Hub - ECPv6.15.16//NONSGML v1.0//EN
CALSCALE:GREGORIAN
METHOD:PUBLISH
X-ORIGINAL-URL:https://www.tnqdroughthub.com.au
X-WR-CALDESC:Events for Tropical North Queensland Drought Resilience Adoption and Innovation Hub
REFRESH-INTERVAL;VALUE=DURATION:PT1H
X-Robots-Tag:noindex
X-PUBLISHED-TTL:PT1H
BEGIN:VTIMEZONE
TZID:Australia/Brisbane
BEGIN:STANDARD
TZOFFSETFROM:+1000
TZOFFSETTO:+1000
TZNAME:AEST
DTSTART:20220101T000000
END:STANDARD
END:VTIMEZONE
BEGIN:VEVENT
DTSTART;TZID=Australia/Brisbane:20230810T083000
DTEND;TZID=Australia/Brisbane:20230810T170000
DTSTAMP:20260421T151647
CREATED:20230704T061827Z
LAST-MODIFIED:20230704T061827Z
UID:6309-1691656200-1691686800@www.tnqdroughthub.com.au
SUMMARY:Agtech Field Day – Belmont Station
DESCRIPTION:Put August 10 in your diary – Belmont Research Station will be opening its gates for a GxExM Agtech Field Day.\n\n\n\nTo be hosted by the Central Queensland Livestock Centre of Excellence\, the field day will connect the dots between environmental\, business and genetic selection pressures with the latest technologies and research insights.\n\n\n\nThe CQ Livestock Centre of Excellence is a partnership between CQUniversity Australia\, AgForce Queensland\, Queensland Agriculture and I believe in a sustainable CQ (Fitzroy Basin Association – FBA)\, which aims to improve on-farm productivity through producer-led research and extension activities.\n\n\nThe field day is the latest in a series the collaboration has held at Belmont since its inception in 2018.\n\n\nWith carbon-neutrality and drought preparedness currently front of mind for the industry as El Nino looms large\, this year’s field day will include new tools and techniques to monitor and maintain land condition\, optimize pasture cover and productivity\, measure carbon footprint and mitigate methane emissions\, and connect these new performance drivers to genetic selection.\n\n\n\nPresentations will include:\n• QDAF on land condition measurement tools and the latest pasture productivity research;\n• AgForce on its AgCarE tool to measure the natural capital of grazing businesses;\n• FBA on setting stocking rates in response to climate forecasts\, and strategic tree planting to mitigate heat stress;\n• The TNQ Drought Hub and agtech developers on the latest drought preparedness tools; and\n• CQU researchers and 5 Star Senepol on automated phenotyping technologies and dynamic nutritional supplementation to mitigate methane emissions.\n\n\n\nThe field day will commence at 8:30am on Thursday\, 10 August 2023\, at Belmont Research Station\, 887 Etna Creek Rd\, 30 minutes north of Rockhampton.
URL:https://www.tnqdroughthub.com.au/event/agtech-field-day-belmont-station/
LOCATION:Queensland
END:VEVENT
END:VCALENDAR