BEGIN:VCALENDAR
VERSION:2.0
PRODID:-//Tropical North Queensland Drought Resilience Adoption and Innovation Hub - ECPv6.15.16//NONSGML v1.0//EN
CALSCALE:GREGORIAN
METHOD:PUBLISH
X-WR-CALNAME:Tropical North Queensland Drought Resilience Adoption and Innovation Hub
X-ORIGINAL-URL:https://www.tnqdroughthub.com.au
X-WR-CALDESC:Events for Tropical North Queensland Drought Resilience Adoption and Innovation Hub
REFRESH-INTERVAL;VALUE=DURATION:PT1H
X-Robots-Tag:noindex
X-PUBLISHED-TTL:PT1H
BEGIN:VTIMEZONE
TZID:Australia/Brisbane
BEGIN:STANDARD
TZOFFSETFROM:+1000
TZOFFSETTO:+1000
TZNAME:AEST
DTSTART:20220101T000000
END:STANDARD
END:VTIMEZONE
BEGIN:VEVENT
DTSTART;VALUE=DATE:20230724
DTEND;VALUE=DATE:20230727
DTSTAMP:20260421T151636
CREATED:20221121T051808Z
LAST-MODIFIED:20221121T061656Z
UID:3890-1690156800-1690415999@www.tnqdroughthub.com.au
SUMMARY:Developing Northern Australia conference
DESCRIPTION:The Developing Northern Australia conference is where government\, business\, local community\, commerce and culture mix\, meet and plan a new way forward. \nOur theme this year is An Outwards Looking North: Our Place in a Changing World \nWith unprecedented global change\, what steps need to happen so that we can re-orient ourselves in a more turbulent world; both increasing our sovereign capability and our resilience? \nPost-covid transitions\, high energy costs\, disrupted supply chains and the rush to decarbonize the economy might present great opportunities. At the same time\, Indigenous led diplomacy\, trade\, business and nation building gathers significant pace. \nAcross all of these opportunities\, however\, we will need to compete well in the global race for population\, skills and more affordable energy. \nIt’s time to show the world Northern Australia can take a global lead navigating the coming economic and societal transitions. \nDNA is the only conference to focus on Northern Australian core issues\, policies\, solutions and outcomes. The policy makers\, decision makers\, officials and leaders in the room represent the best collection of minds all working together for a stronger\, healthier\, more cohesive Northern Australia. \nJoin us and be part of the future.
URL:https://www.tnqdroughthub.com.au/event/developing-northern-australia-conference-2/
LOCATION:Darwin\, Darwin\, Northern Territory\, 0800\, Australia
END:VEVENT
BEGIN:VEVENT
DTSTART;VALUE=DATE:20230725
DTEND;VALUE=DATE:20230728
DTSTAMP:20260421T151636
CREATED:20230627T213649Z
LAST-MODIFIED:20230627T220016Z
UID:6200-1690243200-1690502399@www.tnqdroughthub.com.au
SUMMARY:Climate Adaptation 2023
DESCRIPTION:The NESP Climate Systems Hub invites you to join us for Australia’s next national adaptation conference to be held in Adelaide from 25th – 27th July 2023. \nThe conference is Australia’s preeminent event focused exclusively on climate vulnerability\, impacts and adaptation. It is an opportunity to share knowledge and experience\, to network and strengthen the growing community of adaptation practice and research in Australia. \nThe program across three days includes plenary sessions focused on key voices\, panel sessions and workshops addressing specific challenges\, and thematic sessions of delegate presentations.\nWe also offer a pre-conference day on the 24th July for early career professionals. \nClimate Adaptation 2023 is Australia’s preeminent adaptation event. It is an opportunity for delegates to meet with and learn from their peers\, researchers\, and practitioners. The conference is a must for anyone planning for adaptation in their organisation\, implementing adaptation options\, assessing climate risks or preparing to do so. It is also an opportunity for researchers working to build the knowledge to support these activities.
URL:https://www.tnqdroughthub.com.au/event/climate-adaptation-2023/
LOCATION:Adelaide\, Adelaide\, South Australia
END:VEVENT
END:VCALENDAR