BEGIN:VCALENDAR
VERSION:2.0
PRODID:-//Tropical North Queensland Drought Resilience Adoption and Innovation Hub - ECPv6.15.16//NONSGML v1.0//EN
CALSCALE:GREGORIAN
METHOD:PUBLISH
X-WR-CALNAME:Tropical North Queensland Drought Resilience Adoption and Innovation Hub
X-ORIGINAL-URL:https://www.tnqdroughthub.com.au
X-WR-CALDESC:Events for Tropical North Queensland Drought Resilience Adoption and Innovation Hub
REFRESH-INTERVAL;VALUE=DURATION:PT1H
X-Robots-Tag:noindex
X-PUBLISHED-TTL:PT1H
BEGIN:VTIMEZONE
TZID:Australia/Brisbane
BEGIN:STANDARD
TZOFFSETFROM:+1000
TZOFFSETTO:+1000
TZNAME:AEST
DTSTART:20220101T000000
END:STANDARD
END:VTIMEZONE
BEGIN:VEVENT
DTSTART;VALUE=DATE:20230717
DTEND;VALUE=DATE:20230721
DTSTAMP:20260421T151628
CREATED:20230106T005418Z
LAST-MODIFIED:20230106T005418Z
UID:4383-1689552000-1689897599@www.tnqdroughthub.com.au
SUMMARY:Protected Cropping Australia 2023 Conference
DESCRIPTION:The Protected Cropping Australia 2023 Conference Committee are pleased to announce the PCA2023 Conference to be held at the Brisbane Convention and Exhibition Centre from the 17-20 July.\nThe conference theme for PCA2023 is “Growing our Future.” A range of inspiring and thought-provoking speakers\, exhibitors\, and sponsors from here in Australia and abroad will share their knowledge\, research\, and innovations to all delegates. \nProtected Cropping is one of the fastest growing horticultural sectors in Australia and PCA have an enviable reputation of running great events filled with knowledge building and networking opportunities. \nPCA is the peak industry body representing commercial hydroponic\, greenhouse and controlled environment growers in Australia and has a wide international following. \nA key feature of PCA2023 is working with our partners\, the allied trade and equipment suppliers to encourage greater grower attendance through subsidising up to 150 free grower trade show passes. This will allow entry to our popular exhibition trade show and include tailored skills training for growers to meet the needs of the various sectors PCA represent. \nThe Protected Cropping industry encompasses many sectors of horticulture including\, but not limited to fruits\, vegetables\, berries\, leafy greens\, herbs\, cut flowers\, nursery\, medicinal cannabis and aquaponics\, vertical farms and controlled environmental agriculture industries. \nAn innovative and fresh program of speakers\, networking events\, training and grower discussion panels will feature in addition to the regular conference program\, exhibition trade show\, conference dinner and the ever-popular farm tours. \nPCA will also collaborate with our partners to continue supporting our students and provide additional support to the protected cropping next generation cohort to attend and make new connections at this exciting\, not to be missed event.
URL:https://www.tnqdroughthub.com.au/event/protected-cropping-australia-2023-conference-2/
LOCATION:Brisbane Convention and Exhibition Centre\, Glenelg Street\, South Brisbane\, Queensland\, 4101\, Australia
END:VEVENT
BEGIN:VEVENT
DTSTART;TZID=Australia/Brisbane:20230717T110000
DTEND;TZID=Australia/Brisbane:20230719T170000
DTSTAMP:20260421T151628
CREATED:20230308T023458Z
LAST-MODIFIED:20230308T023458Z
UID:5265-1689591600-1689786000@www.tnqdroughthub.com.au
SUMMARY:Inaugural Nature-Based Solutions Conference & Expo
DESCRIPTION:Carbon Farmers of Australia (CFA) is proud to introduce the Inaugural Nature-Based Solutions Conference & Expo. CFA previously hosted the only regional conference dedicated to supporting the carbon farming industry – the National Carbon Farming Conference & Expo – for the benefit of rural and regional Australia. Many lasting connections were made. \nThe National Carbon Farming Conference & Expo was established in 2007. The tenth conference was held in May 2022\, with over 400 attendees and almost 40 exhibitors. \nThe Inaugural Nature-Based Solutions Conference & Expo is expected to be at least twice the size and scope of its predecessor. More space\, more speakers\, and more topics for the biggest audience of our dedicated farmers and landholders than ever before. \nAs climate change marches forward\, and the effects on the land intensify\, it’s obvious that we need ALL solutions. Other nature-based solutions are being identified:
URL:https://www.tnqdroughthub.com.au/event/inaugural-nature-based-solutions-conference-expo/
LOCATION:Brisbane\, Brisbane\, QLD\, 4000\, Australia
END:VEVENT
BEGIN:VEVENT
DTSTART;TZID=Australia/Brisbane:20230718T080000
DTEND;TZID=Australia/Brisbane:20230719T120000
DTSTAMP:20260421T151628
CREATED:20230706T233837Z
LAST-MODIFIED:20230706T233837Z
UID:6380-1689667200-1689768000@www.tnqdroughthub.com.au
SUMMARY:Agrifood Innovation Forum (AIF23)
DESCRIPTION:2023 Theme – ESG&S: WHAT IT MEANS FROM PADDOCK TO PLATE\nThe Agrifood Innovation Forum (AIF)\, previously knowns as 400M\, is held annually\, and aims to bring together our brightest innovators to connect with delegates representing industry\, government\, institutions and investors. The 2023 theme\, environment\, social\, governance (ESG) and sustainability explores how these themes plug in to the paddock to plate supply chain. This event will unite local producers\, investors\, business owners and industry representatives.
URL:https://www.tnqdroughthub.com.au/event/agrifood-innovation-forum-aif23/
LOCATION:Toowoomba\, Toowoomba\, Queensland\, 4350\, Australia
END:VEVENT
BEGIN:VEVENT
DTSTART;TZID=Australia/Brisbane:20230718T081500
DTEND;TZID=Australia/Brisbane:20230718T160000
DTSTAMP:20260421T151628
CREATED:20230627T010737Z
LAST-MODIFIED:20230627T010917Z
UID:6187-1689668100-1689696000@www.tnqdroughthub.com.au
SUMMARY:Ag Succession and Future Proofing Forum - Cloncurry
DESCRIPTION:Hear from succession expert Scott Patterson who will give local business owners strategic advice and practical solutions on how to manage succession and negotiation to ensure your business remains sustainable and profitable during the succession or acquisition process. \nTopics include \n\nSummary of business structures\nWhat is succession Planning?\nIssues and Barriers\nBusiness verses assets\nManagement and ownership succession\nBusiness considerations\, Financial considerations\, and Personal goals\nFollowing a process\nCase study and group discussion\n\n  \nParticipants will have the opportunity to talk to Scott one-on-one about their own succession process. \nSouthern Gulf NRM CEO Geoff Penton will discuss Climate Change and Drought Resilience Planning and provide information on climate changes in the region over the years. \nRoyal Flying Doctor Service representatives will be available for health checks throughout the day. \n\n\n\n\n\n\n\n\n\nAgenda  \n\n8:15am – 9:00am: Coffee\, Meet and Greet\n9:00am -10:30am: Ag Succession Part I\n10:30am – 11:00am: Morning Tea\n11:00am – 12:30pm: Ag Succession Part II\n12:30pm – 1:30pm: Lunch\n1:30pm – 2:15pm: Managing Your Health\n2:15pm – 2:30pm: Afternoon Tea\n2:30pm – 3:30pm: Climate Change and Drought Resilience Planning\n3:30pm – 4:00pm: Coffee and Close\n\n  \nCost \n\n$50.00 Registration Fee per participant. Extra family members are $10.00 per person. Includes catering for the day.\n\n  \nAbout your presenters \nScott Patterson – Having grown up on family grazing properties in western and southern Queensland\, Scott has a desire to support and help develop regional Australia. This has seen him focus his contribution as a business and community leader around his acknowledged expertise in business management\, governance\, and structuring for growth. \nGeoff Penton – A natural resource manager and Landcare specialist with over 30 years of experience\, Geoff brings a wealth of knowledge and expertise to Southern Gulf NRM. Geoff’s dedication to the industry has stemmed from growing up in a family farming and tourism business background\, and he strives to have a positive impact on the Southern Gulf region. \nTNQ Drought Hub Facilitator  \nDr Jane Oorschot – Jane has extensive human resource management experience in both technical and managerial roles across the public and private sectors. Jane has strengths in coaching\, facilitation\, performance management\, strategic workforce planning\, stakeholder engagement and strategic project delivery. Jane is also an experienced Human Resources Management and Management Lecturer coordinating and delivering undergraduate and post graduate programs.
URL:https://www.tnqdroughthub.com.au/event/ag-succession-and-future-proofing-forum-cloncurry/
LOCATION:Cloncurry\, Cloncurry\, Queensland\, 4824\, Australia
ORGANIZER;CN="Southern Gulf NRM":MAILTO:admin@southerngulf.com.au
END:VEVENT
BEGIN:VEVENT
DTSTART;TZID=Australia/Brisbane:20230718T100000
DTEND;TZID=Australia/Brisbane:20230718T150000
DTSTAMP:20260421T151628
CREATED:20230606T002453Z
LAST-MODIFIED:20230606T002453Z
UID:5964-1689674400-1689692400@www.tnqdroughthub.com.au
SUMMARY:Building business resilience from the soil up
DESCRIPTION:Good soil health and plant ecosystems are paramount to farm business resilience. If we get this right\, we reduce horticulture operation costs\, time and energy. We become more profitable. \nIf you’re interested in learning how to ensure good soil and  plant ecosystem health over the long term\, understanding about soil health and how to improve the health of your horticulture operations\, then this workshop is for you.  \nWe’ll visit Lakelands Produce\, demonstrate practical soil health tests and interpret the results. We’ll take a look at the farm system ecological health and demonstrate what makes a good ecological system and what to look out for and how to improve ecology in your farm system. \nWe’ll use HORT 360 to complete a soils health gap analysis for your farm and start the first steps to developing your farm business resilience plan. \nCome along and learn about soil health\, healthy ecological systems and how to put plans in place to improve your farm business resilience. Find out about what support and funding is available to help you turn your plans into a reality. \n  \nAgenda \n\n\n\n10:00 am\nWelcome and introduction at Lakeland Town Hall\n\n\n10:30 am\nFarm tour Lakeland Produce\n\n\n \nSoils health and testing in paddock demonstration \nEcological health demonstration in paddock and your questions answered\n\n\n12:00 pm\nLunch at Lakeland Town Hall\n\n\n12:30 pm\nIntroduction to the Farm Business Resilience Program using HORT 360\, including: \n·       review of check list questions to help you develop a farm business resilience plan \n·       review of the Soils module in Hort 360 \n·       Start developing your own Farm Business Resilience Plan\n\n\n \nOverview of QRIDA Drought Support\, grants and loans\n\n\n2:45 pm\nQ&A and next steps\n\n\n3:00 pm\nEvent end\n\n\n\n  \nNeed more information? \nKaren George\, Growcom – 0408 135 003 or kgeorge@qfvg.com.au \n  \nEVENT DETAILS \nTuesday\, 18 July 2023 \n10am – 3pm \nLakeland Town Hall\, Lakeland Qld 4871 \nDay includes a farm visit to Lakelands Produce. \n  \nCOST \nFree. \nLunch and refreshments included. \n  \nGUEST SPEAKERS \nDhiraj Gajera – Regional Soils Coordinator TNQ Drought Hub \nWendy Seabrook – Founder & Director\, Learning from Nature \nKaren George – Manager\, Resilience\, Growcom
URL:https://www.tnqdroughthub.com.au/event/building-business-resilience-from-the-soil-up/
LOCATION:Lakeland\, Lakeland\, QLD\, 4871\, Australia
ORGANIZER;CN="Growcom":MAILTO:growcom@growcom.com.au
END:VEVENT
BEGIN:VEVENT
DTSTART;TZID=Australia/Brisbane:20230718T170000
DTEND;TZID=Australia/Brisbane:20230718T200000
DTSTAMP:20260421T151628
CREATED:20230626T232521Z
LAST-MODIFIED:20240711T000824Z
UID:6176-1689699600-1689710400@www.tnqdroughthub.com.au
SUMMARY:AgForce CQ Grains Industry Update - Gindie
DESCRIPTION:Please join AgForce Grains board for an industry update and discussion regarding all things farming in CQ. \nRuth Thompson\, AgForce Grains Policy Director\, will be providing an update on all things grains related including the Grains Harvest Management Scheme (GHMS). \nThe National Heavy Vehicle Regulator (NHVR) will be in attendance to discuss all things trucking. \nCorporate Sponsors\, FMC will give a brief update on crop protection and new products in the pipeline. \nPlant Health Australia / DAF will provide practical solutions to mitigating biosecurity risk on your property. \nOur friends at Harberger will briefly touch on silos\, grain drying technology and augers.
URL:https://www.tnqdroughthub.com.au/event/agforce-cq-grains-industry-update-gindie/
LOCATION:Gindie Tennis Club\, Cnr Gregory & Glenorina Rd\, Gindie\, Queensland\, 4702\, Australia
ORGANIZER;CN="AgForce":MAILTO:agforce@agforceqld.org.au
END:VEVENT
END:VCALENDAR