BEGIN:VCALENDAR
VERSION:2.0
PRODID:-//Tropical North Queensland Drought Resilience Adoption and Innovation Hub - ECPv6.15.16//NONSGML v1.0//EN
CALSCALE:GREGORIAN
METHOD:PUBLISH
X-WR-CALNAME:Tropical North Queensland Drought Resilience Adoption and Innovation Hub
X-ORIGINAL-URL:https://www.tnqdroughthub.com.au
X-WR-CALDESC:Events for Tropical North Queensland Drought Resilience Adoption and Innovation Hub
REFRESH-INTERVAL;VALUE=DURATION:PT1H
X-Robots-Tag:noindex
X-PUBLISHED-TTL:PT1H
BEGIN:VTIMEZONE
TZID:Australia/Brisbane
BEGIN:STANDARD
TZOFFSETFROM:+1000
TZOFFSETTO:+1000
TZNAME:AEST
DTSTART:20220101T000000
END:STANDARD
END:VTIMEZONE
BEGIN:VEVENT
DTSTART;TZID=Australia/Brisbane:20230713T080000
DTEND;TZID=Australia/Brisbane:20230713T210000
DTSTAMP:20260421T151627
CREATED:20230615T050159Z
LAST-MODIFIED:20230615T050159Z
UID:6118-1689235200-1689282000@www.tnqdroughthub.com.au
SUMMARY:GroWQ Innovation Expo
DESCRIPTION:The GroWQ Innovation Expo will be held in partnership with AgForce\, RAPAD & the SQNNSW Innovation Hub.  Talks\, Tech & Trade Displays. \nThere will be a variety of speakers presenting on innovation they apply in the agriculture industry.  We will also have panels\, demonstrations and trade displays. \nLearn how to improve your production and your bottom line.  An excellent one stop show for all primary producers. Thursday 13 July at Wool Pavilion\, Longreach Showgrounds\, Longreach. \nA networking dinner will follow that evening to follow up on new relationships and ideas.
URL:https://www.tnqdroughthub.com.au/event/growq-innovation-expo/
LOCATION:Longreach Showgrounds\, Longreach\, Queensland\, 4730\, Australia
ORGANIZER;CN="AgForce":MAILTO:agforce@agforceqld.org.au
END:VEVENT
BEGIN:VEVENT
DTSTART;TZID=Australia/Brisbane:20230713T123000
DTEND;TZID=Australia/Brisbane:20230713T163000
DTSTAMP:20260421T151627
CREATED:20230627T013516Z
LAST-MODIFIED:20230627T013516Z
UID:6196-1689251400-1689265800@www.tnqdroughthub.com.au
SUMMARY:Making the most of mill by-products on-farm
DESCRIPTION:This workshop is an opportunity for growers in the Far North to discuss with experts how mill by-products including mill mud and mill ash can provide benefits and add value to their business. \nStaff from SRA and MSF Sugar will share when the best time to apply these products is and where applications should be strategically targeted. \nStaff will also be available to answer any questions you have on utilising mill by-products on your farm. \nTwo workshops will be held: \nWhen: MERINGA\, Thursday 13 July 2023\, 12.30pm – 2.00pm \nWhere: SRA’s Meringa Station\, 34 Hall Road (via Littles Road) \n  \nWhen: BABINDA\, Thursday 13 July 2023\, 3.00pm – 4.30pm \nWhere: CANEGROWERS Cairns Region\, Babinda office\, 87 Munro Street\, Babinda \n  \nSRA Principal Agronomist Dr Danielle Skocaj is delivering the workshops as part of a series\, through the ‘Soil specific management for sugarcane in the Wet Tropics project’ and funding from the Australian Government’s National Landcare Program. \nRefreshments will be provided. \nRSVP by 11 July for both events to: \nSRA District Manager – Far North\, Gavin Rodman \nE: grodman@sugarresearch.com.au\nM: 0476 807 355
URL:https://www.tnqdroughthub.com.au/event/making-the-most-of-mill-by-products-on-farm/
LOCATION:Queensland
END:VEVENT
END:VCALENDAR