BEGIN:VCALENDAR
VERSION:2.0
PRODID:-//Tropical North Queensland Drought Resilience Adoption and Innovation Hub - ECPv6.15.16//NONSGML v1.0//EN
CALSCALE:GREGORIAN
METHOD:PUBLISH
X-ORIGINAL-URL:https://www.tnqdroughthub.com.au
X-WR-CALDESC:Events for Tropical North Queensland Drought Resilience Adoption and Innovation Hub
REFRESH-INTERVAL;VALUE=DURATION:PT1H
X-Robots-Tag:noindex
X-PUBLISHED-TTL:PT1H
BEGIN:VTIMEZONE
TZID:Australia/Brisbane
BEGIN:STANDARD
TZOFFSETFROM:+1000
TZOFFSETTO:+1000
TZNAME:AEST
DTSTART:20220101T000000
END:STANDARD
END:VTIMEZONE
BEGIN:VEVENT
DTSTART;TZID=Australia/Brisbane:20230712T081500
DTEND;TZID=Australia/Brisbane:20230712T173000
DTSTAMP:20260421T151626
CREATED:20230606T040245Z
LAST-MODIFIED:20230606T040245Z
UID:5970-1689149700-1689183000@www.tnqdroughthub.com.au
SUMMARY:Soil Solutions Workshop Georgetown
DESCRIPTION:Increase the overall health\, productivity\, and value of your land \nThe RCS Soil Solutions Workshop is a 1 day course in person\, that focuses on understanding the strong link between how biology and nutrient components are managed to improve the health of land and profitability of business. \nTopics: \n✔ Sequestering carbon in your soil \n✔ The importance of soil biology and its role in sequestration \n✔ The Biologically Enhanced Agricultural Management (BEAM) Approach and its benefits \n✔ Ecological indicators and the 6 regenerative soil and plant health principles \n✔ Increasing ground cover to reduce erosion \n✔ Sustainable farm practices \n✔ Trading soil carbon \n✔ Reduce inputs \nCost \n$55 per person inc GST\, greatly reduced price thanks to funding from Gulf Savannah NRM! \nTo Register \nYou can register through the button on this page. This registration process allows you to either pay by credit card or request an invoice which will be emailed to the address entered in the Purchaser Contact Information section. \nFull course Terms and Conditions available here. \n 
URL:https://www.tnqdroughthub.com.au/event/soil-solutions-workshop-georgetown/
LOCATION:Georgetown\, Georgetown\, Queensland\, 4871
ORGANIZER;CN="Resource Consulting Services":MAILTO:info@rcsaustralia.com.au
END:VEVENT
END:VCALENDAR