BEGIN:VCALENDAR
VERSION:2.0
PRODID:-//Tropical North Queensland Drought Resilience Adoption and Innovation Hub - ECPv6.15.16//NONSGML v1.0//EN
CALSCALE:GREGORIAN
METHOD:PUBLISH
X-WR-CALNAME:Tropical North Queensland Drought Resilience Adoption and Innovation Hub
X-ORIGINAL-URL:https://www.tnqdroughthub.com.au
X-WR-CALDESC:Events for Tropical North Queensland Drought Resilience Adoption and Innovation Hub
REFRESH-INTERVAL;VALUE=DURATION:PT1H
X-Robots-Tag:noindex
X-PUBLISHED-TTL:PT1H
BEGIN:VTIMEZONE
TZID:Australia/Brisbane
BEGIN:STANDARD
TZOFFSETFROM:+1000
TZOFFSETTO:+1000
TZNAME:AEST
DTSTART:20220101T000000
END:STANDARD
END:VTIMEZONE
BEGIN:VEVENT
DTSTART;TZID=Australia/Brisbane:20230704T090000
DTEND;TZID=Australia/Brisbane:20230704T220000
DTSTAMP:20260421T151625
CREATED:20230616T023633Z
LAST-MODIFIED:20230616T023633Z
UID:6134-1688461200-1688508000@www.tnqdroughthub.com.au
SUMMARY:ESG Goals and Target Setting
DESCRIPTION:AFI 2023 Mid-Year Conference and Dinner\n\n\n\n\n\nA mountain of work has been invested into improving the sustainability of Australian agriculture and communicating this to the wider community. From industry frameworks\, commodity certification\, Government pledges and local initiatives\, a wide array of sustainability activities are being undertaken in the sector. However\, the next step in the ESG landscape which many of these initiatives have struggled with is setting goals and targets. In October 2022\, the AFI held its annual Roundtable event which focused on cultivating ESG capability in Australian agriculture. Join us on July 4th in Adelaide to expand upon these discussions into setting ESG goals and targets. \n\nDate: Tuesday 4 July 2023\nTime: 9am–10pm (conference & dinner)\nLocation: William Magarey Room\, Adelaide Oval\, War Memorial Dr\, North Adelaide SA 5006\n\n\nThis event will be held both in person and online. Download the program here. \nAFI Corporate and Individual members receive considerable discounts on Conference registration – contact us for booking details or the for the discounted Conference and Membership bundle. \nContact Kylie Smith for more information and sponsorship opportunities. \nNOTE: The Oval Hotel is offering delegates an exclusive 15% discount off their best available rate. Click here to take advantage of these room rates – simply select your preferred date/s and the 15% discount will automatically be applied.
URL:https://www.tnqdroughthub.com.au/event/esg-goals-and-target-setting/
LOCATION:Adelaide\, Adelaide\, South Australia
END:VEVENT
END:VCALENDAR