BEGIN:VCALENDAR
VERSION:2.0
PRODID:-//Tropical North Queensland Drought Resilience Adoption and Innovation Hub - ECPv6.15.16//NONSGML v1.0//EN
CALSCALE:GREGORIAN
METHOD:PUBLISH
X-ORIGINAL-URL:https://www.tnqdroughthub.com.au
X-WR-CALDESC:Events for Tropical North Queensland Drought Resilience Adoption and Innovation Hub
REFRESH-INTERVAL;VALUE=DURATION:PT1H
X-Robots-Tag:noindex
X-PUBLISHED-TTL:PT1H
BEGIN:VTIMEZONE
TZID:Australia/Brisbane
BEGIN:STANDARD
TZOFFSETFROM:+1000
TZOFFSETTO:+1000
TZNAME:AEST
DTSTART:20220101T000000
END:STANDARD
END:VTIMEZONE
BEGIN:VEVENT
DTSTART;VALUE=DATE:20230701
DTEND;VALUE=DATE:20230702
DTSTAMP:20260421T151604
CREATED:20230607T074948Z
LAST-MODIFIED:20230607T074948Z
UID:5989-1688169600-1688255999@www.tnqdroughthub.com.au
SUMMARY:Environmental Credentials for Australian grassfed beef IT platform pilot
DESCRIPTION:Environmental Credentials of grassfed beef project background: \nBeef customers and other industry stakeholders are increasingly looking for evidence of sustainable production practices. A challenge for beef producers and supply chains is how to demonstrate their sustainability credentials and achieve recognition in the marketplace. \nThis project will enable industry to set the agenda\, rather this being set by customers and community who are not informed about our production systems. It will enable producers and industry to drive the development of the environmental credentials platform\, so it is useful\, meaningful minimises industry fragmentation. This project will leverage and add value to proactive industry level programs such as the ABSF and CN30. Producer use of the platform will be completely voluntary. \nThe project is funded for three years (until June 2023) through the Australian Government’s Smart Farms program. It is being delivered by a consortium led by Meat & Livestock Australia\, with WWF-Australia and the University of Queensland as partners. \nWhat is being developed? \nThis project will develop a voluntary\, on-line tool accessible to all grass-fed beef producers wanting to measure and demonstrate their environmentally sustainable production practices. \nThe tool will be underpinned by: \n\na consistent and practical framework for measuring and monitoring environmental credentials on-farm.\na voluntary\, national ‘platform’ to enable beef producers to demonstrate their environmental credentials to markets.\nlearning resources\, based on best practice programs and initiatives to help producers improve their knowledge and apply practices on-farm.\n\nEnvironmental themes to be included on the platform are tree cover\, ground cover\, carbon balance\, biodiversity and drought resilience. These areas were selected due to alignment with the environmental pillar of the Australian Beef Sustainability Framework (ABSF) and demand from customers. \nMLA invites interested grassfed beef producers to take part in the platform pilot and provide feedback and insights for the refinement and further development. \nRegister your interest below to be invited to take part in the pilot.
URL:https://www.tnqdroughthub.com.au/event/environmental-credentials-for-australian-grassfed-beef-it-platform-pilot/
LOCATION:Online
ORGANIZER;CN="Meat and Livestock Australia":MAILTO:info@mla.com.au
END:VEVENT
END:VCALENDAR