BEGIN:VCALENDAR
VERSION:2.0
PRODID:-//Tropical North Queensland Drought Resilience Adoption and Innovation Hub - ECPv6.15.16//NONSGML v1.0//EN
CALSCALE:GREGORIAN
METHOD:PUBLISH
X-ORIGINAL-URL:https://www.tnqdroughthub.com.au
X-WR-CALDESC:Events for Tropical North Queensland Drought Resilience Adoption and Innovation Hub
REFRESH-INTERVAL;VALUE=DURATION:PT1H
X-Robots-Tag:noindex
X-PUBLISHED-TTL:PT1H
BEGIN:VTIMEZONE
TZID:Australia/Brisbane
BEGIN:STANDARD
TZOFFSETFROM:+1000
TZOFFSETTO:+1000
TZNAME:AEST
DTSTART:20220101T000000
END:STANDARD
END:VTIMEZONE
BEGIN:VEVENT
DTSTART;TZID=Australia/Brisbane:20230629T120000
DTEND;TZID=Australia/Brisbane:20230629T200000
DTSTAMP:20260421T151603
CREATED:20230626T231815Z
LAST-MODIFIED:20230626T231815Z
UID:6170-1688040000-1688068800@www.tnqdroughthub.com.au
SUMMARY:AgForce SWQ / SIQ Industry Forum
DESCRIPTION:Utilising Natural Capital to broaden on-farm income streams and build business resilience \nJoin AgForce and our guest speakers for an afternoon of interactive discussion designed to update and inform landholders on how they can actively assess their natural assets at a property level. \nLearn how to implement a range of practices to maintain and improve natural capital condition and gain extra on-farm benefits\, creating alternate streams of revenue and building long term business resilience. \nHear from Industry and Corporates about how they are working together to ensure landholders can not only have better outcomes with banks\, insurers and real-estate agents but can also secure continued market access and social licence. \nThe Forum will be followed by beers and a barbeque\, and we hope you can join us! \nOur line-up of guest speakers will include: \nDr Greg Leach – General Manager – AgCarE & Industry Engagement\, AgForce \nCrawford Taylor – Head of Sustainable Business Development\, Rabobank \nPhil Tickle – Co-Founder and Managing Director\, Cibo Labs \nLachlan Dunsdon – National Director\, Rural & Agribusiness\, Acumentis \nCharles Starkings – Sustainability Field Manager – North East\, Nutrien \nCuong Tran – General Manager\, Market Advisory Group \nWHEN \nThursday 29 June 2023 \n12.00pm registration and light lunch12.45pm forum commences \nWHERE \nMitchell Hall\, 2 Cambridge St Mitchell \nRSVP \nMonday 26 June @Eventbrite \nENQUIRIES \nSWQ Regional Manager Kerrie Cribb \nM: 0418 485 501 E: Cribbk@agforceqld.org.au \nSIQ Regional Manager Ann-Maree Johnson \nM: 0407 101 773 E: johnsona@agforceqld.org.au
URL:https://www.tnqdroughthub.com.au/event/agforce-swq-siq-industry-forum/
LOCATION:Mitchell\, Mitchell\, Queensland\, 4465\, Australia
END:VEVENT
END:VCALENDAR