BEGIN:VCALENDAR
VERSION:2.0
PRODID:-//Tropical North Queensland Drought Resilience Adoption and Innovation Hub - ECPv6.15.20//NONSGML v1.0//EN
CALSCALE:GREGORIAN
METHOD:PUBLISH
X-ORIGINAL-URL:https://www.tnqdroughthub.com.au
X-WR-CALDESC:Events for Tropical North Queensland Drought Resilience Adoption and Innovation Hub
REFRESH-INTERVAL;VALUE=DURATION:PT1H
X-Robots-Tag:noindex
X-PUBLISHED-TTL:PT1H
BEGIN:VTIMEZONE
TZID:Australia/Brisbane
BEGIN:STANDARD
TZOFFSETFROM:+1000
TZOFFSETTO:+1000
TZNAME:AEST
DTSTART:20220101T000000
END:STANDARD
END:VTIMEZONE
BEGIN:VEVENT
DTSTART;TZID=Australia/Brisbane:20230622T083000
DTEND;TZID=Australia/Brisbane:20230622T133000
DTSTAMP:20260423T183459
CREATED:20230531T063451Z
LAST-MODIFIED:20230531T063451Z
UID:5949-1687422600-1687440600@www.tnqdroughthub.com.au
SUMMARY:Queensland Globe Mapping Workshop
DESCRIPTION:An informative workshop to learn how to use Queensland Globe mapping application to gather property data to assist with land management. \n  \nWanting to learn more on how Queensland Globe can be used to access spatial data and assist with property planning and mapping? \nJoin Reef Catchments for an informative workshop on how to use Queensland Globe to: \n\nCreate detailed maps of your property including information on:\n\n– drawing fence lines & watering points \n– measuring paddock sizes and viewing historical satellite imagery \n\nImport and export data layers & generate property maps\n\n\nGain access to a wealth of information on your properties land type\, regional ecosystem\, watercourse classification and vegetation management layers\n\nAt this workshop you will gain practical skills on how to use the QLD Globe mapping applications to access a wide range of spatial data and layers to assist your own property planning and decision making. \nA laptop and mobile device are essential for the workshop. \nMorning tea and lunch will be provided. \nThis project is funded by the Australian Governments Reef Trust. \n  \nPhotographs and/or video will be taken at this event. By attending this event you grant the event organisers full rights to use the images resulting from the photography/video filming\, and any reproductions or adaptations of the images for fundraising\, publicity or other purposes to help achieve the organiser’s aims. This might include (but is not limited to)\, the right to use them in their printed and online publicity\, social media\, press releases and funding applications.
URL:https://www.tnqdroughthub.com.au/event/queensland-globe-mapping-workshop/
LOCATION:Proserpine Community Centre\, 36 Gardenia Street\, Proserpine\, QLD\, 4800\, Australia
END:VEVENT
BEGIN:VEVENT
DTSTART;TZID=Australia/Brisbane:20230622T090000
DTEND;TZID=Australia/Brisbane:20230622T170000
DTSTAMP:20260423T183500
CREATED:20230606T040732Z
LAST-MODIFIED:20230606T040732Z
UID:5972-1687424400-1687453200@www.tnqdroughthub.com.au
SUMMARY:Hughenden BeefUp Forum
DESCRIPTION:Hughenden BeefUp Forum – Friday 23 June 2023 \nVenue:  Diggers Centre \nTime: 9.00am – 5.00pm\, followed by dinner. \nCost: MLA members $25. Non-members $50. \nIncludes: Morning and afternoon teas\, lunch and dinner. \nRegister: mla.com.au/beefup RSVP: Monday 19 June 2023 \nJoin us for the Hughenden BeefUp forum to hear about the latest in local and world-leading research and technologies for the northern beef industry.  The day will provide a chance to connect with community whilst sharing strategies for the coming season. \n\nGain insights on improving livestock\, land and business performance.\nConnect with other producers\, advisors and researchers.\nHear about how new practices and technologies are being used in your region.\nFind out about the programs\, tools and resources available to you.\n\n  \nThe BeefUp program will cover: \n\nMarket insights and opportunities\nAgtech snapshots\nGrazing land management strategies – producer perspectives\nUnderstanding carbon and what it means for the region\nThe latest in breeding\, genetics and genomics
URL:https://www.tnqdroughthub.com.au/event/hughenden-beefup-forum/
LOCATION:Hughenden\, Hughenden\, QLD\, Australia
ORGANIZER;CN="Meat and Livestock Australia":MAILTO:info@mla.com.au
END:VEVENT
END:VCALENDAR